Workbook

Sheet Deelnemers2026
B1: cat.nr. | C1: Naam | D1: vader | E1: eigenaar | F1: Plaats | G1: Voorbrengers | I1: Bedrijfsgroepen
B2: Zwartbont | J2: Bedrijf | K2: Plaats
A3: Vaarzen | B3: 1 | C3: Bertha 223 | D3: Val-Bisson Doorman | E3: Fa de Groot | F3: Everdingen | I3: A | J3: Bons-Holsteins | K3: Ottoland
B4: 2 | C4: Grietje 337 | D4: Walnutlawn Solomon | E4: Vof de Bruin | F4: Giessenburg | I4: B | J4: CG de Jong | K4: Noordeloos
B5: 3 | C5: Margriet 578 | D5: Fustsyn Parfect Parker | E5: Vof de Bruin | F5: Giessenburg | I5: C | J5: Fa de Groot | K5: Everdingen
B6: 114 | C6: De Witboom Greet 134 | D6: Stantons Chief | E6: Vof Versluis den Otter | F6: Ameide | I6: D | J6: Melkveebedrijf de Jong | K6: Noordeloos
B7: 4 | C7: Lena 139 | D7: Westcoast Gd Blakely | E7: Fa H + D van Eijl | F7: Groot Ammers | I7: E | J7: Merwerhoeve de Groot | K7: Herwijnen
B8: 5 | C8: Prairie Hoeve Hendrika 89 | D8: Progenesis Ambrose | E8: Mts Timmer-van Dijk | F8: Noordeloos | I8: F | J8: Mts Kortleve-Kooijman | K8: Noordeloos
B9: 6 | C9: Bridgestone 274 | D9: Walnutlawn Bridgestone | E9: Firma Vermaat | F9: Hei en Boeicop | I9: G | J9: Mts van Dijk- de Bruin | K9: Giessenburg
B10: 7 | C10: Lijsje 269 | D10: Vogue A2p2-Pp | E10: Fa de Groot | F10: Everdingen | I10: H | J10: Mts van Dijk-de Bruin | K10: Giessenburg
B11: 8 | C11: Madelene 24 | D11: Gladiator Isa | E11: Vof Verdoold | F11: Giessenburg | I11: I | J11: Nieuwevredebest BV | K11: Vuren
B12: 9 | C12: J.S.J.T. Chief Faire | D12: Stantons Chief | E12: Vof Jongsteins | F12: Hoogblokland | I12: J | J12: Schep Holsteins | K12: Bergambacht
B13: 10 | C13: Hbc Boost Darla | D13: Bons-Holsteins Boost | E13: Schep Holsteins Holland BV | F13: Bergambacht | I13: K | J13: Vof de Bruin | K13: Giessenburg
B14: 11 | C14: Mina 260 | D14: 1063 | E14: Het Lam Vof | F14: Leerbroek | I14: L | J14: Vof Jongsteins | K14: Hoogblokland
B15: 12 | C15: Mattenhof Lambda Hazel | D15: Farnear Delta-Lambda | E15: Schep Holsteins Holland BV en ALH Genetics | F15: Bergambacht/Damwoude | I15: M | J15: Vof Versluis-den Otter | K15: Ameide
B16: 13 | C16: M.H. Wilhelm 80 | D16: S-S-I Pr Renegade | E16: Merwehoeve de Groot V.O.F. | F16: Herwijnen
B17: 14 | C17: Bons-Holsteins Koba 314 | D17: Stantons Alligator | E17: Bons-Holsteins | F17: Ottoland
B18: 15 | C18: Margriet 398 | D18: Bertt | E18: Het Lam Vof | F18: Leerbroek
B19: 16 | C19: Giessen Charity 326 | D19: Kings-Ransom Dynasty | E19: Vof D + D Schakel | F19: Brandwijk
B20: 115 | C20: Jonker Willempje 36 | D20: Sandy-Valley El Grande | E20: C G de Jong | F20: Noordeloos
B21: 17 | C21: Plataan F 3023 | D21: Aurora Altaantonio | E21: Fa van Beest-de Bruin | F21: Hoogblokland
B22: 18 | C22: Liesje 4 | D22: Delta Perfect | E22: Fa C Terlouw | F22: Bleskensgraaf Ca
B23: 19 | C23: Brando Geertje 153 | D23: Toc-Farm Fitz | E23: Vof D + D Schakel | F23: Brandwijk
B24: 20 | C24: Bons-Holsteins Koba 310 | D24: Mb-Luckylady Bullseye | E24: Bons-Holsteins | F24: Ottoland
B25: 21 | C25: Wilhelmina 633 | D25: Vdr Slash | E25: Vof Kemp Zijderveld | F25: Zijderveld
B26: 116 | C26: Harris Ashlyn | D26: Mattenhof Harris | E26: Fa de Groot | F26: Everdingen
B27: 22 | C27: Bons-Holsteins Koba 309 | D27: Mb-Luckylady Bullseye | E27: Bons-Holsteins | F27: Ottoland
... B31: 25 | C31: Giessenhof Sannie 491 | D31: Delta Lucardi | E31: Mts Kortleve-Kooijman | F31: Noordeloos
A32: Middenklasse | B32: 118 | C32: Bertha 220 | D32: Stantons Chief | E32: Fa de Groot | F32: Everdingen
B33: 26 | C33: Geertje 750 | D33: Slingerman 182 | E33: Mts van Dijk-de Bruin | F33: Giessenburg
B34: 27 | C34: Ebeltje 646 | D34: W-R-L Ssi Renegad Remedy | E34: Nieuwvredebest BV | F34: Vuren
B35: 28 | C35: Koba 316 | D35: Delta Lucardi | E35: Fa C Terlouw | F35: Bleskensgraaf Ca
B36: 29 | C36: Aaltje 395 | D36: Delta Lustrum | E36: D A Keijzer Vof | F36: Gorinchem
B37: 30 | C37: M.H. Locket 3 | D37: Cookiecutter Harrisenna | E37: Merwehoeve de Groot V.O.F. | F37: Herwijnen
B38: 31 | C38: De Witboom Marijke 1 | D38: Peak Hotline | E38: Vof Versluis den Otter | F38: Ameide
B39: 32 | C39: Juliana 1053 | D39: Delta Perfect | E39: Mts Timmer-van Dijk | F39: Noordeloos
B40: 33 | C40: Hbc Lambda Sheila 2 | D40: Delta Lambda | E40: Schep Holsteins Holland BV | F40: Bergambacht
B41: 34 | C41: Giessenhof Jutta | D41: Bgp Fb Ridercup | E41: Mts Kortleve-Kooijman | F41: Noordeloos
B42: 35 | C42: De Witboom Nelly 726 | D42: Cherry-Lily Zip Luster-P | E42: Vof Versluis den Otter | F42: Ameide
B43: 36 | C43: Lijsje 259 | D43: Ocd Montross Laidlaw | E43: Fa de Groot | F43: Everdingen
B44: 119 | C44: Koba 314 | D44: Mauro-Red | E44: Fa C Terlouw | F44: Bleskensgraaf Ca
... B86: 78 | C86: Jongsteins Lamb | D86: Farnear Delta-Lambda | E86: Vof Jongsteins | F86: Hoogblokland
A87: oud | B87: 79 | C87: Giessenhof Sannie 481 | D87: Petton Pepsi | E87: Mts Kortleve-Kooijman | F87: Noordeloos
B88: 80 | C88: Emma 1304 | D88: Delta Nippon P | E88: Melkveebedrijf de Jong | F88: Noordeloos
B89: 81 | C89: Lambda Ashlyn | D89: Farnear Delta-Lambda | E89: Fa de Groot | F89: Everdingen
B90: 82 | C90: Toos 29 | D90: Double W Ranger | E90: Fa C Terlouw | F90: Bleskensgraaf Ca
B91: 83 | C91: M.H. Gerda 109 | D91: Big Malki | E91: Merwehoeve de Groot V.O.F. | F91: Herwijnen
B92: 84 | C92: Bons-Holsteins Dikkie 218 | D92: Lindenright Moovin | E92: Bons-Holsteins | F92: Ottoland
B93: 85 | C93: Emma 1284 | D93: Double W Ranger | E93: Melkveebedrijf de Jong | F93: Noordeloos
B94: 86 | C94: Victor 3987 (174) | D94: Legend-Maker Victor | E94: Firma Vermaat | F94: Hei en Boeicop
B95: 87 | C95: Jonker Martha 721 | D95: Woodcrest King Doc | E95: C G de Jong | F95: Noordeloos
B96: 88 | C96: Dulu 250 | D96: Big Malki | E96: Nieuwvredebest BV | F96: Vuren
B97: 89 | C97: Els 3 | D97: Ri-Val-Re Rager-Red | E97: D A Keijzer Vof | F97: Gorinchem
B98: 90 | C98: Dina 596 | D98: Bouw Rocky | E98: Melkveebedrijf de Jong | F98: Noordeloos
B99: 91 | C99: M.H. Trijn 228 | D99: Peak Tropic | E99: Merwehoeve de Groot V.O.F. | F99: Herwijnen
... B122: 113 | C122: Marietje | D122: Lone-Oak-Acres Altarabo-ET | E122: Nieuwvredebest BV | F122: Vuren
B126: Divers
B127: 141 | C127: De Vinkenhof Danielle 240 | D127: Delta Jacuzzi-Red | E127: Vof de Vinkenhof | F127: Groot Ammers
B128: 142 | C128: De Vinkenhof Elsa 10 | D128: Delta Starmate | E128: Vof de Vinkenhof | F128: Groot Ammers
B129: 143 | C129: Manuel 84 | D129: Willem's-Hoeve Woody | E129: Mts J en J Aanen-de Haan | F129: Brandwijk
B130: 144 | C130: Jannelin 5 | D130: Vh River Ramsey | E130: Vof Voets | F130: Vlist
B131: 145 | C131: Dgh Janny 117 | D131: Rivierduin Rex 1 | E131: De Groene Hofstee | F131: Hei en Boeicop
B132: 146 | C132: De Vinkenhof Roza 219 | D132: Delta Launch Pp-Red | E132: Vof de Vinkenhof | F132: Groot Ammers
B133: 147 | C133: Carola 137 | D133: Lucky Vimo | E133: Mts J en J Aanen-de Haan | F133: Brandwijk
B134: 148 | C134: Bruna | D134: Limbo Dn | E134: J A Smallegoor + F G Honders | F134: Doetinchem
B135: 149 | C135: De Vinkenhof Danielle 234 | D135: Delta Positron Pp-Red | E135: Vof de Vinkenhof | F135: Groot Ammers
B136: 150 | C136: De Vinkenhof Danielle 232 | D136: Bliksem | E136: Vof de Vinkenhof | F136: Groot Ammers
B137: 151 | C137: Giessenhof Augusta 247 | D137: Delta Bonbon | E137: Mts Kortleve-Kooijman | F137: Noordeloos
B138: 152 | C138: Pucky 13 | D138: Vr Stakkehave Viljar Vimo | E138: Mts J en J Aanen-de Haan | F138: Brandwijk
... B141: 155 | C141: Maaike 164 | D141: Go-Farm Miura ET | E141: Vof Boerderij de Verwondering | F141: Goudriaan
B142: 187 | E142: De Drie Wedden | F142: Noordeloos
B143: 156 | C143: Anna 126 | D143: Ande Niedijk Leopold | E143: De Drie Wedden | F143: Noordeloos
B144: 157 | C144: Nora 205 | E144: De Drie Wedden | F144: Noordeloos
B145: 188 | C145: Bartje 191 | D145: ande NieDijk Leopold | E145: De Drie Wedden | F145: Noordeloos
B146: 158 | C146: De Vinkenhof Danielle 224 | D146: Harm | E146: Vof de Vinkenhof | F146: Groot Ammers
B147: 159 | C147: Adrie 2951 | D147: S-S-I Bg Fzzld Riveting | E147: Fa van Beest-de Bruin | F147: Hoogblokland
B148: 160 | C148: Manuel 80 | D148: Vr Stakkehave Viljar Vimo | E148: Mts J en J Aanen-de Haan | F148: Brandwijk
B149: 189 | C149: Juweeltje 256 | D149: Fedor | E149: De Drie Wedden | F149: Noordeloos
B150: 161 | C150: Tida 247 | D150: Guard | E150: Vof Boerderij de Verwondering | F150: Goudriaan
B151: 162 | C151: Rb Glamour Girl | D151: River Valley Joyride | E151: Schouten Holsteins/J Verdoold | F151: Bergambacht
B152: 163 | C152: Mette Marit 3 | D152: O Malley | E152: Vof Voets | F152: Vlist
B153: 164 | C153: Mette Marit 109 | D153: O Malley | E153: Vof Voets | F153: Vlist
B154: 165 | C154: Tida 242 | D154: Rh Norwin | E154: Vof Boerderij de Verwondering | F154: Goudriaan
B155: 166 | C155: Jannelin 2 | D155: O Malley | E155: Vof Voets | F155: Vlist
B156: 167 | C156: Maartje 220 | D156: Vh Balisto Brook | E156: Vof Boerderij de Verwondering | F156: Goudriaan
... B176: 186 | C176: De Vinkenhof Roza 85 | D176: Baltimore | E176: Vof de Vinkenhof | F176: Groot Ammers
B180: Roodbont
B181: 201 | C181: Jonker Martha 740 | D181: Topsteen Andauer | E181: C G de Jong | F181: Noordeloos
B182: 202 | C182: Thea 53 | D182: Kooymans Norris | E182: Vof Verdoold | F182: Giessenburg
B183: 203 | C183: M.H. Alana 110 | D183: Kenmore Triple Crown-Red | E183: Merwehoeve de Groot V.O.F. | F183: Herwijnen
B184: 204 | C184: M.H. Alana 106 | D184: Kenmore Triple Crown-Red | E184: Merwehoeve de Groot V.O.F. | F184: Herwijnen
B185: 205 | C185: M.H. Joline | D185: Farnear Altitude-Red | E185: Merwehoeve de Groot V.O.F. | F185: Herwijnen
B186: 206 | C186: Margriet 309 | D186: Trent-Way-Js Ronald | E186: Fa H + D van Eijl | F186: Groot Ammers
B187: 207 | C187: De Witboom Nelly 736 | D187: Milksource Cheers | E187: Vof Versluis den Otter | F187: Ameide
B188: 208 | C188: Jonker Martha 736 | D188: Hoogerhorst Dg Oh Rubels-Red | E188: C G de Jong | F188: Noordeloos
B189: 209 | C189: Driemolens Saskia 1177 | D189: 3star Oh Ranger Red-ET | E189: Melkveebedrijf van Zessen | F189: Lexmond
B190: 210 | C190: Bertha 108 | D190: Dg Rh Alphaman | E190: Vof Pellikaan-de Jong | F190: Meerkerk
B191: 211 | C191: Femke 571 | E191: C J Gerritsen | F191: Kedichem
B192: 212 | C192: Hbc Atomic Jolda | D192: Larcrest Atomic-Red | E192: Schep Holsteins Holland BV | F192: Bergambacht
B193: 213 | C193: Welland Dirkje 377 | D193: Drouner Potency Red | E193: A en R van der Wel | F193: Hoogblokland
...

Sheet Rubriek per a4
A1: 1 | H1: 10 | O1: 19
B2: 9.30 | C2: Ring 1 | D2: Showmanship jong | E2: Kampioenschap | F2: 12 tot 16 jaar | I2: 9.30 | J2: Ring 2 | K2: Showmanship oud | M2: 17 tot 30 jaar | P2: 9.30 | Q2: Ring 3 | R2: Showmanship oud | T2: 17 tot 30 jaar
B3: cat nr. | C3: Naam | D3: Vader | E3: Eigenaar | F3: Plaats | G3: Showman | I3: cat nr. | J3: Naam | K3: Vader | L3: Eigenaar | M3: Plaats | N3: Showman | P3: cat nr. | Q3: Naam | R3: Vader | S3: Eigenaar | T3: Plaats | U3: Showman
B4: 244 | C4: =IF($B4<>"",VLOOKUP($B4,Deelnemers2026!$B$2:$G$345,2,FALSE),"") -> M.H. Evalyn 122 | D4: =IF($B4<>"",VLOOKUP($B4,Deelnemers2026!$B$2:$G$345,3,FALSE),"") -> Siemers Renegade Parfect | E4: =IF($B4<>"",VLOOKUP($B4,Deelnemers2026!$B$2:$G$345,4,FALSE),"") -> Merwehoeve de Groot V.O.F. | F4: =IF($B4<>"",VLOOKUP($B4,Deelnemers2026!$B$2:$G$345,5,FALSE),"") -> Herwijnen | G4: =IF($B4<>"",VLOOKUP($B4,Deelnemers2026!$B$2:$G$345,6,FALSE),"") -> Lynn Keijzer, 14 | I4: 242 | J4: =IF($I4<>"",VLOOKUP($I4,Deelnemers2026!$B$2:$G$345,2,FALSE),"") -> Nijntje | K4: =IF($I4<>"",VLOOKUP($I4,Deelnemers2026!$B$2:$G$345,3,FALSE),"") -> Real Red Mo | L4: =IF($I4<>"",VLOOKUP($I4,Deelnemers2026!$B$2:$G$345,4,FALSE),"") -> Fa Brouwer-Bor | M4: =IF($I4<>"",VLOOKUP($I4,Deelnemers2026!$B$2:$G$345,5,FALSE),"") -> Noordeloos | N4: =IF($I4<>"",VLOOKUP($I4,Deelnemers2026!$B$2:$G$345,6,FALSE),"") -> Femke Goesten, 15 | P4: 253 | Q4: =IF($P4<>"",VLOOKUP($P4,Deelnemers2026!$B$2:$G$345,2,FALSE),"") -> Cosmo 5873 | R4: =IF($P4<>"",VLOOKUP($P4,Deelnemers2026!$B$2:$G$345,3,FALSE),"") -> Siemers Doc Hardy | S4: =IF($P4<>"",VLOOKUP($P4,Deelnemers2026!$B$2:$G$345,4,FALSE),"") -> Fa van Beest-de Bruin | T4: =IF($P4<>"",VLOOKUP($P4,Deelnemers2026!$B$2:$G$345,5,FALSE),"") -> Hoogblokland | U4: =IF($P4<>"",VLOOKUP($P4,Deelnemers2026!$B$2:$G$345,6,FALSE),"") -> Lieke van Rossum, 20
B5: 248 | C5: =IF($B5<>"",VLOOKUP($B5,Deelnemers2026!$B$2:$G$345,2,FALSE),"") -> Margreet 7 | D5: =IF($B5<>"",VLOOKUP($B5,Deelnemers2026!$B$2:$G$345,3,FALSE),"") -> Hamming Salute | E5: =IF($B5<>"",VLOOKUP($B5,Deelnemers2026!$B$2:$G$345,4,FALSE),"") -> Vof T J C Berends | F5: =IF($B5<>"",VLOOKUP($B5,Deelnemers2026!$B$2:$G$345,5,FALSE),"") -> Lienden | G5: =IF($B5<>"",VLOOKUP($B5,Deelnemers2026!$B$2:$G$345,6,FALSE),"") -> Lena Berende, 12 | I5: 243 | J5: =IF($I5<>"",VLOOKUP($I5,Deelnemers2026!$B$2:$G$345,2,FALSE),"") -> Giessenhof Sannie 505 | K5: =IF($I5<>"",VLOOKUP($I5,Deelnemers2026!$B$2:$G$345,3,FALSE),"") -> Bomaz Cola | L5: =IF($I5<>"",VLOOKUP($I5,Deelnemers2026!$B$2:$G$345,4,FALSE),"") -> Mts Kortleve-Kooijman | M5: =IF($I5<>"",VLOOKUP($I5,Deelnemers2026!$B$2:$G$345,5,FALSE),"") -> Noordeloos | N5: =IF($I5<>"",VLOOKUP($I5,Deelnemers2026!$B$2:$G$345,6,FALSE),"") -> Ariane Kortleve, 17 | P5: 267 | Q5: =IF($P5<>"",VLOOKUP($P5,Deelnemers2026!$B$2:$G$345,2,FALSE),"") -> Hiltje 72 | R5: =IF($P5<>"",VLOOKUP($P5,Deelnemers2026!$B$2:$G$345,3,FALSE),"") -> Siemers H Partake 35318 | S5: =IF($P5<>"",VLOOKUP($P5,Deelnemers2026!$B$2:$G$345,4,FALSE),"") -> Vof Harteveld | T5: =IF($P5<>"",VLOOKUP($P5,Deelnemers2026!$B$2:$G$345,5,FALSE),"") -> Ameide | U5: =IF($P5<>"",VLOOKUP($P5,Deelnemers2026!$B$2:$G$345,6,FALSE),"") -> Jeanine Oudijk, 22
B6: 250 | C6: =IF($B6<>"",VLOOKUP($B6,Deelnemers2026!$B$2:$G$345,2,FALSE),"") -> M.H. Alana 162 | D6: =IF($B6<>"",VLOOKUP($B6,Deelnemers2026!$B$2:$G$345,3,FALSE),"") -> Haveitall Dropbx Hellion | E6: =IF($B6<>"",VLOOKUP($B6,Deelnemers2026!$B$2:$G$345,4,FALSE),"") -> Merwehoeve de Groot V.O.F. | F6: =IF($B6<>"",VLOOKUP($B6,Deelnemers2026!$B$2:$G$345,5,FALSE),"") -> Herwijnen | G6: =IF($B6<>"",VLOOKUP($B6,Deelnemers2026!$B$2:$G$345,6,FALSE),"") -> Iris de Groot, 14 | I6: 257 | J6: =IF($I6<>"",VLOOKUP($I6,Deelnemers2026!$B$2:$G$345,2,FALSE),"") -> Jansje 875 | K6: =IF($I6<>"",VLOOKUP($I6,Deelnemers2026!$B$2:$G$345,3,FALSE),"") -> Peak Hotline | L6: =IF($I6<>"",VLOOKUP($I6,Deelnemers2026!$B$2:$G$345,4,FALSE),"") -> Fa de Groot | M6: =IF($I6<>"",VLOOKUP($I6,Deelnemers2026!$B$2:$G$345,5,FALSE),"") -> Everdingen | N6: =IF($I6<>"",VLOOKUP($I6,Deelnemers2026!$B$2:$G$345,6,FALSE),"") -> Lyn van het Schip, 18 | P6: 269 | Q6: =IF($P6<>"",VLOOKUP($P6,Deelnemers2026!$B$2:$G$345,2,FALSE),"") -> Hbc Major Andrea | R6: =IF($P6<>"",VLOOKUP($P6,Deelnemers2026!$B$2:$G$345,3,FALSE),"") -> Robella Major | S6: =IF($P6<>"",VLOOKUP($P6,Deelnemers2026!$B$2:$G$345,4,FALSE),"") -> Schep Holsteins Holland BV | T6: =IF($P6<>"",VLOOKUP($P6,Deelnemers2026!$B$2:$G$345,5,FALSE),"") -> Bergambacht | U6: =IF($P6<>"",VLOOKUP($P6,Deelnemers2026!$B$2:$G$345,6,FALSE),"") -> Jens van leeuwen 24 jaar
B7: 252 | C7: =IF($B7<>"",VLOOKUP($B7,Deelnemers2026!$B$2:$G$345,2,FALSE),"") -> Jopie 158 | D7: =IF($B7<>"",VLOOKUP($B7,Deelnemers2026!$B$2:$G$345,3,FALSE),"") -> Bbg Elk 68 van de Plashoeve | E7: =IF($B7<>"",VLOOKUP($B7,Deelnemers2026!$B$2:$G$345,4,FALSE),"") -> Nieuwvredebest BV | F7: =IF($B7<>"",VLOOKUP($B7,Deelnemers2026!$B$2:$G$345,5,FALSE),"") -> Vuren | G7: =IF($B7<>"",VLOOKUP($B7,Deelnemers2026!$B$2:$G$345,6,FALSE),"") -> Dylan Hijkoop, 14 | I7: 264 | J7: =IF($I7<>"",VLOOKUP($I7,Deelnemers2026!$B$2:$G$345,2,FALSE),"") -> Dit 73 | K7: =IF($I7<>"",VLOOKUP($I7,Deelnemers2026!$B$2:$G$345,3,FALSE),"") -> Mb-Luckylady Bullseye | L7: =IF($I7<>"",VLOOKUP($I7,Deelnemers2026!$B$2:$G$345,4,FALSE),"") -> Vof MCJM + GAM Goesten-Pullen | M7: =IF($I7<>"",VLOOKUP($I7,Deelnemers2026!$B$2:$G$345,5,FALSE),"") -> Hedel | N7: =IF($I7<>"",VLOOKUP($I7,Deelnemers2026!$B$2:$G$345,6,FALSE),"") -> Femke van Genderen, 18 | P7: 270 | Q7: =IF($P7<>"",VLOOKUP($P7,Deelnemers2026!$B$2:$G$345,2,FALSE),"") -> Jonker Stoffelina 481 | R7: =IF($P7<>"",VLOOKUP($P7,Deelnemers2026!$B$2:$G$345,3,FALSE),"") -> 0 | S7: =IF($P7<>"",VLOOKUP($P7,Deelnemers2026!$B$2:$G$345,4,FALSE),"") -> C G de Jong | T7: =IF($P7<>"",VLOOKUP($P7,Deelnemers2026!$B$2:$G$345,5,FALSE),"") -> Noordeloos | U7: =IF($P7<>"",VLOOKUP($P7,Deelnemers2026!$B$2:$G$345,6,FALSE),"") -> Britt van Ballegooijen, 22
B8: 256 | C8: =IF($B8<>"",VLOOKUP($B8,Deelnemers2026!$B$2:$G$345,2,FALSE),"") -> Brando Janna 229 | D8: =IF($B8<>"",VLOOKUP($B8,Deelnemers2026!$B$2:$G$345,3,FALSE),"") -> Mb-Luckylady Bullseye | E8: =IF($B8<>"",VLOOKUP($B8,Deelnemers2026!$B$2:$G$345,4,FALSE),"") -> Vof D + D Schakel | F8: =IF($B8<>"",VLOOKUP($B8,Deelnemers2026!$B$2:$G$345,5,FALSE),"") -> Brandwijk | G8: =IF($B8<>"",VLOOKUP($B8,Deelnemers2026!$B$2:$G$345,6,FALSE),"") -> Monica Verduin, 16 | I8: 265 | J8: =IF($I8<>"",VLOOKUP($I8,Deelnemers2026!$B$2:$G$345,2,FALSE),"") -> Hiltje 73 | K8: =IF($I8<>"",VLOOKUP($I8,Deelnemers2026!$B$2:$G$345,3,FALSE),"") -> Peeldijker Freezer | L8: =IF($I8<>"",VLOOKUP($I8,Deelnemers2026!$B$2:$G$345,4,FALSE),"") -> Vof Harteveld | M8: =IF($I8<>"",VLOOKUP($I8,Deelnemers2026!$B$2:$G$345,5,FALSE),"") -> Ameide | N8: =IF($I8<>"",VLOOKUP($I8,Deelnemers2026!$B$2:$G$345,6,FALSE),"") -> Sara Harteveld, 17 | P8: 281 | Q8: =IF($P8<>"",VLOOKUP($P8,Deelnemers2026!$B$2:$G$345,2,FALSE),"") -> Does 63 | R8: =IF($P8<>"",VLOOKUP($P8,Deelnemers2026!$B$2:$G$345,3,FALSE),"") -> Crater Camden | S8: =IF($P8<>"",VLOOKUP($P8,Deelnemers2026!$B$2:$G$345,4,FALSE),"") -> Vof Harteveld | T8: =IF($P8<>"",VLOOKUP($P8,Deelnemers2026!$B$2:$G$345,5,FALSE),"") -> Ameide | U8: =IF($P8<>"",VLOOKUP($P8,Deelnemers2026!$B$2:$G$345,6,FALSE),"") -> Ellemieke Gerritsen, 22
B9: 259 | C9: =IF($B9<>"",VLOOKUP($B9,Deelnemers2026!$B$2:$G$345,2,FALSE),"") -> Hbc Detect. Morena | D9: =IF($B9<>"",VLOOKUP($B9,Deelnemers2026!$B$2:$G$345,3,FALSE),"") -> Blondin Detective | E9: =IF($B9<>"",VLOOKUP($B9,Deelnemers2026!$B$2:$G$345,4,FALSE),"") -> Schep Holsteins Holland BV | F9: =IF($B9<>"",VLOOKUP($B9,Deelnemers2026!$B$2:$G$345,5,FALSE),"") -> Bergambacht | G9: =IF($B9<>"",VLOOKUP($B9,Deelnemers2026!$B$2:$G$345,6,FALSE),"") -> Lieke Schep, 16 | I9: 266 | J9: =IF($I9<>"",VLOOKUP($I9,Deelnemers2026!$B$2:$G$345,2,FALSE),"") -> Lena 143 | K9: =IF($I9<>"",VLOOKUP($I9,Deelnemers2026!$B$2:$G$345,3,FALSE),"") -> Progenesis Anahita | L9: =IF($I9<>"",VLOOKUP($I9,Deelnemers2026!$B$2:$G$345,4,FALSE),"") -> *Van de Vos | M9: =IF($I9<>"",VLOOKUP($I9,Deelnemers2026!$B$2:$G$345,5,FALSE),"") -> Groot Ammers | N9: =IF($I9<>"",VLOOKUP($I9,Deelnemers2026!$B$2:$G$345,6,FALSE),"") -> Bart den Hartog, 18 | P9: 278 | Q9: =IF($P9<>"",VLOOKUP($P9,Deelnemers2026!$B$2:$G$345,2,FALSE),"") -> Chief 5163(9) | R9: =IF($P9<>"",VLOOKUP($P9,Deelnemers2026!$B$2:$G$345,3,FALSE),"") -> Stantons Chief | S9: =IF($P9<>"",VLOOKUP($P9,Deelnemers2026!$B$2:$G$345,4,FALSE),"") -> Firma Vermaat | T9: =IF($P9<>"",VLOOKUP($P9,Deelnemers2026!$B$2:$G$345,5,FALSE),"") -> Leerdam | U9: =IF($P9<>"",VLOOKUP($P9,Deelnemers2026!$B$2:$G$345,6,FALSE),"") -> Nafthali Vermaat, 20
B10: 261 | C10: =IF($B10<>"",VLOOKUP($B10,Deelnemers2026!$B$2:$G$345,2,FALSE),"") -> Hbc Perenn. Reintje | D10: =IF($B10<>"",VLOOKUP($B10,Deelnemers2026!$B$2:$G$345,3,FALSE),"") -> Eclipse Perennial | E10: =IF($B10<>"",VLOOKUP($B10,Deelnemers2026!$B$2:$G$345,4,FALSE),"") -> Schep Holsteins Holland BV | F10: =IF($B10<>"",VLOOKUP($B10,Deelnemers2026!$B$2:$G$345,5,FALSE),"") -> Bergambacht | G10: =IF($B10<>"",VLOOKUP($B10,Deelnemers2026!$B$2:$G$345,6,FALSE),"") -> Maud van Schoonhoven, 16 | I10: 268 | J10: =IF($I10<>"",VLOOKUP($I10,Deelnemers2026!$B$2:$G$345,2,FALSE),"") -> Tatoo Elina | K10: =IF($I10<>"",VLOOKUP($I10,Deelnemers2026!$B$2:$G$345,3,FALSE),"") -> Tattoo vd Sijsloberg | L10: =IF($I10<>"",VLOOKUP($I10,Deelnemers2026!$B$2:$G$345,4,FALSE),"") -> Schouten Holsteins en Koen van Zwienen | M10: =IF($I10<>"",VLOOKUP($I10,Deelnemers2026!$B$2:$G$345,5,FALSE),"") -> Bergambacht | N10: =IF($I10<>"",VLOOKUP($I10,Deelnemers2026!$B$2:$G$345,6,FALSE),"") -> Koen van Zwienen, 18 | P10: 279 | Q10: =IF($P10<>"",VLOOKUP($P10,Deelnemers2026!$B$2:$G$345,2,FALSE),"") -> Hbc Alligat Reintje | R10: =IF($P10<>"",VLOOKUP($P10,Deelnemers2026!$B$2:$G$345,3,FALSE),"") -> Stantons Alligator | S10: =IF($P10<>"",VLOOKUP($P10,Deelnemers2026!$B$2:$G$345,4,FALSE),"") -> Schep Holsteins Holland BV | T10: =IF($P10<>"",VLOOKUP($P10,Deelnemers2026!$B$2:$G$345,5,FALSE),"") -> Bergambacht | U10: =IF($P10<>"",VLOOKUP($P10,Deelnemers2026!$B$2:$G$345,6,FALSE),"") -> Daan van Zwienen, 20
B11: 262 | C11: =IF($B11<>"",VLOOKUP($B11,Deelnemers2026!$B$2:$G$345,2,FALSE),"") -> Marry 150 | D11: =IF($B11<>"",VLOOKUP($B11,Deelnemers2026!$B$2:$G$345,3,FALSE),"") -> Comestar Lemagic | E11: =IF($B11<>"",VLOOKUP($B11,Deelnemers2026!$B$2:$G$345,4,FALSE),"") -> Vof MCJM + GAM Goesten-Pullen | F11: =IF($B11<>"",VLOOKUP($B11,Deelnemers2026!$B$2:$G$345,5,FALSE),"") -> Hedel | G11: =IF($B11<>"",VLOOKUP($B11,Deelnemers2026!$B$2:$G$345,6,FALSE),"") -> Femke Goesten, 15 | I11: 271 | J11: =IF($I11<>"",VLOOKUP($I11,Deelnemers2026!$B$2:$G$345,2,FALSE),"") -> Leyhigh 2849 (2 | K11: =IF($I11<>"",VLOOKUP($I11,Deelnemers2026!$B$2:$G$345,3,FALSE),"") -> Drewholme Leyhigh Pp | L11: =IF($I11<>"",VLOOKUP($I11,Deelnemers2026!$B$2:$G$345,4,FALSE),"") -> Firma Vermaat | M11: =IF($I11<>"",VLOOKUP($I11,Deelnemers2026!$B$2:$G$345,5,FALSE),"") -> Leerdam | N11: =IF($I11<>"",VLOOKUP($I11,Deelnemers2026!$B$2:$G$345,6,FALSE),"") -> Celia Vermaat, 19 | Q11: =IF($P11<>"",VLOOKUP($P11,Deelnemers2026!$B$2:$G$345,2,FALSE),"") | R11: =IF($P11<>"",VLOOKUP($P11,Deelnemers2026!$B$2:$G$345,3,FALSE),"") | S11: =IF($P11<>"",VLOOKUP($P11,Deelnemers2026!$B$2:$G$345,4,FALSE),"") | T11: =IF($P11<>"",VLOOKUP($P11,Deelnemers2026!$B$2:$G$345,5,FALSE),"") | U11: =IF($P11<>"",VLOOKUP($P11,Deelnemers2026!$B$2:$G$345,6,FALSE),"")
B12: 280 | C12: =IF($B12<>"",VLOOKUP($B12,Deelnemers2026!$B$2:$G$345,2,FALSE),"") -> Brando Bianca 122 | D12: =IF($B12<>"",VLOOKUP($B12,Deelnemers2026!$B$2:$G$345,3,FALSE),"") -> Siemers Renegade Parfect | E12: =IF($B12<>"",VLOOKUP($B12,Deelnemers2026!$B$2:$G$345,4,FALSE),"") -> Vof D + D Schakel | F12: =IF($B12<>"",VLOOKUP($B12,Deelnemers2026!$B$2:$G$345,5,FALSE),"") -> Brandwijk | G12: =IF($B12<>"",VLOOKUP($B12,Deelnemers2026!$B$2:$G$345,6,FALSE),"") -> Bernice Hofman, 16 | I12: 272 | J12: =IF($I12<>"",VLOOKUP($I12,Deelnemers2026!$B$2:$G$345,2,FALSE),"") -> Ans 33 | K12: =IF($I12<>"",VLOOKUP($I12,Deelnemers2026!$B$2:$G$345,3,FALSE),"") -> Cookiecutter Hypnotic | L12: =IF($I12<>"",VLOOKUP($I12,Deelnemers2026!$B$2:$G$345,4,FALSE),"") -> *Van de Vos | M12: =IF($I12<>"",VLOOKUP($I12,Deelnemers2026!$B$2:$G$345,5,FALSE),"") -> Groot Ammers | N12: =IF($I12<>"",VLOOKUP($I12,Deelnemers2026!$B$2:$G$345,6,FALSE),"") -> Allart Parre, 19 | Q12: =IF($P12<>"",VLOOKUP($P12,Deelnemers2026!$B$2:$G$345,2,FALSE),"") | R12: =IF($P12<>"",VLOOKUP($P12,Deelnemers2026!$B$2:$G$345,3,FALSE),"") | S12: =IF($P12<>"",VLOOKUP($P12,Deelnemers2026!$B$2:$G$345,4,FALSE),"") | T12: =IF($P12<>"",VLOOKUP($P12,Deelnemers2026!$B$2:$G$345,5,FALSE),"") | U12: =IF($P12<>"",VLOOKUP($P12,Deelnemers2026!$B$2:$G$345,6,FALSE),"")
C13: =IF($B13<>"",VLOOKUP($B13,Deelnemers2026!$B$2:$G$345,2,FALSE),"") | D13: =IF($B13<>"",VLOOKUP($B13,Deelnemers2026!$B$2:$G$345,3,FALSE),"") | E13: =IF($B13<>"",VLOOKUP($B13,Deelnemers2026!$B$2:$G$345,4,FALSE),"") | F13: =IF($B13<>"",VLOOKUP($B13,Deelnemers2026!$B$2:$G$345,5,FALSE),"") | G13: =IF($B13<>"",VLOOKUP($B13,Deelnemers2026!$B$2:$G$345,6,FALSE),"") | J13: =IF($I13<>"",VLOOKUP($I13,Deelnemers2026!$B$2:$G$345,2,FALSE),"") | K13: =IF($I13<>"",VLOOKUP($I13,Deelnemers2026!$B$2:$G$345,3,FALSE),"") | L13: =IF($I13<>"",VLOOKUP($I13,Deelnemers2026!$B$2:$G$345,4,FALSE),"") | M13: =IF($I13<>"",VLOOKUP($I13,Deelnemers2026!$B$2:$G$345,5,FALSE),"") | N13: =IF($I13<>"",VLOOKUP($I13,Deelnemers2026!$B$2:$G$345,6,FALSE),"") | Q13: =IF($P13<>"",VLOOKUP($P13,Deelnemers2026!$B$2:$G$345,2,FALSE),"") | R13: =IF($P13<>"",VLOOKUP($P13,Deelnemers2026!$B$2:$G$345,3,FALSE),"") | S13: =IF($P13<>"",VLOOKUP($P13,Deelnemers2026!$B$2:$G$345,4,FALSE),"") | T13: =IF($P13<>"",VLOOKUP($P13,Deelnemers2026!$B$2:$G$345,5,FALSE),"") | U13: =IF($P13<>"",VLOOKUP($P13,Deelnemers2026!$B$2:$G$345,6,FALSE),"")
C14: =IF($B14<>"",VLOOKUP($B14,Deelnemers2026!$B$2:$G$345,2,FALSE),"") | D14: =IF($B14<>"",VLOOKUP($B14,Deelnemers2026!$B$2:$G$345,3,FALSE),"") | E14: =IF($B14<>"",VLOOKUP($B14,Deelnemers2026!$B$2:$G$345,4,FALSE),"") | F14: =IF($B14<>"",VLOOKUP($B14,Deelnemers2026!$B$2:$G$345,5,FALSE),"") | G14: =IF($B14<>"",VLOOKUP($B14,Deelnemers2026!$B$2:$G$345,6,FALSE),"") | J14: =IF($I14<>"",VLOOKUP($I14,Deelnemers2026!$B$2:$G$345,2,FALSE),"") | K14: =IF($I14<>"",VLOOKUP($I14,Deelnemers2026!$B$2:$G$345,3,FALSE),"") | L14: =IF($I14<>"",VLOOKUP($I14,Deelnemers2026!$B$2:$G$345,4,FALSE),"") | M14: =IF($I14<>"",VLOOKUP($I14,Deelnemers2026!$B$2:$G$345,5,FALSE),"") | N14: =IF($I14<>"",VLOOKUP($I14,Deelnemers2026!$B$2:$G$345,6,FALSE),"")
C15: =IF($B15<>"",VLOOKUP($B15,Deelnemers2026!$B$2:$G$345,2,FALSE),"") | D15: =IF($B15<>"",VLOOKUP($B15,Deelnemers2026!$B$2:$G$345,3,FALSE),"") | E15: =IF($B15<>"",VLOOKUP($B15,Deelnemers2026!$B$2:$G$345,4,FALSE),"") | F15: =IF($B15<>"",VLOOKUP($B15,Deelnemers2026!$B$2:$G$345,5,FALSE),"") | G15: =IF($B15<>"",VLOOKUP($B15,Deelnemers2026!$B$2:$G$345,6,FALSE),"") | J15: =IF($I15<>"",VLOOKUP($I15,Deelnemers2026!$B$2:$G$345,2,FALSE),"") | K15: =IF($I15<>"",VLOOKUP($I15,Deelnemers2026!$B$2:$G$345,3,FALSE),"") | L15: =IF($I15<>"",VLOOKUP($I15,Deelnemers2026!$B$2:$G$345,4,FALSE),"") | M15: =IF($I15<>"",VLOOKUP($I15,Deelnemers2026!$B$2:$G$345,5,FALSE),"") | N15: =IF($I15<>"",VLOOKUP($I15,Deelnemers2026!$B$2:$G$345,6,FALSE),"")
C16: =IF($B16<>"",VLOOKUP($B16,Deelnemers2026!$B$2:$G$345,2,FALSE),"") | D16: =IF($B16<>"",VLOOKUP($B16,Deelnemers2026!$B$2:$G$345,3,FALSE),"") | E16: =IF($B16<>"",VLOOKUP($B16,Deelnemers2026!$B$2:$G$345,4,FALSE),"") | F16: =IF($B16<>"",VLOOKUP($B16,Deelnemers2026!$B$2:$G$345,5,FALSE),"") | G16: =IF($B16<>"",VLOOKUP($B16,Deelnemers2026!$B$2:$G$345,6,FALSE),"")
C17: =IF($B17<>"",VLOOKUP($B17,Deelnemers2026!$B$2:$G$345,2,FALSE),"") | D17: =IF($B17<>"",VLOOKUP($B17,Deelnemers2026!$B$2:$G$345,3,FALSE),"") | E17: =IF($B17<>"",VLOOKUP($B17,Deelnemers2026!$B$2:$G$345,4,FALSE),"") | F17: =IF($B17<>"",VLOOKUP($B17,Deelnemers2026!$B$2:$G$345,5,FALSE),"") | G17: =IF($B17<>"",VLOOKUP($B17,Deelnemers2026!$B$2:$G$345,6,FALSE),"")
C18: =IF($B18<>"",VLOOKUP($B18,Deelnemers2026!$B$2:$G$345,2,FALSE),"") | D18: =IF($B18<>"",VLOOKUP($B18,Deelnemers2026!$B$2:$G$345,3,FALSE),"") | E18: =IF($B18<>"",VLOOKUP($B18,Deelnemers2026!$B$2:$G$345,4,FALSE),"") | F18: =IF($B18<>"",VLOOKUP($B18,Deelnemers2026!$B$2:$G$345,5,FALSE),"") | G18: =IF($B18<>"",VLOOKUP($B18,Deelnemers2026!$B$2:$G$345,6,FALSE),"")
C19: =IF($B19<>"",VLOOKUP($B19,Deelnemers2026!$B$2:$G$345,2,FALSE),"") | D19: =IF($B19<>"",VLOOKUP($B19,Deelnemers2026!$B$2:$G$345,3,FALSE),"") | E19: =IF($B19<>"",VLOOKUP($B19,Deelnemers2026!$B$2:$G$345,4,FALSE),"") | F19: =IF($B19<>"",VLOOKUP($B19,Deelnemers2026!$B$2:$G$345,5,FALSE),"") | G19: =IF($B19<>"",VLOOKUP($B19,Deelnemers2026!$B$2:$G$345,6,FALSE),"")
A34: 2 | H34: 11 | O34: 20
B35: 9.50 | C35: Ring 1 | D35: Extrieur pinken | I35: 9.50 | J35: Ring 2 | K35: Extrieur pinken | P35: 9.50 | Q35: Ring 3 | R35: Extrieur pinken
B36: cat nr. | C36: Naam | D36: Vader | E36: Eigenaar | F36: Plaats | G36: Showman | I36: cat nr. | J36: Naam | K36: Vader | L36: Eigenaar | M36: Plaats | N36: Showman | P36: cat nr. | Q36: Naam | R36: Vader | S36: Eigenaar | T36: Plaats | U36: Showman
B37: 242 | C37: =IF($B37<>"",VLOOKUP($B37,Deelnemers2026!$B$2:$G$345,2,FALSE),"") -> Nijntje | D37: =IF($B37<>"",VLOOKUP($B37,Deelnemers2026!$B$2:$G$345,3,FALSE),"") -> Real Red Mo | E37: =IF($B37<>"",VLOOKUP($B37,Deelnemers2026!$B$2:$G$345,4,FALSE),"") -> Fa Brouwer-Bor | F37: =IF($B37<>"",VLOOKUP($B37,Deelnemers2026!$B$2:$G$345,5,FALSE),"") -> Noordeloos | G37: =IF($B37<>"",VLOOKUP($B37,Deelnemers2026!$B$2:$G$345,6,FALSE),"") -> Femke Goesten, 15 | I37: 259 | J37: =IF($I37<>"",VLOOKUP($I37,Deelnemers2026!$B$2:$G$345,2,FALSE),"") -> Hbc Detect. Morena | K37: =IF($I37<>"",VLOOKUP($I37,Deelnemers2026!$B$2:$G$345,3,FALSE),"") -> Blondin Detective | L37: =IF($I37<>"",VLOOKUP($I37,Deelnemers2026!$B$2:$G$345,4,FALSE),"") -> Schep Holsteins Holland BV | M37: =IF($I37<>"",VLOOKUP($I37,Deelnemers2026!$B$2:$G$345,5,FALSE),"") -> Bergambacht | N37: =IF($I37<>"",VLOOKUP($I37,Deelnemers2026!$B$2:$G$345,6,FALSE),"") -> Lieke Schep, 16 | P37: 268 | Q37: =IF($P37<>"",VLOOKUP($P37,Deelnemers2026!$B$2:$G$345,2,FALSE),"") -> Tatoo Elina | R37: =IF($P37<>"",VLOOKUP($P37,Deelnemers2026!$B$2:$G$345,3,FALSE),"") -> Tattoo vd Sijsloberg | S37: =IF($P37<>"",VLOOKUP($P37,Deelnemers2026!$B$2:$G$345,4,FALSE),"") -> Schouten Holsteins en Koen van Zwienen | T37: =IF($P37<>"",VLOOKUP($P37,Deelnemers2026!$B$2:$G$345,5,FALSE),"") -> Bergambacht | U37: =IF($P37<>"",VLOOKUP($P37,Deelnemers2026!$B$2:$G$345,6,FALSE),"") -> Koen van Zwienen, 18
B38: 243 | C38: =IF($B38<>"",VLOOKUP($B38,Deelnemers2026!$B$2:$G$345,2,FALSE),"") -> Giessenhof Sannie 505 | D38: =IF($B38<>"",VLOOKUP($B38,Deelnemers2026!$B$2:$G$345,3,FALSE),"") -> Bomaz Cola | E38: =IF($B38<>"",VLOOKUP($B38,Deelnemers2026!$B$2:$G$345,4,FALSE),"") -> Mts Kortleve-Kooijman | F38: =IF($B38<>"",VLOOKUP($B38,Deelnemers2026!$B$2:$G$345,5,FALSE),"") -> Noordeloos | G38: =IF($B38<>"",VLOOKUP($B38,Deelnemers2026!$B$2:$G$345,6,FALSE),"") -> Ariane Kortleve, 17 | I38: 261 | J38: =IF($I38<>"",VLOOKUP($I38,Deelnemers2026!$B$2:$G$345,2,FALSE),"") -> Hbc Perenn. Reintje | K38: =IF($I38<>"",VLOOKUP($I38,Deelnemers2026!$B$2:$G$345,3,FALSE),"") -> Eclipse Perennial | L38: =IF($I38<>"",VLOOKUP($I38,Deelnemers2026!$B$2:$G$345,4,FALSE),"") -> Schep Holsteins Holland BV | M38: =IF($I38<>"",VLOOKUP($I38,Deelnemers2026!$B$2:$G$345,5,FALSE),"") -> Bergambacht | N38: =IF($I38<>"",VLOOKUP($I38,Deelnemers2026!$B$2:$G$345,6,FALSE),"") -> Maud van Schoonhoven, 16 | P38: 269 | Q38: =IF($P38<>"",VLOOKUP($P38,Deelnemers2026!$B$2:$G$345,2,FALSE),"") -> Hbc Major Andrea | R38: =IF($P38<>"",VLOOKUP($P38,Deelnemers2026!$B$2:$G$345,3,FALSE),"") -> Robella Major | S38: =IF($P38<>"",VLOOKUP($P38,Deelnemers2026!$B$2:$G$345,4,FALSE),"") -> Schep Holsteins Holland BV | T38: =IF($P38<>"",VLOOKUP($P38,Deelnemers2026!$B$2:$G$345,5,FALSE),"") -> Bergambacht | U38: =IF($P38<>"",VLOOKUP($P38,Deelnemers2026!$B$2:$G$345,6,FALSE),"") -> Jens van leeuwen 24 jaar
B39: 244 | C39: =IF($B39<>"",VLOOKUP($B39,Deelnemers2026!$B$2:$G$345,2,FALSE),"") -> M.H. Evalyn 122 | D39: =IF($B39<>"",VLOOKUP($B39,Deelnemers2026!$B$2:$G$345,3,FALSE),"") -> Siemers Renegade Parfect | E39: =IF($B39<>"",VLOOKUP($B39,Deelnemers2026!$B$2:$G$345,4,FALSE),"") -> Merwehoeve de Groot V.O.F. | F39: =IF($B39<>"",VLOOKUP($B39,Deelnemers2026!$B$2:$G$345,5,FALSE),"") -> Herwijnen | G39: =IF($B39<>"",VLOOKUP($B39,Deelnemers2026!$B$2:$G$345,6,FALSE),"") -> Lynn Keijzer, 14 | I39: 262 | J39: =IF($I39<>"",VLOOKUP($I39,Deelnemers2026!$B$2:$G$345,2,FALSE),"") -> Marry 150 | K39: =IF($I39<>"",VLOOKUP($I39,Deelnemers2026!$B$2:$G$345,3,FALSE),"") -> Comestar Lemagic | L39: =IF($I39<>"",VLOOKUP($I39,Deelnemers2026!$B$2:$G$345,4,FALSE),"") -> Vof MCJM + GAM Goesten-Pullen | M39: =IF($I39<>"",VLOOKUP($I39,Deelnemers2026!$B$2:$G$345,5,FALSE),"") -> Hedel | N39: =IF($I39<>"",VLOOKUP($I39,Deelnemers2026!$B$2:$G$345,6,FALSE),"") -> Femke Goesten, 15 | P39: 270 | Q39: =IF($P39<>"",VLOOKUP($P39,Deelnemers2026!$B$2:$G$345,2,FALSE),"") -> Jonker Stoffelina 481 | R39: =IF($P39<>"",VLOOKUP($P39,Deelnemers2026!$B$2:$G$345,3,FALSE),"") -> 0 | S39: =IF($P39<>"",VLOOKUP($P39,Deelnemers2026!$B$2:$G$345,4,FALSE),"") -> C G de Jong | T39: =IF($P39<>"",VLOOKUP($P39,Deelnemers2026!$B$2:$G$345,5,FALSE),"") -> Noordeloos | U39: =IF($P39<>"",VLOOKUP($P39,Deelnemers2026!$B$2:$G$345,6,FALSE),"") -> Britt van Ballegooijen, 22
B40: 248 | C40: =IF($B40<>"",VLOOKUP($B40,Deelnemers2026!$B$2:$G$345,2,FALSE),"") -> Margreet 7 | D40: =IF($B40<>"",VLOOKUP($B40,Deelnemers2026!$B$2:$G$345,3,FALSE),"") -> Hamming Salute | E40: =IF($B40<>"",VLOOKUP($B40,Deelnemers2026!$B$2:$G$345,4,FALSE),"") -> Vof T J C Berends | F40: =IF($B40<>"",VLOOKUP($B40,Deelnemers2026!$B$2:$G$345,5,FALSE),"") -> Lienden | G40: =IF($B40<>"",VLOOKUP($B40,Deelnemers2026!$B$2:$G$345,6,FALSE),"") -> Lena Berende, 12 | I40: 264 | J40: =IF($I40<>"",VLOOKUP($I40,Deelnemers2026!$B$2:$G$345,2,FALSE),"") -> Dit 73 | K40: =IF($I40<>"",VLOOKUP($I40,Deelnemers2026!$B$2:$G$345,3,FALSE),"") -> Mb-Luckylady Bullseye | L40: =IF($I40<>"",VLOOKUP($I40,Deelnemers2026!$B$2:$G$345,4,FALSE),"") -> Vof MCJM + GAM Goesten-Pullen | M40: =IF($I40<>"",VLOOKUP($I40,Deelnemers2026!$B$2:$G$345,5,FALSE),"") -> Hedel | N40: =IF($I40<>"",VLOOKUP($I40,Deelnemers2026!$B$2:$G$345,6,FALSE),"") -> Femke van Genderen, 18 | P40: 271 | Q40: =IF($P40<>"",VLOOKUP($P40,Deelnemers2026!$B$2:$G$345,2,FALSE),"") -> Leyhigh 2849 (2 | R40: =IF($P40<>"",VLOOKUP($P40,Deelnemers2026!$B$2:$G$345,3,FALSE),"") -> Drewholme Leyhigh Pp | S40: =IF($P40<>"",VLOOKUP($P40,Deelnemers2026!$B$2:$G$345,4,FALSE),"") -> Firma Vermaat | T40: =IF($P40<>"",VLOOKUP($P40,Deelnemers2026!$B$2:$G$345,5,FALSE),"") -> Leerdam | U40: =IF($P40<>"",VLOOKUP($P40,Deelnemers2026!$B$2:$G$345,6,FALSE),"") -> Celia Vermaat, 19
B41: 250 | C41: =IF($B41<>"",VLOOKUP($B41,Deelnemers2026!$B$2:$G$345,2,FALSE),"") -> M.H. Alana 162 | D41: =IF($B41<>"",VLOOKUP($B41,Deelnemers2026!$B$2:$G$345,3,FALSE),"") -> Haveitall Dropbx Hellion | E41: =IF($B41<>"",VLOOKUP($B41,Deelnemers2026!$B$2:$G$345,4,FALSE),"") -> Merwehoeve de Groot V.O.F. | F41: =IF($B41<>"",VLOOKUP($B41,Deelnemers2026!$B$2:$G$345,5,FALSE),"") -> Herwijnen | G41: =IF($B41<>"",VLOOKUP($B41,Deelnemers2026!$B$2:$G$345,6,FALSE),"") -> Iris de Groot, 14 | I41: 265 | J41: =IF($I41<>"",VLOOKUP($I41,Deelnemers2026!$B$2:$G$345,2,FALSE),"") -> Hiltje 73 | K41: =IF($I41<>"",VLOOKUP($I41,Deelnemers2026!$B$2:$G$345,3,FALSE),"") -> Peeldijker Freezer | L41: =IF($I41<>"",VLOOKUP($I41,Deelnemers2026!$B$2:$G$345,4,FALSE),"") -> Vof Harteveld | M41: =IF($I41<>"",VLOOKUP($I41,Deelnemers2026!$B$2:$G$345,5,FALSE),"") -> Ameide | N41: =IF($I41<>"",VLOOKUP($I41,Deelnemers2026!$B$2:$G$345,6,FALSE),"") -> Sara Harteveld, 17 | P41: 272 | Q41: =IF($P41<>"",VLOOKUP($P41,Deelnemers2026!$B$2:$G$345,2,FALSE),"") -> Ans 33 | R41: =IF($P41<>"",VLOOKUP($P41,Deelnemers2026!$B$2:$G$345,3,FALSE),"") -> Cookiecutter Hypnotic | S41: =IF($P41<>"",VLOOKUP($P41,Deelnemers2026!$B$2:$G$345,4,FALSE),"") -> *Van de Vos | T41: =IF($P41<>"",VLOOKUP($P41,Deelnemers2026!$B$2:$G$345,5,FALSE),"") -> Groot Ammers | U41: =IF($P41<>"",VLOOKUP($P41,Deelnemers2026!$B$2:$G$345,6,FALSE),"") -> Allart Parre, 19
B42: 252 | C42: =IF($B42<>"",VLOOKUP($B42,Deelnemers2026!$B$2:$G$345,2,FALSE),"") -> Jopie 158 | D42: =IF($B42<>"",VLOOKUP($B42,Deelnemers2026!$B$2:$G$345,3,FALSE),"") -> Bbg Elk 68 van de Plashoeve | E42: =IF($B42<>"",VLOOKUP($B42,Deelnemers2026!$B$2:$G$345,4,FALSE),"") -> Nieuwvredebest BV | F42: =IF($B42<>"",VLOOKUP($B42,Deelnemers2026!$B$2:$G$345,5,FALSE),"") -> Vuren | G42: =IF($B42<>"",VLOOKUP($B42,Deelnemers2026!$B$2:$G$345,6,FALSE),"") -> Dylan Hijkoop, 14 | I42: 280 | J42: =IF($I42<>"",VLOOKUP($I42,Deelnemers2026!$B$2:$G$345,2,FALSE),"") -> Brando Bianca 122 | K42: =IF($I42<>"",VLOOKUP($I42,Deelnemers2026!$B$2:$G$345,3,FALSE),"") -> Siemers Renegade Parfect | L42: =IF($I42<>"",VLOOKUP($I42,Deelnemers2026!$B$2:$G$345,4,FALSE),"") -> Vof D + D Schakel | M42: =IF($I42<>"",VLOOKUP($I42,Deelnemers2026!$B$2:$G$345,5,FALSE),"") -> Brandwijk | N42: =IF($I42<>"",VLOOKUP($I42,Deelnemers2026!$B$2:$G$345,6,FALSE),"") -> Bernice Hofman, 16 | P42: 281 | Q42: =IF($P42<>"",VLOOKUP($P42,Deelnemers2026!$B$2:$G$345,2,FALSE),"") -> Does 63 | R42: =IF($P42<>"",VLOOKUP($P42,Deelnemers2026!$B$2:$G$345,3,FALSE),"") -> Crater Camden | S42: =IF($P42<>"",VLOOKUP($P42,Deelnemers2026!$B$2:$G$345,4,FALSE),"") -> Vof Harteveld | T42: =IF($P42<>"",VLOOKUP($P42,Deelnemers2026!$B$2:$G$345,5,FALSE),"") -> Ameide | U42: =IF($P42<>"",VLOOKUP($P42,Deelnemers2026!$B$2:$G$345,6,FALSE),"") -> Ellemieke Gerritsen, 22
B43: 253 | C43: =IF($B43<>"",VLOOKUP($B43,Deelnemers2026!$B$2:$G$345,2,FALSE),"") -> Cosmo 5873 | D43: =IF($B43<>"",VLOOKUP($B43,Deelnemers2026!$B$2:$G$345,3,FALSE),"") -> Siemers Doc Hardy | E43: =IF($B43<>"",VLOOKUP($B43,Deelnemers2026!$B$2:$G$345,4,FALSE),"") -> Fa van Beest-de Bruin | F43: =IF($B43<>"",VLOOKUP($B43,Deelnemers2026!$B$2:$G$345,5,FALSE),"") -> Hoogblokland | G43: =IF($B43<>"",VLOOKUP($B43,Deelnemers2026!$B$2:$G$345,6,FALSE),"") -> Lieke van Rossum, 20 | I43: 266 | J43: =IF($I43<>"",VLOOKUP($I43,Deelnemers2026!$B$2:$G$345,2,FALSE),"") -> Lena 143 | K43: =IF($I43<>"",VLOOKUP($I43,Deelnemers2026!$B$2:$G$345,3,FALSE),"") -> Progenesis Anahita | L43: =IF($I43<>"",VLOOKUP($I43,Deelnemers2026!$B$2:$G$345,4,FALSE),"") -> *Van de Vos | M43: =IF($I43<>"",VLOOKUP($I43,Deelnemers2026!$B$2:$G$345,5,FALSE),"") -> Groot Ammers | N43: =IF($I43<>"",VLOOKUP($I43,Deelnemers2026!$B$2:$G$345,6,FALSE),"") -> Bart den Hartog, 18 | P43: 278 | Q43: =IF($P43<>"",VLOOKUP($P43,Deelnemers2026!$B$2:$G$345,2,FALSE),"") -> Chief 5163(9) | R43: =IF($P43<>"",VLOOKUP($P43,Deelnemers2026!$B$2:$G$345,3,FALSE),"") -> Stantons Chief | S43: =IF($P43<>"",VLOOKUP($P43,Deelnemers2026!$B$2:$G$345,4,FALSE),"") -> Firma Vermaat | T43: =IF($P43<>"",VLOOKUP($P43,Deelnemers2026!$B$2:$G$345,5,FALSE),"") -> Leerdam | U43: =IF($P43<>"",VLOOKUP($P43,Deelnemers2026!$B$2:$G$345,6,FALSE),"") -> Nafthali Vermaat, 20
B44: 256 | C44: =IF($B44<>"",VLOOKUP($B44,Deelnemers2026!$B$2:$G$345,2,FALSE),"") -> Brando Janna 229 | D44: =IF($B44<>"",VLOOKUP($B44,Deelnemers2026!$B$2:$G$345,3,FALSE),"") -> Mb-Luckylady Bullseye | E44: =IF($B44<>"",VLOOKUP($B44,Deelnemers2026!$B$2:$G$345,4,FALSE),"") -> Vof D + D Schakel | F44: =IF($B44<>"",VLOOKUP($B44,Deelnemers2026!$B$2:$G$345,5,FALSE),"") -> Brandwijk | G44: =IF($B44<>"",VLOOKUP($B44,Deelnemers2026!$B$2:$G$345,6,FALSE),"") -> Monica Verduin, 16 | I44: 267 | J44: =IF($I44<>"",VLOOKUP($I44,Deelnemers2026!$B$2:$G$345,2,FALSE),"") -> Hiltje 72 | K44: =IF($I44<>"",VLOOKUP($I44,Deelnemers2026!$B$2:$G$345,3,FALSE),"") -> Siemers H Partake 35318 | L44: =IF($I44<>"",VLOOKUP($I44,Deelnemers2026!$B$2:$G$345,4,FALSE),"") -> Vof Harteveld | M44: =IF($I44<>"",VLOOKUP($I44,Deelnemers2026!$B$2:$G$345,5,FALSE),"") -> Ameide | N44: =IF($I44<>"",VLOOKUP($I44,Deelnemers2026!$B$2:$G$345,6,FALSE),"") -> Jeanine Oudijk, 22 | P44: 279 | Q44: =IF($P44<>"",VLOOKUP($P44,Deelnemers2026!$B$2:$G$345,2,FALSE),"") -> Hbc Alligat Reintje | R44: =IF($P44<>"",VLOOKUP($P44,Deelnemers2026!$B$2:$G$345,3,FALSE),"") -> Stantons Alligator | S44: =IF($P44<>"",VLOOKUP($P44,Deelnemers2026!$B$2:$G$345,4,FALSE),"") -> Schep Holsteins Holland BV | T44: =IF($P44<>"",VLOOKUP($P44,Deelnemers2026!$B$2:$G$345,5,FALSE),"") -> Bergambacht | U44: =IF($P44<>"",VLOOKUP($P44,Deelnemers2026!$B$2:$G$345,6,FALSE),"") -> Daan van Zwienen, 20
B45: 257 | C45: =IF($B45<>"",VLOOKUP($B45,Deelnemers2026!$B$2:$G$345,2,FALSE),"") -> Jansje 875 | D45: =IF($B45<>"",VLOOKUP($B45,Deelnemers2026!$B$2:$G$345,3,FALSE),"") -> Peak Hotline | E45: =IF($B45<>"",VLOOKUP($B45,Deelnemers2026!$B$2:$G$345,4,FALSE),"") -> Fa de Groot | F45: =IF($B45<>"",VLOOKUP($B45,Deelnemers2026!$B$2:$G$345,5,FALSE),"") -> Everdingen | G45: =IF($B45<>"",VLOOKUP($B45,Deelnemers2026!$B$2:$G$345,6,FALSE),"") -> Lyn van het Schip, 18
C46: =IF($B46<>"",VLOOKUP($B46,Deelnemers2026!$B$2:$G$345,2,FALSE),"") | D46: =IF($B46<>"",VLOOKUP($B46,Deelnemers2026!$B$2:$G$345,3,FALSE),"") | E46: =IF($B46<>"",VLOOKUP($B46,Deelnemers2026!$B$2:$G$345,4,FALSE),"") | F46: =IF($B46<>"",VLOOKUP($B46,Deelnemers2026!$B$2:$G$345,5,FALSE),"") | G46: =IF($B46<>"",VLOOKUP($B46,Deelnemers2026!$B$2:$G$345,6,FALSE),"")
P48: 10.10 | Q48: Ring 2 + 3 | R48: Extrieur pinken | S48: Kampioenschap
P49: cat nr. | Q49: Naam | R49: Vader | S49: Eigenaar | T49: Plaats | U49: Showman
B52: 10.10 | C52: Ring 1 | D52: Toilet pinken | E52: Kampioenschap | I52: 10.10 | J52: Ring 2 + 3 | K52: Extrieur pinken | L52: Kampioenschap
B53: cat nr. | C53: Naam | D53: Vader | E53: Eigenaar | F53: Plaats | G53: Showman | I53: cat nr. | J53: Naam | K53: Vader | L53: Eigenaar | M53: Plaats | N53: Showman
P57: 10.25 | Q57: Ring 3 | R57: Showmanship oud | S57: Kampioenschap | T57: 17 tot 30 jaar
P58: cat nr. | Q58: Naam | R58: Vader | S58: Eigenaar | T58: Plaats | U58: Showman
P59: 242 | Q59: =IF($P59<>"",VLOOKUP($P59,Deelnemers2026!$B$2:$G$345,2,FALSE),"") -> Nijntje | R59: =IF($P59<>"",VLOOKUP($P59,Deelnemers2026!$B$2:$G$345,3,FALSE),"") -> Real Red Mo | S59: =IF($P59<>"",VLOOKUP($P59,Deelnemers2026!$B$2:$G$345,4,FALSE),"") -> Fa Brouwer-Bor | T59: =IF($P59<>"",VLOOKUP($P59,Deelnemers2026!$B$2:$G$345,5,FALSE),"") -> Noordeloos | U59: =IF($P59<>"",VLOOKUP($P59,Deelnemers2026!$B$2:$G$345,6,FALSE),"") -> Femke Goesten, 15
P60: 265 | Q60: =IF($P60<>"",VLOOKUP($P60,Deelnemers2026!$B$2:$G$345,2,FALSE),"") -> Hiltje 73 | R60: =IF($P60<>"",VLOOKUP($P60,Deelnemers2026!$B$2:$G$345,3,FALSE),"") -> Peeldijker Freezer | S60: =IF($P60<>"",VLOOKUP($P60,Deelnemers2026!$B$2:$G$345,4,FALSE),"") -> Vof Harteveld | T60: =IF($P60<>"",VLOOKUP($P60,Deelnemers2026!$B$2:$G$345,5,FALSE),"") -> Ameide | U60: =IF($P60<>"",VLOOKUP($P60,Deelnemers2026!$B$2:$G$345,6,FALSE),"") -> Sara Harteveld, 17
P61: 268 | Q61: =IF($P61<>"",VLOOKUP($P61,Deelnemers2026!$B$2:$G$345,2,FALSE),"") -> Tatoo Elina | R61: =IF($P61<>"",VLOOKUP($P61,Deelnemers2026!$B$2:$G$345,3,FALSE),"") -> Tattoo vd Sijsloberg | S61: =IF($P61<>"",VLOOKUP($P61,Deelnemers2026!$B$2:$G$345,4,FALSE),"") -> Schouten Holsteins en Koen van Zwienen | T61: =IF($P61<>"",VLOOKUP($P61,Deelnemers2026!$B$2:$G$345,5,FALSE),"") -> Bergambacht | U61: =IF($P61<>"",VLOOKUP($P61,Deelnemers2026!$B$2:$G$345,6,FALSE),"") -> Koen van Zwienen, 18
P62: 281 | Q62: =IF($P62<>"",VLOOKUP($P62,Deelnemers2026!$B$2:$G$345,2,FALSE),"") -> Does 63 | R62: =IF($P62<>"",VLOOKUP($P62,Deelnemers2026!$B$2:$G$345,3,FALSE),"") -> Crater Camden | S62: =IF($P62<>"",VLOOKUP($P62,Deelnemers2026!$B$2:$G$345,4,FALSE),"") -> Vof Harteveld | T62: =IF($P62<>"",VLOOKUP($P62,Deelnemers2026!$B$2:$G$345,5,FALSE),"") -> Ameide | U62: =IF($P62<>"",VLOOKUP($P62,Deelnemers2026!$B$2:$G$345,6,FALSE),"") -> Ellemieke Gerritsen, 22
P63: 267 | Q63: =IF($P63<>"",VLOOKUP($P63,Deelnemers2026!$B$2:$G$345,2,FALSE),"") -> Hiltje 72 | R63: =IF($P63<>"",VLOOKUP($P63,Deelnemers2026!$B$2:$G$345,3,FALSE),"") -> Siemers H Partake 35318 | S63: =IF($P63<>"",VLOOKUP($P63,Deelnemers2026!$B$2:$G$345,4,FALSE),"") -> Vof Harteveld | T63: =IF($P63<>"",VLOOKUP($P63,Deelnemers2026!$B$2:$G$345,5,FALSE),"") -> Ameide | U63: =IF($P63<>"",VLOOKUP($P63,Deelnemers2026!$B$2:$G$345,6,FALSE),"") -> Jeanine Oudijk, 22
P64: 269 | Q64: =IF($P64<>"",VLOOKUP($P64,Deelnemers2026!$B$2:$G$345,2,FALSE),"") -> Hbc Major Andrea | R64: =IF($P64<>"",VLOOKUP($P64,Deelnemers2026!$B$2:$G$345,3,FALSE),"") -> Robella Major | S64: =IF($P64<>"",VLOOKUP($P64,Deelnemers2026!$B$2:$G$345,4,FALSE),"") -> Schep Holsteins Holland BV | T64: =IF($P64<>"",VLOOKUP($P64,Deelnemers2026!$B$2:$G$345,5,FALSE),"") -> Bergambacht | U64: =IF($P64<>"",VLOOKUP($P64,Deelnemers2026!$B$2:$G$345,6,FALSE),"") -> Jens van leeuwen 24 jaar
A67: 3 | H67: 12 | O67: 21
B68: 10.25 | C68: Ring 1 | D68: Vaarzen zwartbont | I68: 10.25 | J68: Ring 2 | K68: Vaarzen zwartbont | P68: 10.50 | Q68: Ring 3 | R68: Roodbont jong
B69: cat nr. | C69: Naam | D69: Vader | E69: Eigenaar | F69: Plaats | I69: cat nr. | J69: Naam | K69: Vader | L69: Eigenaar | M69: Plaats | P69: cat nr. | Q69: Naam | R69: Vader | S69: Eigenaar | T69: Plaats
B70: 3 | C70: =IF($B70<>"",VLOOKUP($B70,Deelnemers2026!$B$2:$G$345,2,FALSE),"") -> Margriet 578 | D70: =IF($B70<>"",VLOOKUP($B70,Deelnemers2026!$B$2:$G$345,3,FALSE),"") -> Fustsyn Parfect Parker | E70: =IF($B70<>"",VLOOKUP($B70,Deelnemers2026!$B$2:$G$345,4,FALSE),"") -> Vof de Bruin | F70: =IF($B70<>"",VLOOKUP($B70,Deelnemers2026!$B$2:$G$345,5,FALSE),"") -> Giessenburg | I70: 12 | J70: =IF($I70<>"",VLOOKUP($I70,Deelnemers2026!$B$2:$G$345,2,FALSE),"") -> Mattenhof Lambda Hazel | K70: =IF($I70<>"",VLOOKUP($I70,Deelnemers2026!$B$2:$G$345,3,FALSE),"") -> Farnear Delta-Lambda | L70: =IF($I70<>"",VLOOKUP($I70,Deelnemers2026!$B$2:$G$345,4,FALSE),"") -> Schep Holsteins Holland BV en ALH Genetics | M70: =IF($I70<>"",VLOOKUP($I70,Deelnemers2026!$B$2:$G$345,5,FALSE),"") -> Bergambacht/Damwoude | P70: 201 | Q70: =IF($P70<>"",VLOOKUP($P70,Deelnemers2026!$B$2:$G$345,2,FALSE),"") -> Jonker Martha 740 | R70: =IF($P70<>"",VLOOKUP($P70,Deelnemers2026!$B$2:$G$345,3,FALSE),"") -> Topsteen Andauer | S70: =IF($P70<>"",VLOOKUP($P70,Deelnemers2026!$B$2:$G$345,4,FALSE),"") -> C G de Jong | T70: =IF($P70<>"",VLOOKUP($P70,Deelnemers2026!$B$2:$G$345,5,FALSE),"") -> Noordeloos
B71: 114 | C71: =IF($B71<>"",VLOOKUP($B71,Deelnemers2026!$B$2:$G$345,2,FALSE),"") -> De Witboom Greet 134 | D71: =IF($B71<>"",VLOOKUP($B71,Deelnemers2026!$B$2:$G$345,3,FALSE),"") -> Stantons Chief | E71: =IF($B71<>"",VLOOKUP($B71,Deelnemers2026!$B$2:$G$345,4,FALSE),"") -> Vof Versluis den Otter | F71: =IF($B71<>"",VLOOKUP($B71,Deelnemers2026!$B$2:$G$345,5,FALSE),"") -> Ameide | I71: 13 | J71: =IF($I71<>"",VLOOKUP($I71,Deelnemers2026!$B$2:$G$345,2,FALSE),"") -> M.H. Wilhelm 80 | K71: =IF($I71<>"",VLOOKUP($I71,Deelnemers2026!$B$2:$G$345,3,FALSE),"") -> S-S-I Pr Renegade | L71: =IF($I71<>"",VLOOKUP($I71,Deelnemers2026!$B$2:$G$345,4,FALSE),"") -> Merwehoeve de Groot V.O.F. | M71: =IF($I71<>"",VLOOKUP($I71,Deelnemers2026!$B$2:$G$345,5,FALSE),"") -> Herwijnen | P71: 203 | Q71: =IF($P71<>"",VLOOKUP($P71,Deelnemers2026!$B$2:$G$345,2,FALSE),"") -> M.H. Alana 110 | R71: =IF($P71<>"",VLOOKUP($P71,Deelnemers2026!$B$2:$G$345,3,FALSE),"") -> Kenmore Triple Crown-Red | S71: =IF($P71<>"",VLOOKUP($P71,Deelnemers2026!$B$2:$G$345,4,FALSE),"") -> Merwehoeve de Groot V.O.F. | T71: =IF($P71<>"",VLOOKUP($P71,Deelnemers2026!$B$2:$G$345,5,FALSE),"") -> Herwijnen
B72: 5 | C72: =IF($B72<>"",VLOOKUP($B72,Deelnemers2026!$B$2:$G$345,2,FALSE),"") -> Prairie Hoeve Hendrika 89 | D72: =IF($B72<>"",VLOOKUP($B72,Deelnemers2026!$B$2:$G$345,3,FALSE),"") -> Progenesis Ambrose | E72: =IF($B72<>"",VLOOKUP($B72,Deelnemers2026!$B$2:$G$345,4,FALSE),"") -> Mts Timmer-van Dijk | F72: =IF($B72<>"",VLOOKUP($B72,Deelnemers2026!$B$2:$G$345,5,FALSE),"") -> Noordeloos | I72: 14 | J72: =IF($I72<>"",VLOOKUP($I72,Deelnemers2026!$B$2:$G$345,2,FALSE),"") -> Bons-Holsteins Koba 314 | K72: =IF($I72<>"",VLOOKUP($I72,Deelnemers2026!$B$2:$G$345,3,FALSE),"") -> Stantons Alligator | L72: =IF($I72<>"",VLOOKUP($I72,Deelnemers2026!$B$2:$G$345,4,FALSE),"") -> Bons-Holsteins | M72: =IF($I72<>"",VLOOKUP($I72,Deelnemers2026!$B$2:$G$345,5,FALSE),"") -> Ottoland | P72: 206 | Q72: =IF($P72<>"",VLOOKUP($P72,Deelnemers2026!$B$2:$G$345,2,FALSE),"") -> Margriet 309 | R72: =IF($P72<>"",VLOOKUP($P72,Deelnemers2026!$B$2:$G$345,3,FALSE),"") -> Trent-Way-Js Ronald | S72: =IF($P72<>"",VLOOKUP($P72,Deelnemers2026!$B$2:$G$345,4,FALSE),"") -> Fa H + D van Eijl | T72: =IF($P72<>"",VLOOKUP($P72,Deelnemers2026!$B$2:$G$345,5,FALSE),"") -> Groot Ammers
B73: 6 | C73: =IF($B73<>"",VLOOKUP($B73,Deelnemers2026!$B$2:$G$345,2,FALSE),"") -> Bridgestone 274 | D73: =IF($B73<>"",VLOOKUP($B73,Deelnemers2026!$B$2:$G$345,3,FALSE),"") -> Walnutlawn Bridgestone | E73: =IF($B73<>"",VLOOKUP($B73,Deelnemers2026!$B$2:$G$345,4,FALSE),"") -> Firma Vermaat | F73: =IF($B73<>"",VLOOKUP($B73,Deelnemers2026!$B$2:$G$345,5,FALSE),"") -> Hei en Boeicop | I73: 15 | J73: =IF($I73<>"",VLOOKUP($I73,Deelnemers2026!$B$2:$G$345,2,FALSE),"") -> Margriet 398 | K73: =IF($I73<>"",VLOOKUP($I73,Deelnemers2026!$B$2:$G$345,3,FALSE),"") -> Bertt | L73: =IF($I73<>"",VLOOKUP($I73,Deelnemers2026!$B$2:$G$345,4,FALSE),"") -> Het Lam Vof | M73: =IF($I73<>"",VLOOKUP($I73,Deelnemers2026!$B$2:$G$345,5,FALSE),"") -> Leerbroek | P73: 208 | Q73: =IF($P73<>"",VLOOKUP($P73,Deelnemers2026!$B$2:$G$345,2,FALSE),"") -> Jonker Martha 736 | R73: =IF($P73<>"",VLOOKUP($P73,Deelnemers2026!$B$2:$G$345,3,FALSE),"") -> Hoogerhorst Dg Oh Rubels-Red | S73: =IF($P73<>"",VLOOKUP($P73,Deelnemers2026!$B$2:$G$345,4,FALSE),"") -> C G de Jong | T73: =IF($P73<>"",VLOOKUP($P73,Deelnemers2026!$B$2:$G$345,5,FALSE),"") -> Noordeloos
B74: 8 | C74: =IF($B74<>"",VLOOKUP($B74,Deelnemers2026!$B$2:$G$345,2,FALSE),"") -> Madelene 24 | D74: =IF($B74<>"",VLOOKUP($B74,Deelnemers2026!$B$2:$G$345,3,FALSE),"") -> Gladiator Isa | E74: =IF($B74<>"",VLOOKUP($B74,Deelnemers2026!$B$2:$G$345,4,FALSE),"") -> Vof Verdoold | F74: =IF($B74<>"",VLOOKUP($B74,Deelnemers2026!$B$2:$G$345,5,FALSE),"") -> Giessenburg | I74: 16 | J74: =IF($I74<>"",VLOOKUP($I74,Deelnemers2026!$B$2:$G$345,2,FALSE),"") -> Giessen Charity 326 | K74: =IF($I74<>"",VLOOKUP($I74,Deelnemers2026!$B$2:$G$345,3,FALSE),"") -> Kings-Ransom Dynasty | L74: =IF($I74<>"",VLOOKUP($I74,Deelnemers2026!$B$2:$G$345,4,FALSE),"") -> Vof D + D Schakel | M74: =IF($I74<>"",VLOOKUP($I74,Deelnemers2026!$B$2:$G$345,5,FALSE),"") -> Brandwijk
B75: 9 | C75: =IF($B75<>"",VLOOKUP($B75,Deelnemers2026!$B$2:$G$345,2,FALSE),"") -> J.S.J.T. Chief Faire | D75: =IF($B75<>"",VLOOKUP($B75,Deelnemers2026!$B$2:$G$345,3,FALSE),"") -> Stantons Chief | E75: =IF($B75<>"",VLOOKUP($B75,Deelnemers2026!$B$2:$G$345,4,FALSE),"") -> Vof Jongsteins | F75: =IF($B75<>"",VLOOKUP($B75,Deelnemers2026!$B$2:$G$345,5,FALSE),"") -> Hoogblokland | I75: 115 | J75: =IF($I75<>"",VLOOKUP($I75,Deelnemers2026!$B$2:$G$345,2,FALSE),"") -> Jonker Willempje 36 | K75: =IF($I75<>"",VLOOKUP($I75,Deelnemers2026!$B$2:$G$345,3,FALSE),"") -> Sandy-Valley El Grande | L75: =IF($I75<>"",VLOOKUP($I75,Deelnemers2026!$B$2:$G$345,4,FALSE),"") -> C G de Jong | M75: =IF($I75<>"",VLOOKUP($I75,Deelnemers2026!$B$2:$G$345,5,FALSE),"") -> Noordeloos
B76: 10 | C76: =IF($B76<>"",VLOOKUP($B76,Deelnemers2026!$B$2:$G$345,2,FALSE),"") -> Hbc Boost Darla | D76: =IF($B76<>"",VLOOKUP($B76,Deelnemers2026!$B$2:$G$345,3,FALSE),"") -> Bons-Holsteins Boost | E76: =IF($B76<>"",VLOOKUP($B76,Deelnemers2026!$B$2:$G$345,4,FALSE),"") -> Schep Holsteins Holland BV | F76: =IF($B76<>"",VLOOKUP($B76,Deelnemers2026!$B$2:$G$345,5,FALSE),"") -> Bergambacht | I76: 17 | J76: =IF($I76<>"",VLOOKUP($I76,Deelnemers2026!$B$2:$G$345,2,FALSE),"") -> Plataan F 3023 | K76: =IF($I76<>"",VLOOKUP($I76,Deelnemers2026!$B$2:$G$345,3,FALSE),"") -> Aurora Altaantonio | L76: =IF($I76<>"",VLOOKUP($I76,Deelnemers2026!$B$2:$G$345,4,FALSE),"") -> Fa van Beest-de Bruin | M76: =IF($I76<>"",VLOOKUP($I76,Deelnemers2026!$B$2:$G$345,5,FALSE),"") -> Hoogblokland
B77: 11 | C77: =IF($B77<>"",VLOOKUP($B77,Deelnemers2026!$B$2:$G$345,2,FALSE),"") -> Mina 260 | D77: =IF($B77<>"",VLOOKUP($B77,Deelnemers2026!$B$2:$G$345,3,FALSE),"") -> 1063 | E77: =IF($B77<>"",VLOOKUP($B77,Deelnemers2026!$B$2:$G$345,4,FALSE),"") -> Het Lam Vof | F77: =IF($B77<>"",VLOOKUP($B77,Deelnemers2026!$B$2:$G$345,5,FALSE),"") -> Leerbroek | I77: 18 | J77: =IF($I77<>"",VLOOKUP($I77,Deelnemers2026!$B$2:$G$345,2,FALSE),"") -> Liesje 4 | K77: =IF($I77<>"",VLOOKUP($I77,Deelnemers2026!$B$2:$G$345,3,FALSE),"") -> Delta Perfect | L77: =IF($I77<>"",VLOOKUP($I77,Deelnemers2026!$B$2:$G$345,4,FALSE),"") -> Fa C Terlouw | M77: =IF($I77<>"",VLOOKUP($I77,Deelnemers2026!$B$2:$G$345,5,FALSE),"") -> Bleskensgraaf Ca
C78: =IF($B78<>"",VLOOKUP($B78,Deelnemers2026!$B$2:$G$345,2,FALSE),"") | D78: =IF($B78<>"",VLOOKUP($B78,Deelnemers2026!$B$2:$G$345,3,FALSE),"") | E78: =IF($B78<>"",VLOOKUP($B78,Deelnemers2026!$B$2:$G$345,4,FALSE),"") | F78: =IF($B78<>"",VLOOKUP($B78,Deelnemers2026!$B$2:$G$345,5,FALSE),"") | I78: 19 | J78: =IF($I78<>"",VLOOKUP($I78,Deelnemers2026!$B$2:$G$345,2,FALSE),"") -> Brando Geertje 153 | K78: =IF($I78<>"",VLOOKUP($I78,Deelnemers2026!$B$2:$G$345,3,FALSE),"") -> Toc-Farm Fitz | L78: =IF($I78<>"",VLOOKUP($I78,Deelnemers2026!$B$2:$G$345,4,FALSE),"") -> Vof D + D Schakel | M78: =IF($I78<>"",VLOOKUP($I78,Deelnemers2026!$B$2:$G$345,5,FALSE),"") -> Brandwijk
C79: =IF($B79<>"",VLOOKUP($B79,Deelnemers2026!$B$2:$G$345,2,FALSE),"") | D79: =IF($B79<>"",VLOOKUP($B79,Deelnemers2026!$B$2:$G$345,3,FALSE),"") | E79: =IF($B79<>"",VLOOKUP($B79,Deelnemers2026!$B$2:$G$345,4,FALSE),"") | F79: =IF($B79<>"",VLOOKUP($B79,Deelnemers2026!$B$2:$G$345,5,FALSE),"") | J79: =IF($I79<>"",VLOOKUP($I79,Deelnemers2026!$B$2:$G$345,2,FALSE),"") | K79: =IF($I79<>"",VLOOKUP($I79,Deelnemers2026!$B$2:$G$345,3,FALSE),"") | L79: =IF($I79<>"",VLOOKUP($I79,Deelnemers2026!$B$2:$G$345,4,FALSE),"") | M79: =IF($I79<>"",VLOOKUP($I79,Deelnemers2026!$B$2:$G$345,5,FALSE),"")
C80: =IF($B80<>"",VLOOKUP($B80,Deelnemers2026!$B$2:$G$345,2,FALSE),"") | D80: =IF($B80<>"",VLOOKUP($B80,Deelnemers2026!$B$2:$G$345,3,FALSE),"") | E80: =IF($B80<>"",VLOOKUP($B80,Deelnemers2026!$B$2:$G$345,4,FALSE),"") | F80: =IF($B80<>"",VLOOKUP($B80,Deelnemers2026!$B$2:$G$345,5,FALSE),"") | J80: =IF($I80<>"",VLOOKUP($I80,Deelnemers2026!$B$2:$G$345,2,FALSE),"") | K80: =IF($I80<>"",VLOOKUP($I80,Deelnemers2026!$B$2:$G$345,3,FALSE),"") | L80: =IF($I80<>"",VLOOKUP($I80,Deelnemers2026!$B$2:$G$345,4,FALSE),"") | M80: =IF($I80<>"",VLOOKUP($I80,Deelnemers2026!$B$2:$G$345,5,FALSE),"")
C81: =IF($B81<>"",VLOOKUP($B81,Deelnemers2026!$B$2:$G$345,2,FALSE),"") | D81: =IF($B81<>"",VLOOKUP($B81,Deelnemers2026!$B$2:$G$345,3,FALSE),"") | E81: =IF($B81<>"",VLOOKUP($B81,Deelnemers2026!$B$2:$G$345,4,FALSE),"") | F81: =IF($B81<>"",VLOOKUP($B81,Deelnemers2026!$B$2:$G$345,5,FALSE),"") | J81: =IF($I81<>"",VLOOKUP($I81,Deelnemers2026!$B$2:$G$345,2,FALSE),"") | K81: =IF($I81<>"",VLOOKUP($I81,Deelnemers2026!$B$2:$G$345,3,FALSE),"") | L81: =IF($I81<>"",VLOOKUP($I81,Deelnemers2026!$B$2:$G$345,4,FALSE),"") | M81: =IF($I81<>"",VLOOKUP($I81,Deelnemers2026!$B$2:$G$345,5,FALSE),"")
C82: =IF($B82<>"",VLOOKUP($B82,Deelnemers2026!$B$2:$E$345,2,FALSE),"") | J82: =IF($I82<>"",VLOOKUP($I82,Deelnemers2026!$B$2:$G$345,2,FALSE),"") | K82: =IF($I82<>"",VLOOKUP($I82,Deelnemers2026!$B$2:$G$345,3,FALSE),"") | L82: =IF($I82<>"",VLOOKUP($I82,Deelnemers2026!$B$2:$G$345,4,FALSE),"") | M82: =IF($I82<>"",VLOOKUP($I82,Deelnemers2026!$B$2:$G$345,5,FALSE),"")
C83: =IF($B83<>"",VLOOKUP($B83,Deelnemers2026!$B$2:$E$345,2,FALSE),"") | J83: =IF($I83<>"",VLOOKUP($I83,Deelnemers2026!$B$2:$G$345,2,FALSE),"") | K83: =IF($I83<>"",VLOOKUP($I83,Deelnemers2026!$B$2:$G$345,3,FALSE),"") | L83: =IF($I83<>"",VLOOKUP($I83,Deelnemers2026!$B$2:$G$345,4,FALSE),"") | M83: =IF($I83<>"",VLOOKUP($I83,Deelnemers2026!$B$2:$G$345,5,FALSE),"")
C84: =IF($B84<>"",VLOOKUP($B84,Deelnemers2026!$B$2:$E$345,2,FALSE),"") | J84: =IF($I84<>"",VLOOKUP($I84,Deelnemers2026!$B$2:$G$345,2,FALSE),"") | K84: =IF($I84<>"",VLOOKUP($I84,Deelnemers2026!$B$2:$G$345,3,FALSE),"") | L84: =IF($I84<>"",VLOOKUP($I84,Deelnemers2026!$B$2:$G$345,4,FALSE),"") | M84: =IF($I84<>"",VLOOKUP($I84,Deelnemers2026!$B$2:$G$345,5,FALSE),"")
C85: =IF($B85<>"",VLOOKUP($B85,Deelnemers2026!$B$2:$E$345,2,FALSE),"") | J85: =IF($I85<>"",VLOOKUP($I85,Deelnemers2026!$B$2:$G$345,2,FALSE),"") | K85: =IF($I85<>"",VLOOKUP($I85,Deelnemers2026!$B$2:$G$345,3,FALSE),"") | L85: =IF($I85<>"",VLOOKUP($I85,Deelnemers2026!$B$2:$G$345,4,FALSE),"") | M85: =IF($I85<>"",VLOOKUP($I85,Deelnemers2026!$B$2:$G$345,5,FALSE),"")
C86: =IF($B86<>"",VLOOKUP($B86,Deelnemers2026!$B$2:$E$345,2,FALSE),"")
C87: =IF($B87<>"",VLOOKUP($B87,Deelnemers2026!$B$2:$E$345,2,FALSE),"")
C88: =IF($B88<>"",VLOOKUP($B88,Deelnemers2026!$B$2:$E$345,2,FALSE),"")
C89: =IF($B89<>"",VLOOKUP($B89,Deelnemers2026!$B$2:$E$345,2,FALSE),"")
C90: =IF($B90<>"",VLOOKUP($B90,Deelnemers2026!$B$2:$E$345,2,FALSE),"")
C91: =IF($B91<>"",VLOOKUP($B91,Deelnemers2026!$B$2:$E$345,2,FALSE),"")
C92: =IF($B92<>"",VLOOKUP($B92,Deelnemers2026!$B$2:$E$345,2,FALSE),"")
C93: =IF($B93<>"",VLOOKUP($B93,Deelnemers2026!$B$2:$E$345,2,FALSE),"")
C95: =IF($B95<>"",VLOOKUP($B95,Deelnemers2026!$B$2:$E$345,2,FALSE),"")
C96: =IF($B96<>"",VLOOKUP($B96,Deelnemers2026!$B$2:$E$345,2,FALSE),"")
C97: =IF($B97<>"",VLOOKUP($B97,Deelnemers2026!$B$2:$E$345,2,FALSE),"")
C98: =IF($B98<>"",VLOOKUP($B98,Deelnemers2026!$B$2:$E$345,2,FALSE),"")
C99: =IF($B99<>"",VLOOKUP($B99,Deelnemers2026!$B$2:$E$345,2,FALSE),"")
A100: 4 | C100: =IF($B100<>"",VLOOKUP($B100,Deelnemers2026!$B$2:$E$345,2,FALSE),"") | H100: 13 | O100: 22
B101: 10.50 | C101: Ring 1 | D101: Vaarzen zwartbont | I101: 10.50 | J101: Ring 2 | K101: Midden zwartbont | P101: 11.10 | Q101: Ring 3 | R101: Roodbont jong
B102: cat nr. | C102: Naam | D102: Vader | E102: Eigenaar | F102: Plaats | I102: cat nr. | J102: Naam | K102: Vader | L102: Eigenaar | M102: Plaats | P102: cat nr. | Q102: Naam | R102: Vader | S102: Eigenaar | T102: Plaats
B103: 20 | C103: =IF($B103<>"",VLOOKUP($B103,Deelnemers2026!$B$2:$G$345,2,FALSE),"") -> Bons-Holsteins Koba 310 | D103: =IF($B103<>"",VLOOKUP($B103,Deelnemers2026!$B$2:$G$345,3,FALSE),"") -> Mb-Luckylady Bullseye | E103: =IF($B103<>"",VLOOKUP($B103,Deelnemers2026!$B$2:$G$345,4,FALSE),"") -> Bons-Holsteins | F103: =IF($B103<>"",VLOOKUP($B103,Deelnemers2026!$B$2:$G$345,5,FALSE),"") -> Ottoland | I103: 118 | J103: =IF($I103<>"",VLOOKUP($I103,Deelnemers2026!$B$2:$G$345,2,FALSE),"") -> Bertha 220 | K103: =IF($I103<>"",VLOOKUP($I103,Deelnemers2026!$B$2:$G$345,3,FALSE),"") -> Stantons Chief | L103: =IF($I103<>"",VLOOKUP($I103,Deelnemers2026!$B$2:$G$345,4,FALSE),"") -> Fa de Groot | M103: =IF($I103<>"",VLOOKUP($I103,Deelnemers2026!$B$2:$G$345,5,FALSE),"") -> Everdingen | P103: 209 | Q103: =IF($P103<>"",VLOOKUP($P103,Deelnemers2026!$B$2:$G$345,2,FALSE),"") -> Driemolens Saskia 1177 | R103: =IF($P103<>"",VLOOKUP($P103,Deelnemers2026!$B$2:$G$345,3,FALSE),"") -> 3star Oh Ranger Red-ET | S103: =IF($P103<>"",VLOOKUP($P103,Deelnemers2026!$B$2:$G$345,4,FALSE),"") -> Melkveebedrijf van Zessen | T103: =IF($P103<>"",VLOOKUP($P103,Deelnemers2026!$B$2:$G$345,5,FALSE),"") -> Lexmond
B104: 21 | C104: =IF($B104<>"",VLOOKUP($B104,Deelnemers2026!$B$2:$G$345,2,FALSE),"") -> Wilhelmina 633 | D104: =IF($B104<>"",VLOOKUP($B104,Deelnemers2026!$B$2:$G$345,3,FALSE),"") -> Vdr Slash | E104: =IF($B104<>"",VLOOKUP($B104,Deelnemers2026!$B$2:$G$345,4,FALSE),"") -> Vof Kemp Zijderveld | F104: =IF($B104<>"",VLOOKUP($B104,Deelnemers2026!$B$2:$G$345,5,FALSE),"") -> Zijderveld | I104: 29 | J104: =IF($I104<>"",VLOOKUP($I104,Deelnemers2026!$B$2:$G$345,2,FALSE),"") -> Aaltje 395 | K104: =IF($I104<>"",VLOOKUP($I104,Deelnemers2026!$B$2:$G$345,3,FALSE),"") -> Delta Lustrum | L104: =IF($I104<>"",VLOOKUP($I104,Deelnemers2026!$B$2:$G$345,4,FALSE),"") -> D A Keijzer Vof | M104: =IF($I104<>"",VLOOKUP($I104,Deelnemers2026!$B$2:$G$345,5,FALSE),"") -> Gorinchem | P104: 212 | Q104: =IF($P104<>"",VLOOKUP($P104,Deelnemers2026!$B$2:$G$345,2,FALSE),"") -> Hbc Atomic Jolda | R104: =IF($P104<>"",VLOOKUP($P104,Deelnemers2026!$B$2:$G$345,3,FALSE),"") -> Larcrest Atomic-Red | S104: =IF($P104<>"",VLOOKUP($P104,Deelnemers2026!$B$2:$G$345,4,FALSE),"") -> Schep Holsteins Holland BV | T104: =IF($P104<>"",VLOOKUP($P104,Deelnemers2026!$B$2:$G$345,5,FALSE),"") -> Bergambacht
B105: 116 | C105: =IF($B105<>"",VLOOKUP($B105,Deelnemers2026!$B$2:$G$345,2,FALSE),"") -> Harris Ashlyn | D105: =IF($B105<>"",VLOOKUP($B105,Deelnemers2026!$B$2:$G$345,3,FALSE),"") -> Mattenhof Harris | E105: =IF($B105<>"",VLOOKUP($B105,Deelnemers2026!$B$2:$G$345,4,FALSE),"") -> Fa de Groot | F105: =IF($B105<>"",VLOOKUP($B105,Deelnemers2026!$B$2:$G$345,5,FALSE),"") -> Everdingen | I105: 30 | J105: =IF($I105<>"",VLOOKUP($I105,Deelnemers2026!$B$2:$G$345,2,FALSE),"") -> M.H. Locket 3 | K105: =IF($I105<>"",VLOOKUP($I105,Deelnemers2026!$B$2:$G$345,3,FALSE),"") -> Cookiecutter Harrisenna | L105: =IF($I105<>"",VLOOKUP($I105,Deelnemers2026!$B$2:$G$345,4,FALSE),"") -> Merwehoeve de Groot V.O.F. | M105: =IF($I105<>"",VLOOKUP($I105,Deelnemers2026!$B$2:$G$345,5,FALSE),"") -> Herwijnen | P105: 213 | Q105: =IF($P105<>"",VLOOKUP($P105,Deelnemers2026!$B$2:$G$345,2,FALSE),"") -> Welland Dirkje 377 | R105: =IF($P105<>"",VLOOKUP($P105,Deelnemers2026!$B$2:$G$345,3,FALSE),"") -> Drouner Potency Red | S105: =IF($P105<>"",VLOOKUP($P105,Deelnemers2026!$B$2:$G$345,4,FALSE),"") -> A en R van der Wel | T105: =IF($P105<>"",VLOOKUP($P105,Deelnemers2026!$B$2:$G$345,5,FALSE),"") -> Hoogblokland
B106: 22 | C106: =IF($B106<>"",VLOOKUP($B106,Deelnemers2026!$B$2:$G$345,2,FALSE),"") -> Bons-Holsteins Koba 309 | D106: =IF($B106<>"",VLOOKUP($B106,Deelnemers2026!$B$2:$G$345,3,FALSE),"") -> Mb-Luckylady Bullseye | E106: =IF($B106<>"",VLOOKUP($B106,Deelnemers2026!$B$2:$G$345,4,FALSE),"") -> Bons-Holsteins | F106: =IF($B106<>"",VLOOKUP($B106,Deelnemers2026!$B$2:$G$345,5,FALSE),"") -> Ottoland | I106: 31 | J106: =IF($I106<>"",VLOOKUP($I106,Deelnemers2026!$B$2:$G$345,2,FALSE),"") -> De Witboom Marijke 1 | K106: =IF($I106<>"",VLOOKUP($I106,Deelnemers2026!$B$2:$G$345,3,FALSE),"") -> Peak Hotline | L106: =IF($I106<>"",VLOOKUP($I106,Deelnemers2026!$B$2:$G$345,4,FALSE),"") -> Vof Versluis den Otter | M106: =IF($I106<>"",VLOOKUP($I106,Deelnemers2026!$B$2:$G$345,5,FALSE),"") -> Ameide | P106: 215 | Q106: =IF($P106<>"",VLOOKUP($P106,Deelnemers2026!$B$2:$G$345,2,FALSE),"") -> Bertha 106 | R106: =IF($P106<>"",VLOOKUP($P106,Deelnemers2026!$B$2:$G$345,3,FALSE),"") -> Uenk Pontos Red | S106: =IF($P106<>"",VLOOKUP($P106,Deelnemers2026!$B$2:$G$345,4,FALSE),"") -> Vof Pellikaan-de Jong | T106: =IF($P106<>"",VLOOKUP($P106,Deelnemers2026!$B$2:$G$345,5,FALSE),"") -> Meerkerk
B107: 117 | C107: =IF($B107<>"",VLOOKUP($B107,Deelnemers2026!$B$2:$G$345,2,FALSE),"") -> Hiltje 67 | D107: =IF($B107<>"",VLOOKUP($B107,Deelnemers2026!$B$2:$G$345,3,FALSE),"") -> Broekhuizen Pepijn | E107: =IF($B107<>"",VLOOKUP($B107,Deelnemers2026!$B$2:$G$345,4,FALSE),"") -> Vof Harteveld | F107: =IF($B107<>"",VLOOKUP($B107,Deelnemers2026!$B$2:$G$345,5,FALSE),"") -> Ameide | I107: 32 | J107: =IF($I107<>"",VLOOKUP($I107,Deelnemers2026!$B$2:$G$345,2,FALSE),"") -> Juliana 1053 | K107: =IF($I107<>"",VLOOKUP($I107,Deelnemers2026!$B$2:$G$345,3,FALSE),"") -> Delta Perfect | L107: =IF($I107<>"",VLOOKUP($I107,Deelnemers2026!$B$2:$G$345,4,FALSE),"") -> Mts Timmer-van Dijk | M107: =IF($I107<>"",VLOOKUP($I107,Deelnemers2026!$B$2:$G$345,5,FALSE),"") -> Noordeloos | P107: 216 | Q107: =IF($P107<>"",VLOOKUP($P107,Deelnemers2026!$B$2:$G$345,2,FALSE),"") -> Driemolens Nelly 627 | R107: =IF($P107<>"",VLOOKUP($P107,Deelnemers2026!$B$2:$G$345,3,FALSE),"") -> Caudumer Lifesaver-Red | S107: =IF($P107<>"",VLOOKUP($P107,Deelnemers2026!$B$2:$G$345,4,FALSE),"") -> Melkveebedrijf van Zessen | T107: =IF($P107<>"",VLOOKUP($P107,Deelnemers2026!$B$2:$G$345,5,FALSE),"") -> Lexmond
B108: 24 | C108: =IF($B108<>"",VLOOKUP($B108,Deelnemers2026!$B$2:$G$345,2,FALSE),"") -> Bertha 218 | D108: =IF($B108<>"",VLOOKUP($B108,Deelnemers2026!$B$2:$G$345,3,FALSE),"") -> Cherry-Lily Zip Luster-P | E108: =IF($B108<>"",VLOOKUP($B108,Deelnemers2026!$B$2:$G$345,4,FALSE),"") -> Fa de Groot | F108: =IF($B108<>"",VLOOKUP($B108,Deelnemers2026!$B$2:$G$345,5,FALSE),"") -> Everdingen | I108: 33 | J108: =IF($I108<>"",VLOOKUP($I108,Deelnemers2026!$B$2:$G$345,2,FALSE),"") -> Hbc Lambda Sheila 2 | K108: =IF($I108<>"",VLOOKUP($I108,Deelnemers2026!$B$2:$G$345,3,FALSE),"") -> Delta Lambda | L108: =IF($I108<>"",VLOOKUP($I108,Deelnemers2026!$B$2:$G$345,4,FALSE),"") -> Schep Holsteins Holland BV | M108: =IF($I108<>"",VLOOKUP($I108,Deelnemers2026!$B$2:$G$345,5,FALSE),"") -> Bergambacht | P108: 218 | Q108: =IF($P108<>"",VLOOKUP($P108,Deelnemers2026!$B$2:$G$345,2,FALSE),"") -> Petra 69 | R108: =IF($P108<>"",VLOOKUP($P108,Deelnemers2026!$B$2:$G$345,3,FALSE),"") -> Uenk Pontos Red | S108: =IF($P108<>"",VLOOKUP($P108,Deelnemers2026!$B$2:$G$345,4,FALSE),"") -> Vof Pellikaan-de Jong | T108: =IF($P108<>"",VLOOKUP($P108,Deelnemers2026!$B$2:$G$345,5,FALSE),"") -> Meerkerk
B109: 25 | C109: =IF($B109<>"",VLOOKUP($B109,Deelnemers2026!$B$2:$G$345,2,FALSE),"") -> Giessenhof Sannie 491 | D109: =IF($B109<>"",VLOOKUP($B109,Deelnemers2026!$B$2:$G$345,3,FALSE),"") -> Delta Lucardi | E109: =IF($B109<>"",VLOOKUP($B109,Deelnemers2026!$B$2:$G$345,4,FALSE),"") -> Mts Kortleve-Kooijman | F109: =IF($B109<>"",VLOOKUP($B109,Deelnemers2026!$B$2:$G$345,5,FALSE),"") -> Noordeloos | I109: 35 | J109: =IF($I109<>"",VLOOKUP($I109,Deelnemers2026!$B$2:$G$345,2,FALSE),"") -> De Witboom Nelly 726 | K109: =IF($I109<>"",VLOOKUP($I109,Deelnemers2026!$B$2:$G$345,3,FALSE),"") -> Cherry-Lily Zip Luster-P | L109: =IF($I109<>"",VLOOKUP($I109,Deelnemers2026!$B$2:$G$345,4,FALSE),"") -> Vof Versluis den Otter | M109: =IF($I109<>"",VLOOKUP($I109,Deelnemers2026!$B$2:$G$345,5,FALSE),"") -> Ameide | P109: 219 | Q109: =IF($P109<>"",VLOOKUP($P109,Deelnemers2026!$B$2:$G$345,2,FALSE),"") -> Grashoek Gerie 229 | R109: =IF($P109<>"",VLOOKUP($P109,Deelnemers2026!$B$2:$G$345,3,FALSE),"") -> Blogger | S109: =IF($P109<>"",VLOOKUP($P109,Deelnemers2026!$B$2:$G$345,4,FALSE),"") -> A en R van der Wel | T109: =IF($P109<>"",VLOOKUP($P109,Deelnemers2026!$B$2:$G$345,5,FALSE),"") -> Hoogblokland
C110: =IF($B110<>"",VLOOKUP($B110,Deelnemers2026!$B$2:$G$345,2,FALSE),"") | D110: =IF($B110<>"",VLOOKUP($B110,Deelnemers2026!$B$2:$G$345,3,FALSE),"") | E110: =IF($B110<>"",VLOOKUP($B110,Deelnemers2026!$B$2:$G$345,4,FALSE),"") | F110: =IF($B110<>"",VLOOKUP($B110,Deelnemers2026!$B$2:$G$345,5,FALSE),"") | I110: 36 | J110: =IF($I110<>"",VLOOKUP($I110,Deelnemers2026!$B$2:$G$345,2,FALSE),"") -> Lijsje 259 | K110: =IF($I110<>"",VLOOKUP($I110,Deelnemers2026!$B$2:$G$345,3,FALSE),"") -> Ocd Montross Laidlaw | L110: =IF($I110<>"",VLOOKUP($I110,Deelnemers2026!$B$2:$G$345,4,FALSE),"") -> Fa de Groot | M110: =IF($I110<>"",VLOOKUP($I110,Deelnemers2026!$B$2:$G$345,5,FALSE),"") -> Everdingen | Q110: =IF($P110<>"",VLOOKUP($P110,Deelnemers2026!$B$2:$G$345,2,FALSE),"") | R110: =IF($P110<>"",VLOOKUP($P110,Deelnemers2026!$B$2:$G$345,3,FALSE),"") | S110: =IF($P110<>"",VLOOKUP($P110,Deelnemers2026!$B$2:$G$345,4,FALSE),"") | T110: =IF($P110<>"",VLOOKUP($P110,Deelnemers2026!$B$2:$G$345,5,FALSE),"")
C111: =IF($B111<>"",VLOOKUP($B111,Deelnemers2026!$B$2:$G$345,2,FALSE),"") | D111: =IF($B111<>"",VLOOKUP($B111,Deelnemers2026!$B$2:$G$345,3,FALSE),"") | E111: =IF($B111<>"",VLOOKUP($B111,Deelnemers2026!$B$2:$G$345,4,FALSE),"") | F111: =IF($B111<>"",VLOOKUP($B111,Deelnemers2026!$B$2:$G$345,5,FALSE),"") | I111: 119 | J111: =IF($I111<>"",VLOOKUP($I111,Deelnemers2026!$B$2:$G$345,2,FALSE),"") -> Koba 314 | K111: =IF($I111<>"",VLOOKUP($I111,Deelnemers2026!$B$2:$G$345,3,FALSE),"") -> Mauro-Red | L111: =IF($I111<>"",VLOOKUP($I111,Deelnemers2026!$B$2:$G$345,4,FALSE),"") -> Fa C Terlouw | M111: =IF($I111<>"",VLOOKUP($I111,Deelnemers2026!$B$2:$G$345,5,FALSE),"") -> Bleskensgraaf Ca | Q111: =IF($P111<>"",VLOOKUP($P111,Deelnemers2026!$B$2:$G$345,2,FALSE),"") | R111: =IF($P111<>"",VLOOKUP($P111,Deelnemers2026!$B$2:$G$345,3,FALSE),"") | S111: =IF($P111<>"",VLOOKUP($P111,Deelnemers2026!$B$2:$G$345,4,FALSE),"") | T111: =IF($P111<>"",VLOOKUP($P111,Deelnemers2026!$B$2:$G$345,5,FALSE),"")
C112: =IF($B112<>"",VLOOKUP($B112,Deelnemers2026!$B$2:$G$345,2,FALSE),"") | D112: =IF($B112<>"",VLOOKUP($B112,Deelnemers2026!$B$2:$G$345,3,FALSE),"") | E112: =IF($B112<>"",VLOOKUP($B112,Deelnemers2026!$B$2:$G$345,4,FALSE),"") | F112: =IF($B112<>"",VLOOKUP($B112,Deelnemers2026!$B$2:$G$345,5,FALSE),"") | I112: 37 | J112: =IF($I112<>"",VLOOKUP($I112,Deelnemers2026!$B$2:$G$345,2,FALSE),"") -> Margriet 548 | K112: =IF($I112<>"",VLOOKUP($I112,Deelnemers2026!$B$2:$G$345,3,FALSE),"") -> Legend-Maker Victor | L112: =IF($I112<>"",VLOOKUP($I112,Deelnemers2026!$B$2:$G$345,4,FALSE),"") -> Vof de Bruin | M112: =IF($I112<>"",VLOOKUP($I112,Deelnemers2026!$B$2:$G$345,5,FALSE),"") -> Giessenburg | Q112: =IF($P112<>"",VLOOKUP($P112,Deelnemers2026!$B$2:$G$345,2,FALSE),"") | R112: =IF($P112<>"",VLOOKUP($P112,Deelnemers2026!$B$2:$G$345,3,FALSE),"") | S112: =IF($P112<>"",VLOOKUP($P112,Deelnemers2026!$B$2:$G$345,4,FALSE),"") | T112: =IF($P112<>"",VLOOKUP($P112,Deelnemers2026!$B$2:$G$345,5,FALSE),"")
C113: =IF($B113<>"",VLOOKUP($B113,Deelnemers2026!$B$2:$G$345,2,FALSE),"") | D113: =IF($B113<>"",VLOOKUP($B113,Deelnemers2026!$B$2:$G$345,3,FALSE),"") | E113: =IF($B113<>"",VLOOKUP($B113,Deelnemers2026!$B$2:$G$345,4,FALSE),"") | F113: =IF($B113<>"",VLOOKUP($B113,Deelnemers2026!$B$2:$G$345,5,FALSE),"") | I113: 38 | J113: =IF($I113<>"",VLOOKUP($I113,Deelnemers2026!$B$2:$G$345,2,FALSE),"") -> Bons-Holsteins Ella 274 | K113: =IF($I113<>"",VLOOKUP($I113,Deelnemers2026!$B$2:$G$345,3,FALSE),"") -> Mr Chassity Gold Chip | L113: =IF($I113<>"",VLOOKUP($I113,Deelnemers2026!$B$2:$G$345,4,FALSE),"") -> Bons-Holsteins | M113: =IF($I113<>"",VLOOKUP($I113,Deelnemers2026!$B$2:$G$345,5,FALSE),"") -> Ottoland | Q113: =IF($P113<>"",VLOOKUP($P113,Deelnemers2026!$B$2:$G$345,2,FALSE),"") | R113: =IF($P113<>"",VLOOKUP($P113,Deelnemers2026!$B$2:$G$345,3,FALSE),"") | S113: =IF($P113<>"",VLOOKUP($P113,Deelnemers2026!$B$2:$G$345,4,FALSE),"") | T113: =IF($P113<>"",VLOOKUP($P113,Deelnemers2026!$B$2:$G$345,5,FALSE),"")
C114: =IF($B114<>"",VLOOKUP($B114,Deelnemers2026!$B$2:$G$345,2,FALSE),"") | D114: =IF($B114<>"",VLOOKUP($B114,Deelnemers2026!$B$2:$G$345,3,FALSE),"") | E114: =IF($B114<>"",VLOOKUP($B114,Deelnemers2026!$B$2:$G$345,4,FALSE),"") | F114: =IF($B114<>"",VLOOKUP($B114,Deelnemers2026!$B$2:$G$345,5,FALSE),"") | I114: 39 | J114: =IF($I114<>"",VLOOKUP($I114,Deelnemers2026!$B$2:$G$345,2,FALSE),"") -> J.S.Energy Hennie | K114: =IF($I114<>"",VLOOKUP($I114,Deelnemers2026!$B$2:$G$345,3,FALSE),"") -> Blondin Energy | L114: =IF($I114<>"",VLOOKUP($I114,Deelnemers2026!$B$2:$G$345,4,FALSE),"") -> Vof Jongsteins | M114: =IF($I114<>"",VLOOKUP($I114,Deelnemers2026!$B$2:$G$345,5,FALSE),"") -> Hoogblokland | Q114: =IF($P114<>"",VLOOKUP($P114,Deelnemers2026!$B$2:$G$345,2,FALSE),"") | R114: =IF($P114<>"",VLOOKUP($P114,Deelnemers2026!$B$2:$G$345,3,FALSE),"") | S114: =IF($P114<>"",VLOOKUP($P114,Deelnemers2026!$B$2:$G$345,4,FALSE),"") | T114: =IF($P114<>"",VLOOKUP($P114,Deelnemers2026!$B$2:$G$345,5,FALSE),"")
C115: =IF($B115<>"",VLOOKUP($B115,Deelnemers2026!$B$2:$E$345,2,FALSE),"") | J115: =IF($I115<>"",VLOOKUP($I115,Deelnemers2026!$B$2:$G$345,2,FALSE),"") | K115: =IF($I115<>"",VLOOKUP($I115,Deelnemers2026!$B$2:$G$345,3,FALSE),"") | L115: =IF($I115<>"",VLOOKUP($I115,Deelnemers2026!$B$2:$G$345,4,FALSE),"") | M115: =IF($I115<>"",VLOOKUP($I115,Deelnemers2026!$B$2:$G$345,5,FALSE),"") | Q115: =IF($P115<>"",VLOOKUP($P115,Deelnemers2026!$B$2:$G$345,2,FALSE),"") | R115: =IF($P115<>"",VLOOKUP($P115,Deelnemers2026!$B$2:$G$345,3,FALSE),"") | S115: =IF($P115<>"",VLOOKUP($P115,Deelnemers2026!$B$2:$G$345,4,FALSE),"") | T115: =IF($P115<>"",VLOOKUP($P115,Deelnemers2026!$B$2:$G$345,5,FALSE),"")
C116: =IF($B116<>"",VLOOKUP($B116,Deelnemers2026!$B$2:$E$345,2,FALSE),"") | J116: =IF($I116<>"",VLOOKUP($I116,Deelnemers2026!$B$2:$G$345,2,FALSE),"") | K116: =IF($I116<>"",VLOOKUP($I116,Deelnemers2026!$B$2:$G$345,3,FALSE),"") | L116: =IF($I116<>"",VLOOKUP($I116,Deelnemers2026!$B$2:$G$345,4,FALSE),"") | M116: =IF($I116<>"",VLOOKUP($I116,Deelnemers2026!$B$2:$G$345,5,FALSE),"")
C117: =IF($B117<>"",VLOOKUP($B117,Deelnemers2026!$B$2:$E$345,2,FALSE),"")
C118: =IF($B118<>"",VLOOKUP($B118,Deelnemers2026!$B$2:$E$345,2,FALSE),"")
C119: =IF($B119<>"",VLOOKUP($B119,Deelnemers2026!$B$2:$E$345,2,FALSE),"")
C120: =IF($B120<>"",VLOOKUP($B120,Deelnemers2026!$B$2:$E$345,2,FALSE),"")
C121: =IF($B121<>"",VLOOKUP($B121,Deelnemers2026!$B$2:$E$345,2,FALSE),"")
C122: =IF($B122<>"",VLOOKUP($B122,Deelnemers2026!$B$2:$E$345,2,FALSE),"")
C123: =IF($B123<>"",VLOOKUP($B123,Deelnemers2026!$B$2:$E$345,2,FALSE),"")
...

Sheet Uitslag ZB
A2: R1 | B2: jong z | C2: ZB Melkvaarzen
B3: cat nr. | C3: Naam | D3: Vader | E3: eigenaar | F3: plaats
A4: 1A | B4: 11 | C4: =IF(B4<>"",VLOOKUP(B4,Deelnemers2026!$B$2:$E$345,2,FALSE),"") -> Mina 260 | D4: =IF(B4<>"",VLOOKUP(B4,Deelnemers2026!$B$2:$E$345,3,FALSE),"") -> 1063 | E4: =IF(B4<>"",VLOOKUP(B4,Deelnemers2026!$B$2:$F$345,4,FALSE),"") -> Het Lam Vof | F4: =IF(B4<>"",VLOOKUP(B4,Deelnemers2026!$B$2:$F$345,5,FALSE),"") -> Leerbroek
A6: 1B | B6: 3 | C6: =IF(B6<>"",VLOOKUP(B6,Deelnemers2026!$B$2:$E$345,2,FALSE),"") -> Margriet 578 | D6: =IF(B6<>"",VLOOKUP(B6,Deelnemers2026!$B$2:$F$345,3,FALSE),"") -> Fustsyn Parfect Parker | E6: =IF(B6<>"",VLOOKUP(B6,Deelnemers2026!$B$2:$F$345,4,FALSE),"") -> Vof de Bruin | F6: =IF(B6<>"",VLOOKUP(B6,Deelnemers2026!$B$2:$F$345,5,FALSE),"") -> Giessenburg
A8: 1C | B8: 9 | C8: =IF(B8<>"",VLOOKUP(B8,Deelnemers2026!$B$2:$E$345,2,FALSE),"") -> J.S.J.T. Chief Faire | D8: =IF(B8<>"",VLOOKUP(B8,Deelnemers2026!$B$2:$F$345,3,FALSE),"") -> Stantons Chief | E8: =IF(B8<>"",VLOOKUP(B8,Deelnemers2026!$B$2:$F$345,4,FALSE),"") -> Vof Jongsteins | F8: =IF(B8<>"",VLOOKUP(B8,Deelnemers2026!$B$2:$F$345,5,FALSE),"") -> Hoogblokland
A10: Beste uier: | B10: 9 | C10: =IF(B10<>"",VLOOKUP(B10,Deelnemers2026!$B$2:$E$345,2,FALSE),"") -> J.S.J.T. Chief Faire | D10: =IF(B10<>"",VLOOKUP(B10,Deelnemers2026!$B$2:$F$345,3,FALSE),"") -> Stantons Chief | E10: =IF(B10<>"",VLOOKUP(B10,Deelnemers2026!$B$2:$F$345,4,FALSE),"") -> Vof Jongsteins | F10: =IF(B10<>"",VLOOKUP(B10,Deelnemers2026!$B$2:$F$345,5,FALSE),"") -> Hoogblokland
A11: Resterende uitslag:
C12: =IF(B12<>"",VLOOKUP(B12,Deelnemers2026!$B$2:$E$345,2,FALSE),"") | D12: =IF(B12<>"",VLOOKUP(B12,Deelnemers2026!$B$2:$F$345,3,FALSE),"") | E12: =IF(B12<>"",VLOOKUP(B12,Deelnemers2026!$B$2:$F$345,4,FALSE),"") | F12: =IF(B12<>"",VLOOKUP(B12,Deelnemers2026!$B$2:$F$345,5,FALSE),"")
A13: R2 | B13: jong z | C13: ZB Melkvaarzen
B14: cat nr. | C14: Naam | D14: Vader | E14: Eigenaar | F14: Plaats
A15: 1A | B15: 14 | C15: =IF(B15<>"",VLOOKUP(B15,Deelnemers2026!$B$2:$E$345,2,FALSE),"") -> Bons-Holsteins Koba 314 | D15: =IF(B15<>"",VLOOKUP(B15,Deelnemers2026!$B$2:$F$345,3,FALSE),"") -> Stantons Alligator | E15: =IF(B15<>"",VLOOKUP(B15,Deelnemers2026!$B$2:$F$345,4,FALSE),"") -> Bons-Holsteins | F15: =IF(B15<>"",VLOOKUP(B15,Deelnemers2026!$B$2:$F$345,5,FALSE),"") -> Ottoland
A17: 1B | B17: 15 | C17: =IF(B17<>"",VLOOKUP(B17,Deelnemers2026!$B$2:$E$345,2,FALSE),"") -> Margriet 398 | D17: =IF(B17<>"",VLOOKUP(B17,Deelnemers2026!$B$2:$F$345,3,FALSE),"") -> Bertt | E17: =IF(B17<>"",VLOOKUP(B17,Deelnemers2026!$B$2:$F$345,4,FALSE),"") -> Het Lam Vof | F17: =IF(B17<>"",VLOOKUP(B17,Deelnemers2026!$B$2:$F$345,5,FALSE),"") -> Leerbroek
A19: 1C | B19: 12 | C19: =IF(B19<>"",VLOOKUP(B19,Deelnemers2026!$B$2:$E$345,2,FALSE),"") -> Mattenhof Lambda Hazel | D19: =IF(B19<>"",VLOOKUP(B19,Deelnemers2026!$B$2:$F$345,3,FALSE),"") -> Farnear Delta-Lambda | E19: =IF(B19<>"",VLOOKUP(B19,Deelnemers2026!$B$2:$F$345,4,FALSE),"") -> Schep Holsteins Holland BV en ALH Genetics | F19: =IF(B19<>"",VLOOKUP(B19,Deelnemers2026!$B$2:$F$345,5,FALSE),"") -> Bergambacht/Damwoude
A21: Beste uier: | B21: 15 | C21: =IF(B21<>"",VLOOKUP(B21,Deelnemers2026!$B$2:$E$345,2,FALSE),"") -> Margriet 398 | D21: =IF(B21<>"",VLOOKUP(B21,Deelnemers2026!$B$2:$F$345,3,FALSE),"") -> Bertt | E21: =IF(B21<>"",VLOOKUP(B21,Deelnemers2026!$B$2:$F$345,4,FALSE),"") -> Het Lam Vof | F21: =IF(B21<>"",VLOOKUP(B21,Deelnemers2026!$B$2:$F$345,5,FALSE),"") -> Leerbroek
A22: Resterende uitslag: | B22: 13, 19, 16, 115, 18, 17
C23: =IF(B23<>"",VLOOKUP(B23,Deelnemers2026!$B$2:$E$345,2,FALSE),"") | D23: =IF(B23<>"",VLOOKUP(B23,Deelnemers2026!$B$2:$F$345,3,FALSE),"") | E23: =IF(B23<>"",VLOOKUP(B23,Deelnemers2026!$B$2:$F$345,4,FALSE),"") | F23: =IF(B23<>"",VLOOKUP(B23,Deelnemers2026!$B$2:$F$345,5,FALSE),"")
A24: R3 | B24: jong z | C24: ZB Melkvaarzen
B25: cat nr. | C25: Naam | D25: Vader | E25: Eigenaar | F25: Plaats
A26: 1A | B26: 24 | C26: =IF(B26<>"",VLOOKUP(B26,Deelnemers2026!$B$2:$E$345,2,FALSE),"") -> Bertha 218 | D26: =IF(B26<>"",VLOOKUP(B26,Deelnemers2026!$B$2:$F$345,3,FALSE),"") -> Cherry-Lily Zip Luster-P | E26: =IF(B26<>"",VLOOKUP(B26,Deelnemers2026!$B$2:$F$345,4,FALSE),"") -> Fa de Groot | F26: =IF(B26<>"",VLOOKUP(B26,Deelnemers2026!$B$2:$F$345,5,FALSE),"") -> Everdingen
A28: 1B | B28: 22 | C28: =IF(B28<>"",VLOOKUP(B28,Deelnemers2026!$B$2:$E$345,2,FALSE),"") -> Bons-Holsteins Koba 309 | D28: =IF(B28<>"",VLOOKUP(B28,Deelnemers2026!$B$2:$F$345,3,FALSE),"") -> Mb-Luckylady Bullseye | E28: =IF(B28<>"",VLOOKUP(B28,Deelnemers2026!$B$2:$F$345,4,FALSE),"") -> Bons-Holsteins
A30: 1C | B30: 20 | C30: =IF(B30<>"",VLOOKUP(B30,Deelnemers2026!$B$2:$E$345,2,FALSE),"") -> Bons-Holsteins Koba 310 | D30: =IF(B30<>"",VLOOKUP(B30,Deelnemers2026!$B$2:$F$345,3,FALSE),"") -> Mb-Luckylady Bullseye | E30: =IF(B30<>"",VLOOKUP(B30,Deelnemers2026!$B$2:$F$345,4,FALSE),"") -> Bons-Holsteins | F30: =IF(B30<>"",VLOOKUP(B30,Deelnemers2026!$B$2:$F$345,5,FALSE),"") -> Ottoland
A32: Beste uier: | B32: 24 | C32: =IF(B32<>"",VLOOKUP(B32,Deelnemers2026!$B$2:$E$345,2,FALSE),"") -> Bertha 218 | D32: =IF(B32<>"",VLOOKUP(B32,Deelnemers2026!$B$2:$F$345,3,FALSE),"") -> Cherry-Lily Zip Luster-P | E32: =IF(B32<>"",VLOOKUP(B32,Deelnemers2026!$B$2:$F$345,4,FALSE),"") -> Fa de Groot | F32: =IF(B32<>"",VLOOKUP(B32,Deelnemers2026!$B$2:$F$345,5,FALSE),"") -> Everdingen
A33: Resterende uitslag: | B33: 25, 117, 21
C34: =IF(B34<>"",VLOOKUP(B34,Deelnemers2026!$B$2:$E$345,2,FALSE),"") | D34: =IF(B34<>"",VLOOKUP(B34,Deelnemers2026!$B$2:$F$345,3,FALSE),"") | E34: =IF(B34<>"",VLOOKUP(B34,Deelnemers2026!$B$2:$F$345,4,FALSE),"") | F34: =IF(B34<>"",VLOOKUP(B34,Deelnemers2026!$B$2:$F$345,5,FALSE),"")
A35: R1 | B35: midden z | C35: ZB Middenklasse
B36: cat nr. | C36: Naam | D36: Vader | E36: Eigenaar | F36: Plaats
A37: 1A | B37: 118 | C37: =IF(B37<>"",VLOOKUP(B37,Deelnemers2026!$B$2:$E$345,2,FALSE),"") -> Bertha 220 | D37: =IF(B37<>"",VLOOKUP(B37,Deelnemers2026!$B$2:$F$345,3,FALSE),"") -> Stantons Chief | E37: =IF(B37<>"",VLOOKUP(B37,Deelnemers2026!$B$2:$F$345,4,FALSE),"") -> Fa de Groot | F37: =IF(B37<>"",VLOOKUP(B37,Deelnemers2026!$B$2:$F$345,5,FALSE),"") -> Everdingen
A39: 1B | B39: 35 | C39: =IF(B39<>"",VLOOKUP(B39,Deelnemers2026!$B$2:$E$345,2,FALSE),"") -> De Witboom Nelly 726 | D39: =IF(B39<>"",VLOOKUP(B39,Deelnemers2026!$B$2:$F$345,3,FALSE),"") -> Cherry-Lily Zip Luster-P | E39: =IF(B39<>"",VLOOKUP(B39,Deelnemers2026!$B$2:$F$345,4,FALSE),"") -> Vof Versluis den Otter | F39: =IF(B39<>"",VLOOKUP(B39,Deelnemers2026!$B$2:$F$345,5,FALSE),"") -> Ameide
A41: 1C | B41: 38 | C41: =IF(B41<>"",VLOOKUP(B41,Deelnemers2026!$B$2:$E$345,2,FALSE),"") -> Bons-Holsteins Ella 274 | D41: =IF(B41<>"",VLOOKUP(B41,Deelnemers2026!$B$2:$F$345,3,FALSE),"") -> Mr Chassity Gold Chip | E41: =IF(B41<>"",VLOOKUP(B41,Deelnemers2026!$B$2:$F$345,4,FALSE),"") -> Bons-Holsteins | F41: =IF(B41<>"",VLOOKUP(B41,Deelnemers2026!$B$2:$F$345,5,FALSE),"") -> Ottoland
A43: Beste uier: | B43: 118 | C43: =IF(B43<>"",VLOOKUP(B43,Deelnemers2026!$B$2:$E$345,2,FALSE),"") -> Bertha 220 | D43: =IF(B43<>"",VLOOKUP(B43,Deelnemers2026!$B$2:$F$345,3,FALSE),"") -> Stantons Chief | E43: =IF(B43<>"",VLOOKUP(B43,Deelnemers2026!$B$2:$F$345,4,FALSE),"") -> Fa de Groot | F43: =IF(B43<>"",VLOOKUP(B43,Deelnemers2026!$B$2:$F$345,5,FALSE),"") -> Everdingen
A44: Resterende uitslag: | B44: 33, 36, 39, 31, 37, 29, 119
C45: =IF(B45<>"",VLOOKUP(B45,Deelnemers2026!$B$2:$E$345,2,FALSE),"") | D45: =IF(B45<>"",VLOOKUP(B45,Deelnemers2026!$B$2:$F$345,3,FALSE),"") | E45: =IF(B45<>"",VLOOKUP(B45,Deelnemers2026!$B$2:$F$345,4,FALSE),"") | F45: =IF(B45<>"",VLOOKUP(B45,Deelnemers2026!$B$2:$F$345,5,FALSE),"")
A46: R2 | B46: midden z | C46: ZB Middenklasse
C47: Naam | D47: Vader | E47: Eigenaar | F47: Plaats
A48: 1A | B48: 52 | C48: =IF(B48<>"",VLOOKUP(B48,Deelnemers2026!$B$2:$E$345,2,FALSE),"") -> Wilhelmina 641 | D48: =IF(B48<>"",VLOOKUP(B48,Deelnemers2026!$B$2:$F$345,3,FALSE),"") -> Farnear Delta-Lambda | E48: =IF(B48<>"",VLOOKUP(B48,Deelnemers2026!$B$2:$F$345,4,FALSE),"") -> Mts van Dijk-de Bruin | F48: =IF(B48<>"",VLOOKUP(B48,Deelnemers2026!$B$2:$F$345,5,FALSE),"") -> Giessenburg
A50: 1B | B50: 58 | C50: =IF(B50<>"",VLOOKUP(B50,Deelnemers2026!$B$2:$E$345,2,FALSE),"") -> J.Schief.Philo | D50: =IF(B50<>"",VLOOKUP(B50,Deelnemers2026!$B$2:$F$345,3,FALSE),"") -> Stantons Chief | E50: =IF(B50<>"",VLOOKUP(B50,Deelnemers2026!$B$2:$F$345,4,FALSE),"") -> Vof Jongsteins | F50: =IF(B50<>"",VLOOKUP(B50,Deelnemers2026!$B$2:$F$345,5,FALSE),"") -> Hoogblokland
A52: 1C | B52: 51 | C52: =IF(B52<>"",VLOOKUP(B52,Deelnemers2026!$B$2:$E$345,2,FALSE),"") -> M.H. Alana 85 | D52: =IF(B52<>"",VLOOKUP(B52,Deelnemers2026!$B$2:$F$345,3,FALSE),"") -> Siemers Renegade Parfect | E52: =IF(B52<>"",VLOOKUP(B52,Deelnemers2026!$B$2:$F$345,4,FALSE),"") -> Merwehoeve de Groot V.O.F. | F52: =IF(B52<>"",VLOOKUP(B52,Deelnemers2026!$B$2:$F$345,5,FALSE),"") -> Herwijnen
A54: Beste uier: | B54: 58 | C54: =IF(B54<>"",VLOOKUP(B54,Deelnemers2026!$B$2:$E$345,2,FALSE),"") -> J.Schief.Philo | D54: =IF(B54<>"",VLOOKUP(B54,Deelnemers2026!$B$2:$F$345,3,FALSE),"") -> Stantons Chief | E54: =IF(B54<>"",VLOOKUP(B54,Deelnemers2026!$B$2:$F$345,4,FALSE),"") -> Vof Jongsteins | F54: =IF(B54<>"",VLOOKUP(B54,Deelnemers2026!$B$2:$F$345,5,FALSE),"") -> Hoogblokland
A55: Resterende uitslag: | B55: 44, 50, 47, 45, 49, 40, 42, 41
C56: =IF(B56<>"",VLOOKUP(B56,Deelnemers2026!$B$2:$E$345,2,FALSE),"") | D56: =IF(B56<>"",VLOOKUP(B56,Deelnemers2026!$B$2:$F$345,3,FALSE),"") | E56: =IF(B56<>"",VLOOKUP(B56,Deelnemers2026!$B$2:$F$345,4,FALSE),"") | F56: =IF(B56<>"",VLOOKUP(B56,Deelnemers2026!$B$2:$F$345,5,FALSE),"")
A57: R3 | B57: midden z | C57: ZB Middenklasse
B58: cat nr. | C58: Naam | D58: Vader | E58: Eigenaar | F58: Plaats
A59: 1A | B59: 63 | C59: =IF(B59<>"",VLOOKUP(B59,Deelnemers2026!$B$2:$E$345,2,FALSE),"") -> Bons-Holsteins Koba 291 | D59: =IF(B59<>"",VLOOKUP(B59,Deelnemers2026!$B$2:$F$345,3,FALSE),"") -> Stantons Alligator | E59: =IF(B59<>"",VLOOKUP(B59,Deelnemers2026!$B$2:$F$345,4,FALSE),"") -> Bons-Holsteins/Schep Holsteins/ALH Genetics | F59: =IF(B59<>"",VLOOKUP(B59,Deelnemers2026!$B$2:$F$345,5,FALSE),"") -> Ottoland
A61: 1B | B61: 61 | C61: =IF(B61<>"",VLOOKUP(B61,Deelnemers2026!$B$2:$E$345,2,FALSE),"") -> Bons-Holsteins Ella 267 | D61: =IF(B61<>"",VLOOKUP(B61,Deelnemers2026!$B$2:$F$345,3,FALSE),"") -> Farnear Delta-Lambda | E61: =IF(B61<>"",VLOOKUP(B61,Deelnemers2026!$B$2:$F$345,4,FALSE),"") -> Bons-Holsteins | F61: =IF(B61<>"",VLOOKUP(B61,Deelnemers2026!$B$2:$F$345,5,FALSE),"") -> Ottoland
A63: 1C | B63: 73 | C63: =IF(B63<>"",VLOOKUP(B63,Deelnemers2026!$B$2:$E$345,2,FALSE),"") -> Irene 181 | D63: =IF(B63<>"",VLOOKUP(B63,Deelnemers2026!$B$2:$F$345,3,FALSE),"") -> Sandy-Valley J Pharo | E63: =IF(B63<>"",VLOOKUP(B63,Deelnemers2026!$B$2:$F$345,4,FALSE),"") -> Fa H + D van Eijl | F63: =IF(B63<>"",VLOOKUP(B63,Deelnemers2026!$B$2:$F$345,5,FALSE),"") -> Groot Ammers
A65: Beste uier: | B65: 63 | C65: =IF(B65<>"",VLOOKUP(B65,Deelnemers2026!$B$2:$E$345,2,FALSE),"") -> Bons-Holsteins Koba 291 | D65: =IF(B65<>"",VLOOKUP(B65,Deelnemers2026!$B$2:$F$345,3,FALSE),"") -> Stantons Alligator | E65: =IF(B65<>"",VLOOKUP(B65,Deelnemers2026!$B$2:$F$345,4,FALSE),"") -> Bons-Holsteins/Schep Holsteins/ALH Genetics | F65: =IF(B65<>"",VLOOKUP(B65,Deelnemers2026!$B$2:$F$345,5,FALSE),"") -> Ottoland
A66: Resterende uitslag: | B66: 73, 78, 70, 67, 77, 68, 62, 72
C67: =IF(B67<>"",VLOOKUP(B67,Deelnemers2026!$B$2:$E$345,2,FALSE),"") | D67: =IF(B67<>"",VLOOKUP(B67,Deelnemers2026!$B$2:$F$345,3,FALSE),"") | E67: =IF(B67<>"",VLOOKUP(B67,Deelnemers2026!$B$2:$F$345,4,FALSE),"") | F67: =IF(B67<>"",VLOOKUP(B67,Deelnemers2026!$B$2:$F$345,5,FALSE),"")
A68: R4 | B68: midden z | C68: ZB Middenklasse
B69: cat nr. | C69: Naam | D69: Vader | E69: Eigenaar | F69: Plaats
A70: 1A | C70: =IF(B70<>"",VLOOKUP(B70,Deelnemers2026!$B$2:$E$345,2,FALSE),"") | D70: =IF(B70<>"",VLOOKUP(B70,Deelnemers2026!$B$2:$F$345,3,FALSE),"") | E70: =IF(B70<>"",VLOOKUP(B70,Deelnemers2026!$B$2:$F$345,4,FALSE),"") | F70: =IF(B70<>"",VLOOKUP(B70,Deelnemers2026!$B$2:$F$345,5,FALSE),"")
A72: 1B | C72: =IF(B72<>"",VLOOKUP(B72,Deelnemers2026!$B$2:$E$345,2,FALSE),"") | D72: =IF(B72<>"",VLOOKUP(B72,Deelnemers2026!$B$2:$F$345,3,FALSE),"") | E72: =IF(B72<>"",VLOOKUP(B72,Deelnemers2026!$B$2:$F$345,4,FALSE),"") | F72: =IF(B72<>"",VLOOKUP(B72,Deelnemers2026!$B$2:$F$345,5,FALSE),"")
A74: 1C | C74: =IF(B74<>"",VLOOKUP(B74,Deelnemers2026!$B$2:$E$345,2,FALSE),"") | D74: =IF(B74<>"",VLOOKUP(B74,Deelnemers2026!$B$2:$F$345,3,FALSE),"") | E74: =IF(B74<>"",VLOOKUP(B74,Deelnemers2026!$B$2:$F$345,4,FALSE),"") | F74: =IF(B74<>"",VLOOKUP(B74,Deelnemers2026!$B$2:$F$345,5,FALSE),"")
A76: Beste uier: | C76: =IF(B76<>"",VLOOKUP(B76,Deelnemers2026!$B$2:$E$345,2,FALSE),"") | D76: =IF(B76<>"",VLOOKUP(B76,Deelnemers2026!$B$2:$F$345,3,FALSE),"") | E76: =IF(B76<>"",VLOOKUP(B76,Deelnemers2026!$B$2:$F$345,4,FALSE),"") | F76: =IF(B76<>"",VLOOKUP(B76,Deelnemers2026!$B$2:$F$345,5,FALSE),"")
A77: Resterende uitslag:
C78: =IF(B78<>"",VLOOKUP(B78,Deelnemers2026!$B$2:$E$345,2,FALSE),"") | D78: =IF(B78<>"",VLOOKUP(B78,Deelnemers2026!$B$2:$F$345,3,FALSE),"") | E78: =IF(B78<>"",VLOOKUP(B78,Deelnemers2026!$B$2:$F$345,4,FALSE),"") | F78: =IF(B78<>"",VLOOKUP(B78,Deelnemers2026!$B$2:$F$345,5,FALSE),"")
A79: R1 | B79: oud z | C79: ZB middelklasse koeien
B80: cat nr. | C80: Naam | D80: Vader | E80: Eigenaar | F80: Plaats
A81: 1A | C81: =IF(B81<>"",VLOOKUP(B81,Deelnemers2026!$B$2:$E$345,2,FALSE),"") | D81: =IF(B81<>"",VLOOKUP(B81,Deelnemers2026!$B$2:$F$345,3,FALSE),"") | E81: =IF(B81<>"",VLOOKUP(B81,Deelnemers2026!$B$2:$F$345,4,FALSE),"") | F81: =IF(B81<>"",VLOOKUP(B81,Deelnemers2026!$B$2:$F$345,5,FALSE),"")
A83: 1B | C83: =IF(B83<>"",VLOOKUP(B83,Deelnemers2026!$B$2:$E$345,2,FALSE),"") | D83: =IF(B83<>"",VLOOKUP(B83,Deelnemers2026!$B$2:$F$345,3,FALSE),"") | E83: =IF(B83<>"",VLOOKUP(B83,Deelnemers2026!$B$2:$F$345,4,FALSE),"") | F83: =IF(B83<>"",VLOOKUP(B83,Deelnemers2026!$B$2:$F$345,5,FALSE),"")
A85: 1C | C85: =IF(B85<>"",VLOOKUP(B85,Deelnemers2026!$B$2:$E$345,2,FALSE),"") | D85: =IF(B85<>"",VLOOKUP(B85,Deelnemers2026!$B$2:$F$345,3,FALSE),"") | E85: =IF(B85<>"",VLOOKUP(B85,Deelnemers2026!$B$2:$F$345,4,FALSE),"") | F85: =IF(B85<>"",VLOOKUP(B85,Deelnemers2026!$B$2:$F$345,5,FALSE),"")
A87: Beste uier: | C87: =IF(B87<>"",VLOOKUP(B87,Deelnemers2026!$B$2:$E$345,2,FALSE),"") | D87: =IF(B87<>"",VLOOKUP(B87,Deelnemers2026!$B$2:$F$345,3,FALSE),"") | E87: =IF(B87<>"",VLOOKUP(B87,Deelnemers2026!$B$2:$F$345,4,FALSE),"") | F87: =IF(B87<>"",VLOOKUP(B87,Deelnemers2026!$B$2:$F$345,5,FALSE),"")
A88: Resterende uitslag:
C89: =IF(B89<>"",VLOOKUP(B89,Deelnemers2026!$B$2:$E$345,2,FALSE),"") | D89: =IF(B89<>"",VLOOKUP(B89,Deelnemers2026!$B$2:$F$345,3,FALSE),"") | E89: =IF(B89<>"",VLOOKUP(B89,Deelnemers2026!$B$2:$F$345,4,FALSE),"") | F89: =IF(B89<>"",VLOOKUP(B89,Deelnemers2026!$B$2:$F$345,5,FALSE),"")
C90: =IF(B90<>"",VLOOKUP(B90,Deelnemers2026!$B$2:$E$345,2,FALSE),"") | D90: =IF(B90<>"",VLOOKUP(B90,Deelnemers2026!$B$2:$F$345,3,FALSE),"") | E90: =IF(B90<>"",VLOOKUP(B90,Deelnemers2026!$B$2:$F$345,4,FALSE),"") | F90: =IF(B90<>"",VLOOKUP(B90,Deelnemers2026!$B$2:$F$345,5,FALSE),"")
A91: R1 | B91: oud z | C91: ZB ouderen koeien
B92: cat nr. | C92: Naam | D92: Vader | E92: Eigenaar | F92: Plaats
A93: 1A | B93: 81 | C93: =IF(B93<>"",VLOOKUP(B93,Deelnemers2026!$B$2:$E$345,2,FALSE),"") -> Lambda Ashlyn | D93: =IF(B93<>"",VLOOKUP(B93,Deelnemers2026!$B$2:$F$345,3,FALSE),"") -> Farnear Delta-Lambda | E93: =IF(B93<>"",VLOOKUP(B93,Deelnemers2026!$B$2:$F$345,4,FALSE),"") -> Fa de Groot | F93: =IF(B93<>"",VLOOKUP(B93,Deelnemers2026!$B$2:$F$345,5,FALSE),"") -> Everdingen
A95: 1B | B95: 89 | C95: =IF(B95<>"",VLOOKUP(B95,Deelnemers2026!$B$2:$E$345,2,FALSE),"") -> Els 3 | D95: =IF(B95<>"",VLOOKUP(B95,Deelnemers2026!$B$2:$F$345,3,FALSE),"") -> Ri-Val-Re Rager-Red | E95: =IF(B95<>"",VLOOKUP(B95,Deelnemers2026!$B$2:$F$345,4,FALSE),"") -> D A Keijzer Vof | F95: =IF(B95<>"",VLOOKUP(B95,Deelnemers2026!$B$2:$F$345,5,FALSE),"") -> Gorinchem
A97: 1C | B97: 88 | C97: =IF(B97<>"",VLOOKUP(B97,Deelnemers2026!$B$2:$E$345,2,FALSE),"") -> Dulu 250 | D97: =IF(B97<>"",VLOOKUP(B97,Deelnemers2026!$B$2:$F$345,3,FALSE),"") -> Big Malki | E97: =IF(B97<>"",VLOOKUP(B97,Deelnemers2026!$B$2:$F$345,4,FALSE),"") -> Nieuwvredebest BV | F97: =IF(B97<>"",VLOOKUP(B97,Deelnemers2026!$B$2:$F$345,5,FALSE),"") -> Vuren
A99: Beste uier: | B99: 81 | C99: =IF(B99<>"",VLOOKUP(B99,Deelnemers2026!$B$2:$E$345,2,FALSE),"") -> Lambda Ashlyn | D99: =IF(B99<>"",VLOOKUP(B99,Deelnemers2026!$B$2:$F$345,3,FALSE),"") -> Farnear Delta-Lambda | E99: =IF(B99<>"",VLOOKUP(B99,Deelnemers2026!$B$2:$F$345,4,FALSE),"") -> Fa de Groot | F99: =IF(B99<>"",VLOOKUP(B99,Deelnemers2026!$B$2:$F$345,5,FALSE),"") -> Everdingen
A100: Resterende uitslag: | B100: 83, 87, 85, 79, 86
C101: =IF(B101<>"",VLOOKUP(B101,Deelnemers2026!$B$2:$E$345,2,FALSE),"") | D101: =IF(B101<>"",VLOOKUP(B101,Deelnemers2026!$B$2:$F$345,3,FALSE),"") | E101: =IF(B101<>"",VLOOKUP(B101,Deelnemers2026!$B$2:$F$345,4,FALSE),"") | F101: =IF(B101<>"",VLOOKUP(B101,Deelnemers2026!$B$2:$F$345,5,FALSE),"")
A102: R2 | B102: oud z | C102: ZB ouderen koeien
C103: Naam | D103: Vader | E103: Eigenaar | F103: Plaats
A104: 1A | B104: 120 | C104: =IF(B104<>"",VLOOKUP(B104,Deelnemers2026!$B$2:$E$345,2,FALSE),"") -> Wilhelmina 602 | D104: =IF(B104<>"",VLOOKUP(B104,Deelnemers2026!$B$2:$F$345,3,FALSE),"") -> Comestar Lauthority | E104: =IF(B104<>"",VLOOKUP(B104,Deelnemers2026!$B$2:$F$345,4,FALSE),"") -> Mts van Dijk-de Bruin | F104: =IF(B104<>"",VLOOKUP(B104,Deelnemers2026!$B$2:$F$345,5,FALSE),"") -> Giessenburg
A106: 1B | B106: 93 | C106: =IF(B106<>"",VLOOKUP(B106,Deelnemers2026!$B$2:$E$345,2,FALSE),"") -> Mina 217 | D106: =IF(B106<>"",VLOOKUP(B106,Deelnemers2026!$B$2:$F$345,3,FALSE),"") -> Ocd Montross Laidlaw | E106: =IF(B106<>"",VLOOKUP(B106,Deelnemers2026!$B$2:$F$345,4,FALSE),"") -> Het Lam Vof | F106: =IF(B106<>"",VLOOKUP(B106,Deelnemers2026!$B$2:$F$345,5,FALSE),"") -> Leerbroek
A108: 1C | B108: 91 | C108: =IF(B108<>"",VLOOKUP(B108,Deelnemers2026!$B$2:$E$345,2,FALSE),"") -> M.H. Trijn 228 | D108: =IF(B108<>"",VLOOKUP(B108,Deelnemers2026!$B$2:$F$345,3,FALSE),"") -> Peak Tropic | E108: =IF(B108<>"",VLOOKUP(B108,Deelnemers2026!$B$2:$F$345,4,FALSE),"") -> Merwehoeve de Groot V.O.F. | F108: =IF(B108<>"",VLOOKUP(B108,Deelnemers2026!$B$2:$F$345,5,FALSE),"") -> Herwijnen
A110: Beste uier: | B110: 93 | C110: =IF(B110<>"",VLOOKUP(B110,Deelnemers2026!$B$2:$E$345,2,FALSE),"") -> Mina 217 | D110: =IF(B110<>"",VLOOKUP(B110,Deelnemers2026!$B$2:$F$345,3,FALSE),"") -> Ocd Montross Laidlaw | E110: =IF(B110<>"",VLOOKUP(B110,Deelnemers2026!$B$2:$F$345,4,FALSE),"") -> Het Lam Vof | F110: =IF(B110<>"",VLOOKUP(B110,Deelnemers2026!$B$2:$F$345,5,FALSE),"") -> Leerbroek
A111: Resterende uitslag:
C112: =IF(B112<>"",VLOOKUP(B112,Deelnemers2026!$B$2:$E$345,2,FALSE),"") | D112: =IF(B112<>"",VLOOKUP(B112,Deelnemers2026!$B$2:$F$345,3,FALSE),"") | E112: =IF(B112<>"",VLOOKUP(B112,Deelnemers2026!$B$2:$F$345,4,FALSE),"") | F112: =IF(B112<>"",VLOOKUP(B112,Deelnemers2026!$B$2:$F$345,5,FALSE),"")
C113: =IF(B113<>"",VLOOKUP(B113,Deelnemers2026!$B$2:$E$345,2,FALSE),"") | D113: =IF(B113<>"",VLOOKUP(B113,Deelnemers2026!$B$2:$F$345,3,FALSE),"") | E113: =IF(B113<>"",VLOOKUP(B113,Deelnemers2026!$B$2:$F$345,4,FALSE),"") | F113: =IF(B113<>"",VLOOKUP(B113,Deelnemers2026!$B$2:$F$345,5,FALSE),"")
A114: R3 | B114: oud z | C114: ZB ouderen koeien
B115: cat nr. | C115: Naam | D115: Vader | E115: Eigenaar | F115: Plaats
A116: 1A | B116: 102 | C116: =IF(B116<>"",VLOOKUP(B116,Deelnemers2026!$B$2:$E$345,2,FALSE),"") -> Bons-Holsteins Koba 253 | D116: =IF(B116<>"",VLOOKUP(B116,Deelnemers2026!$B$2:$F$345,3,FALSE),"") -> Walnutlawn Solomon | E116: =IF(B116<>"",VLOOKUP(B116,Deelnemers2026!$B$2:$F$345,4,FALSE),"") -> Bons-Holsteins | F116: =IF(B116<>"",VLOOKUP(B116,Deelnemers2026!$B$2:$F$345,5,FALSE),"") -> Ottoland
A118: 1B | B118: 111 | C118: =IF(B118<>"",VLOOKUP(B118,Deelnemers2026!$B$2:$E$345,2,FALSE),"") -> Geertje 638 | D118: =IF(B118<>"",VLOOKUP(B118,Deelnemers2026!$B$2:$F$345,3,FALSE),"") -> Crasdale Bankroll | E118: =IF(B118<>"",VLOOKUP(B118,Deelnemers2026!$B$2:$F$345,4,FALSE),"") -> Mts van Dijk-de Bruin | F118: =IF(B118<>"",VLOOKUP(B118,Deelnemers2026!$B$2:$F$345,5,FALSE),"") -> Giessenburg
A120: 1C | B120: 110 | C120: =IF(B120<>"",VLOOKUP(B120,Deelnemers2026!$B$2:$E$345,2,FALSE),"") -> De Witboom Greet 101 | D120: =IF(B120<>"",VLOOKUP(B120,Deelnemers2026!$B$2:$F$345,3,FALSE),"") -> Prins Holsteins Kik Prizewinne | E120: =IF(B120<>"",VLOOKUP(B120,Deelnemers2026!$B$2:$F$345,4,FALSE),"") -> Vof Versluis den Otter | F120: =IF(B120<>"",VLOOKUP(B120,Deelnemers2026!$B$2:$F$345,5,FALSE),"") -> Ameide
A122: Beste uier: | B122: 102 | C122: =IF(B122<>"",VLOOKUP(B122,Deelnemers2026!$B$2:$E$345,2,FALSE),"") -> Bons-Holsteins Koba 253 | D122: =IF(B122<>"",VLOOKUP(B122,Deelnemers2026!$B$2:$F$345,3,FALSE),"") -> Walnutlawn Solomon | E122: =IF(B122<>"",VLOOKUP(B122,Deelnemers2026!$B$2:$F$345,4,FALSE),"") -> Bons-Holsteins | F122: =IF(B122<>"",VLOOKUP(B122,Deelnemers2026!$B$2:$F$345,5,FALSE),"") -> Ottoland
A123: Resterende uitslag: | B123: 112, 113, 103, 109
C124: =IF(B124<>"",VLOOKUP(B124,Deelnemers2026!$B$2:$E$345,2,FALSE),"") | D124: =IF(B124<>"",VLOOKUP(B124,Deelnemers2026!$B$2:$F$345,3,FALSE),"") | E124: =IF(B124<>"",VLOOKUP(B124,Deelnemers2026!$B$2:$F$345,4,FALSE),"") | F124: =IF(B124<>"",VLOOKUP(B124,Deelnemers2026!$B$2:$F$345,5,FALSE),"")
C125: =IF(B125<>"",VLOOKUP(B125,Deelnemers2026!$B$2:$E$345,2,FALSE),"") | D125: =IF(B125<>"",VLOOKUP(B125,Deelnemers2026!$B$2:$F$345,3,FALSE),"") | E125: =IF(B125<>"",VLOOKUP(B125,Deelnemers2026!$B$2:$F$345,4,FALSE),"") | F125: =IF(B125<>"",VLOOKUP(B125,Deelnemers2026!$B$2:$F$345,5,FALSE),"")
C126: =IF(B126<>"",VLOOKUP(B126,Deelnemers2026!$B$2:$E$345,2,FALSE),"") | D126: =IF(B126<>"",VLOOKUP(B126,Deelnemers2026!$B$2:$F$345,3,FALSE),"") | E126: =IF(B126<>"",VLOOKUP(B126,Deelnemers2026!$B$2:$F$345,4,FALSE),"") | F126: =IF(B126<>"",VLOOKUP(B126,Deelnemers2026!$B$2:$F$345,5,FALSE),"")
C127: =IF(B127<>"",VLOOKUP(B127,Deelnemers2026!$B$2:$E$345,2,FALSE),"") | D127: =IF(B127<>"",VLOOKUP(B127,Deelnemers2026!$B$2:$F$345,3,FALSE),"") | E127: =IF(B127<>"",VLOOKUP(B127,Deelnemers2026!$B$2:$F$345,4,FALSE),"") | F127: =IF(B127<>"",VLOOKUP(B127,Deelnemers2026!$B$2:$F$345,5,FALSE),"")
C128: =IF(B128<>"",VLOOKUP(B128,Deelnemers2026!$B$2:$E$345,2,FALSE),"") | D128: =IF(B128<>"",VLOOKUP(B128,Deelnemers2026!$B$2:$F$345,3,FALSE),"") | E128: =IF(B128<>"",VLOOKUP(B128,Deelnemers2026!$B$2:$F$345,4,FALSE),"") | F128: =IF(B128<>"",VLOOKUP(B128,Deelnemers2026!$B$2:$F$345,5,FALSE),"")
C129: =IF(B129<>"",VLOOKUP(B129,Deelnemers2026!$B$2:$E$345,2,FALSE),"") | D129: =IF(B129<>"",VLOOKUP(B129,Deelnemers2026!$B$2:$F$345,3,FALSE),"") | E129: =IF(B129<>"",VLOOKUP(B129,Deelnemers2026!$B$2:$F$345,4,FALSE),"") | F129: =IF(B129<>"",VLOOKUP(B129,Deelnemers2026!$B$2:$F$345,5,FALSE),"")
C130: =IF(B130<>"",VLOOKUP(B130,Deelnemers2026!$B$2:$E$345,2,FALSE),"") | D130: =IF(B130<>"",VLOOKUP(B130,Deelnemers2026!$B$2:$F$345,3,FALSE),"") | E130: =IF(B130<>"",VLOOKUP(B130,Deelnemers2026!$B$2:$F$345,4,FALSE),"") | F130: =IF(B130<>"",VLOOKUP(B130,Deelnemers2026!$B$2:$F$345,5,FALSE),"")
C131: =IF(B131<>"",VLOOKUP(B131,Deelnemers2026!$B$2:$E$345,2,FALSE),"") | D131: =IF(B131<>"",VLOOKUP(B131,Deelnemers2026!$B$2:$F$345,3,FALSE),"") | E131: =IF(B131<>"",VLOOKUP(B131,Deelnemers2026!$B$2:$F$345,4,FALSE),"") | F131: =IF(B131<>"",VLOOKUP(B131,Deelnemers2026!$B$2:$F$345,5,FALSE),"")
C132: =IF(B132<>"",VLOOKUP(B132,Deelnemers2026!$B$2:$E$345,2,FALSE),"") | D132: =IF(B132<>"",VLOOKUP(B132,Deelnemers2026!$B$2:$F$345,3,FALSE),"") | E132: =IF(B132<>"",VLOOKUP(B132,Deelnemers2026!$B$2:$F$345,4,FALSE),"") | F132: =IF(B132<>"",VLOOKUP(B132,Deelnemers2026!$B$2:$F$345,5,FALSE),"")
C160: =IF(B160<>"",VLOOKUP(B160,Deelnemers2026!$B$2:$E$345,2,FALSE),"") | D160: =IF(B160<>"",VLOOKUP(B160,Deelnemers2026!$B$2:$F$345,3,FALSE),"") | E160: =IF(B160<>"",VLOOKUP(B160,Deelnemers2026!$B$2:$F$345,4,FALSE),"") | F160: =IF(B160<>"",VLOOKUP(B160,Deelnemers2026!$B$2:$F$345,5,FALSE),"")
C161: =IF(B161<>"",VLOOKUP(B161,Deelnemers2026!$B$2:$E$345,2,FALSE),"") | D161: =IF(B161<>"",VLOOKUP(B161,Deelnemers2026!$B$2:$F$345,3,FALSE),"") | E161: =IF(B161<>"",VLOOKUP(B161,Deelnemers2026!$B$2:$F$345,4,FALSE),"") | F161: =IF(B161<>"",VLOOKUP(B161,Deelnemers2026!$B$2:$F$345,5,FALSE),"")
...

Sheet Pinken ex
A2: R1 | B2: pink jong | C2: Pinken exterieur
B3: cat nr. | C3: Naam | D3: Vader | E3: eigenaar | F3: plaats
A4: 1A | B4: 250 | C4: =IF(B4<>"",VLOOKUP(B4,Deelnemers2026!$B$2:$E$345,2,FALSE),"") -> M.H. Alana 162 | D4: =IF(B4<>"",VLOOKUP(B4,Deelnemers2026!$B$2:$E$345,3,FALSE),"") -> Haveitall Dropbx Hellion | E4: =IF(B4<>"",VLOOKUP(B4,Deelnemers2026!$B$2:$F$345,4,FALSE),"") -> Merwehoeve de Groot V.O.F. | F4: =IF(B4<>"",VLOOKUP(B4,Deelnemers2026!$B$2:$F$345,5,FALSE),"") -> Herwijnen
A6: 1B | B6: 244 | C6: =IF(B6<>"",VLOOKUP(B6,Deelnemers2026!$B$2:$E$345,2,FALSE),"") -> M.H. Evalyn 122 | D6: =IF(B6<>"",VLOOKUP(B6,Deelnemers2026!$B$2:$E$345,3,FALSE),"") -> Siemers Renegade Parfect | E6: =IF(B6<>"",VLOOKUP(B6,Deelnemers2026!$B$2:$F$345,4,FALSE),"") -> Merwehoeve de Groot V.O.F. | F6: =IF(B6<>"",VLOOKUP(B6,Deelnemers2026!$B$2:$F$345,5,FALSE),"") -> Herwijnen
A8: 1C | B8: 257 | C8: =IF(B8<>"",VLOOKUP(B8,Deelnemers2026!$B$2:$E$345,2,FALSE),"") -> Jansje 875 | D8: =IF(B8<>"",VLOOKUP(B8,Deelnemers2026!$B$2:$E$345,3,FALSE),"") -> Peak Hotline | E8: =IF(B8<>"",VLOOKUP(B8,Deelnemers2026!$B$2:$F$345,4,FALSE),"") -> Fa de Groot | F8: =IF(B8<>"",VLOOKUP(B8,Deelnemers2026!$B$2:$F$345,5,FALSE),"") -> Everdingen
A10: Resterende uitslag: | C10: 256 | D10: 248 | E10: 242 | F10: 243, 252, 253
C11: =IF(B11<>"",VLOOKUP(B11,Deelnemers2026!$B$2:$E$345,2,FALSE),"") | D11: =IF(B11<>"",VLOOKUP(B11,Deelnemers2026!$B$2:$E$345,3,FALSE),"") | E11: =IF(B11<>"",VLOOKUP(B11,Deelnemers2026!$B$2:$F$345,4,FALSE),"") | F11: =IF(B11<>"",VLOOKUP(B11,Deelnemers2026!$B$2:$F$345,5,FALSE),"")
C12: =IF(B12<>"",VLOOKUP(B12,Deelnemers2026!$B$2:$E$345,2,FALSE),"") | D12: =IF(B12<>"",VLOOKUP(B12,Deelnemers2026!$B$2:$E$345,3,FALSE),"") | E12: =IF(B12<>"",VLOOKUP(B12,Deelnemers2026!$B$2:$F$345,4,FALSE),"") | F12: =IF(B12<>"",VLOOKUP(B12,Deelnemers2026!$B$2:$F$345,5,FALSE),"")
A13: R2 | B13: pink oud | C13: Pinken exterieur
B14: cat nr. | C14: Naam | D14: Vader | E14: eigenaar | F14: plaats
A15: 1A | B15: 280 | C15: =IF(B15<>"",VLOOKUP(B15,Deelnemers2026!$B$2:$E$345,2,FALSE),"") -> Brando Bianca 122 | D15: =IF(B15<>"",VLOOKUP(B15,Deelnemers2026!$B$2:$E$345,3,FALSE),"") -> Siemers Renegade Parfect | E15: =IF(B15<>"",VLOOKUP(B15,Deelnemers2026!$B$2:$F$345,4,FALSE),"") -> Vof D + D Schakel | F15: =IF(B15<>"",VLOOKUP(B15,Deelnemers2026!$B$2:$F$345,5,FALSE),"") -> Brandwijk
A17: 1B | B17: 259 | C17: =IF(B17<>"",VLOOKUP(B17,Deelnemers2026!$B$2:$E$345,2,FALSE),"") -> Hbc Detect. Morena | D17: =IF(B17<>"",VLOOKUP(B17,Deelnemers2026!$B$2:$E$345,3,FALSE),"") -> Blondin Detective | E17: =IF(B17<>"",VLOOKUP(B17,Deelnemers2026!$B$2:$F$345,4,FALSE),"") -> Schep Holsteins Holland BV | F17: =IF(B17<>"",VLOOKUP(B17,Deelnemers2026!$B$2:$F$345,5,FALSE),"") -> Bergambacht
A19: 1C | B19: 261 | C19: =IF(B19<>"",VLOOKUP(B19,Deelnemers2026!$B$2:$E$345,2,FALSE),"") -> Hbc Perenn. Reintje | D19: =IF(B19<>"",VLOOKUP(B19,Deelnemers2026!$B$2:$E$345,3,FALSE),"") -> Eclipse Perennial | E19: =IF(B19<>"",VLOOKUP(B19,Deelnemers2026!$B$2:$F$345,4,FALSE),"") -> Schep Holsteins Holland BV | F19: =IF(B19<>"",VLOOKUP(B19,Deelnemers2026!$B$2:$F$345,5,FALSE),"") -> Bergambacht
A21: Resterende uitslag: | C21: 266, 260, 262, 265, 267 | D21: =IF(B21<>"",VLOOKUP(B21,Deelnemers2026!$B$2:$E$345,3,FALSE),"") | E21: =IF(B21<>"",VLOOKUP(B21,Deelnemers2026!$B$2:$F$345,4,FALSE),"") | F21: =IF(B21<>"",VLOOKUP(B21,Deelnemers2026!$B$2:$F$345,5,FALSE),"")
D22: =IF(B22<>"",VLOOKUP(B22,Deelnemers2026!$B$2:$E$345,3,FALSE),"") | E22: =IF(B22<>"",VLOOKUP(B22,Deelnemers2026!$B$2:$F$345,4,FALSE),"") | F22: =IF(B22<>"",VLOOKUP(B22,Deelnemers2026!$B$2:$F$345,5,FALSE),"")
A23: R3 | B23: pink oud | C23: Pinken exterieur
B24: cat nr. | C24: Naam | D24: Vader | E24: eigenaar | F24: plaats
A25: 1A | B25: 281 | C25: =IF(B25<>"",VLOOKUP(B25,Deelnemers2026!$B$2:$E$345,2,FALSE),"") -> Does 63 | D25: =IF(B25<>"",VLOOKUP(B25,Deelnemers2026!$B$2:$E$345,3,FALSE),"") -> Crater Camden | E25: =IF(B25<>"",VLOOKUP(B25,Deelnemers2026!$B$2:$F$345,4,FALSE),"") -> Vof Harteveld | F25: =IF(B25<>"",VLOOKUP(B25,Deelnemers2026!$B$2:$F$345,5,FALSE),"") -> Ameide
A27: 1B | B27: 268 | C27: =IF(B27<>"",VLOOKUP(B27,Deelnemers2026!$B$2:$E$345,2,FALSE),"") -> Tatoo Elina | D27: =IF(B27<>"",VLOOKUP(B27,Deelnemers2026!$B$2:$E$345,3,FALSE),"") -> Tattoo vd Sijsloberg | E27: =IF(B27<>"",VLOOKUP(B27,Deelnemers2026!$B$2:$F$345,4,FALSE),"") -> Schouten Holsteins en Koen van Zwienen | F27: =IF(B27<>"",VLOOKUP(B27,Deelnemers2026!$B$2:$F$345,5,FALSE),"") -> Bergambacht
A29: 1C | B29: 269 | C29: =IF(B29<>"",VLOOKUP(B29,Deelnemers2026!$B$2:$E$345,2,FALSE),"") -> Hbc Major Andrea | D29: =IF(B29<>"",VLOOKUP(B29,Deelnemers2026!$B$2:$E$345,3,FALSE),"") -> Robella Major | E29: =IF(B29<>"",VLOOKUP(B29,Deelnemers2026!$B$2:$F$345,4,FALSE),"") -> Schep Holsteins Holland BV | F29: =IF(B29<>"",VLOOKUP(B29,Deelnemers2026!$B$2:$F$345,5,FALSE),"") -> Bergambacht
A31: Resterende uitslag: | C31: niet gehoord', 270, 271 | D31: =IF(B31<>"",VLOOKUP(B31,Deelnemers2026!$B$2:$E$345,3,FALSE),"") | E31: =IF(B31<>"",VLOOKUP(B31,Deelnemers2026!$B$2:$F$345,4,FALSE),"") | F31: =IF(B31<>"",VLOOKUP(B31,Deelnemers2026!$B$2:$F$345,5,FALSE),"")
C32: =IF(B32<>"",VLOOKUP(B32,Deelnemers2026!$B$2:$E$345,2,FALSE),"") | D32: =IF(B32<>"",VLOOKUP(B32,Deelnemers2026!$B$2:$E$345,3,FALSE),"") | E32: =IF(B32<>"",VLOOKUP(B32,Deelnemers2026!$B$2:$F$345,4,FALSE),"") | F32: =IF(B32<>"",VLOOKUP(B32,Deelnemers2026!$B$2:$F$345,5,FALSE),"")
C33: =IF(B33<>"",VLOOKUP(B33,Deelnemers2026!$B$2:$E$345,2,FALSE),"") | D33: =IF(B33<>"",VLOOKUP(B33,Deelnemers2026!$B$2:$E$345,3,FALSE),"") | E33: =IF(B33<>"",VLOOKUP(B33,Deelnemers2026!$B$2:$F$345,4,FALSE),"") | F33: =IF(B33<>"",VLOOKUP(B33,Deelnemers2026!$B$2:$F$345,5,FALSE),"")
C34: =IF(B34<>"",VLOOKUP(B34,Deelnemers2026!$B$2:$E$345,2,FALSE),"") | D34: =IF(B34<>"",VLOOKUP(B34,Deelnemers2026!$B$2:$E$345,3,FALSE),"") | E34: =IF(B34<>"",VLOOKUP(B34,Deelnemers2026!$B$2:$F$345,4,FALSE),"") | F34: =IF(B34<>"",VLOOKUP(B34,Deelnemers2026!$B$2:$F$345,5,FALSE),"")
C35: =IF(B35<>"",VLOOKUP(B35,Deelnemers2026!$B$2:$E$345,2,FALSE),"") | D35: =IF(B35<>"",VLOOKUP(B35,Deelnemers2026!$B$2:$E$345,3,FALSE),"") | E35: =IF(B35<>"",VLOOKUP(B35,Deelnemers2026!$B$2:$F$345,4,FALSE),"") | F35: =IF(B35<>"",VLOOKUP(B35,Deelnemers2026!$B$2:$F$345,5,FALSE),"")
C36: =IF(B36<>"",VLOOKUP(B36,Deelnemers2026!$B$2:$E$345,2,FALSE),"") | D36: =IF(B36<>"",VLOOKUP(B36,Deelnemers2026!$B$2:$E$345,3,FALSE),"") | E36: =IF(B36<>"",VLOOKUP(B36,Deelnemers2026!$B$2:$F$345,4,FALSE),"") | F36: =IF(B36<>"",VLOOKUP(B36,Deelnemers2026!$B$2:$F$345,5,FALSE),"")
C37: =IF(B37<>"",VLOOKUP(B37,Deelnemers2026!$B$2:$E$345,2,FALSE),"") | D37: =IF(B37<>"",VLOOKUP(B37,Deelnemers2026!$B$2:$E$345,3,FALSE),"") | E37: =IF(B37<>"",VLOOKUP(B37,Deelnemers2026!$B$2:$F$345,4,FALSE),"") | F37: =IF(B37<>"",VLOOKUP(B37,Deelnemers2026!$B$2:$F$345,5,FALSE),"")
C38: =IF(B38<>"",VLOOKUP(B38,Deelnemers2026!$B$2:$E$345,2,FALSE),"") | D38: =IF(B38<>"",VLOOKUP(B38,Deelnemers2026!$B$2:$E$345,3,FALSE),"") | E38: =IF(B38<>"",VLOOKUP(B38,Deelnemers2026!$B$2:$F$345,4,FALSE),"") | F38: =IF(B38<>"",VLOOKUP(B38,Deelnemers2026!$B$2:$F$345,5,FALSE),"")
C39: =IF(B39<>"",VLOOKUP(B39,Deelnemers2026!$B$2:$E$345,2,FALSE),"") | D39: =IF(B39<>"",VLOOKUP(B39,Deelnemers2026!$B$2:$E$345,3,FALSE),"") | E39: =IF(B39<>"",VLOOKUP(B39,Deelnemers2026!$B$2:$F$345,4,FALSE),"") | F39: =IF(B39<>"",VLOOKUP(B39,Deelnemers2026!$B$2:$F$345,5,FALSE),"")
C40: =IF(B40<>"",VLOOKUP(B40,Deelnemers2026!$B$2:$E$345,2,FALSE),"") | D40: =IF(B40<>"",VLOOKUP(B40,Deelnemers2026!$B$2:$E$345,3,FALSE),"") | E40: =IF(B40<>"",VLOOKUP(B40,Deelnemers2026!$B$2:$F$345,4,FALSE),"") | F40: =IF(B40<>"",VLOOKUP(B40,Deelnemers2026!$B$2:$F$345,5,FALSE),"")
C41: =IF(B41<>"",VLOOKUP(B41,Deelnemers2026!$B$2:$E$345,2,FALSE),"") | D41: =IF(B41<>"",VLOOKUP(B41,Deelnemers2026!$B$2:$E$345,3,FALSE),"") | E41: =IF(B41<>"",VLOOKUP(B41,Deelnemers2026!$B$2:$F$345,4,FALSE),"") | F41: =IF(B41<>"",VLOOKUP(B41,Deelnemers2026!$B$2:$F$345,5,FALSE),"")
C42: =IF(B42<>"",VLOOKUP(B42,Deelnemers2026!$B$2:$E$345,2,FALSE),"") | D42: =IF(B42<>"",VLOOKUP(B42,Deelnemers2026!$B$2:$E$345,3,FALSE),"") | E42: =IF(B42<>"",VLOOKUP(B42,Deelnemers2026!$B$2:$F$345,4,FALSE),"") | F42: =IF(B42<>"",VLOOKUP(B42,Deelnemers2026!$B$2:$F$345,5,FALSE),"")
C43: =IF(B43<>"",VLOOKUP(B43,Deelnemers2026!$B$2:$E$345,2,FALSE),"") | D43: =IF(B43<>"",VLOOKUP(B43,Deelnemers2026!$B$2:$E$345,3,FALSE),"") | E43: =IF(B43<>"",VLOOKUP(B43,Deelnemers2026!$B$2:$F$345,4,FALSE),"") | F43: =IF(B43<>"",VLOOKUP(B43,Deelnemers2026!$B$2:$F$345,5,FALSE),"")
... C240: =IF(B240<>"",VLOOKUP(B240,Deelnemers2026!$B$2:$E$345,2,FALSE),"") | D240: =IF(B240<>"",VLOOKUP(B240,Deelnemers2026!$B$2:$E$345,3,FALSE),"") | E240: =IF(B240<>"",VLOOKUP(B240,Deelnemers2026!$B$2:$F$345,4,FALSE),"") | F240: =IF(B240<>"",VLOOKUP(B240,Deelnemers2026!$B$2:$F$345,5,FALSE),"")

Sheet Uitslag RB
A2: R1 | B2: jong r | C2: RB Jong
B3: cat nr. | C3: Naam | D3: Vader | E3: eigenaar | F3: plaats
A4: 1A | B4: 203 | C4: =IF(B4<>"",VLOOKUP(B4,Deelnemers2026!$B$2:$E$345,2,FALSE),"") -> M.H. Alana 110 | D4: =IF(B4<>"",VLOOKUP(B4,Deelnemers2026!$B$2:$E$345,3,FALSE),"") -> Kenmore Triple Crown-Red | E4: =IF(B4<>"",VLOOKUP(B4,Deelnemers2026!$B$2:$F$345,4,FALSE),"") -> Merwehoeve de Groot V.O.F. | F4: =IF(B4<>"",VLOOKUP(B4,Deelnemers2026!$B$2:$F$345,5,FALSE),"") -> Herwijnen
A6: 1B | B6: 206 | C6: =IF(B6<>"",VLOOKUP(B6,Deelnemers2026!$B$2:$E$345,2,FALSE),"") -> Margriet 309 | D6: =IF(B6<>"",VLOOKUP(B6,Deelnemers2026!$B$2:$E$345,3,FALSE),"") -> Trent-Way-Js Ronald | E6: =IF(B6<>"",VLOOKUP(B6,Deelnemers2026!$B$2:$F$345,4,FALSE),"") -> Fa H + D van Eijl | F6: =IF(B6<>"",VLOOKUP(B6,Deelnemers2026!$B$2:$F$345,5,FALSE),"") -> Groot Ammers
A8: 1C | B8: 208 | C8: =IF(B8<>"",VLOOKUP(B8,Deelnemers2026!$B$2:$E$345,2,FALSE),"") -> Jonker Martha 736 | D8: =IF(B8<>"",VLOOKUP(B8,Deelnemers2026!$B$2:$E$345,3,FALSE),"") -> Hoogerhorst Dg Oh Rubels-Red | E8: =IF(B8<>"",VLOOKUP(B8,Deelnemers2026!$B$2:$F$345,4,FALSE),"") -> C G de Jong | F8: =IF(B8<>"",VLOOKUP(B8,Deelnemers2026!$B$2:$F$345,5,FALSE),"") -> Noordeloos
A10: Beste uier: | B10: 203 | C10: =IF(B10<>"",VLOOKUP(B10,Deelnemers2026!$B$2:$E$345,2,FALSE),"") -> M.H. Alana 110 | D10: =IF(B10<>"",VLOOKUP(B10,Deelnemers2026!$B$2:$E$345,3,FALSE),"") -> Kenmore Triple Crown-Red | E10: =IF(B10<>"",VLOOKUP(B10,Deelnemers2026!$B$2:$F$345,4,FALSE),"") -> Merwehoeve de Groot V.O.F. | F10: =IF(B10<>"",VLOOKUP(B10,Deelnemers2026!$B$2:$F$345,5,FALSE),"") -> Herwijnen
A11: resterende uitslag: | B11: 201
C12: =IF(B12<>"",VLOOKUP(B12,Deelnemers2026!$B$2:$E$345,2,FALSE),"") | D12: =IF(B12<>"",VLOOKUP(B12,Deelnemers2026!$B$2:$E$345,3,FALSE),"") | E12: =IF(B12<>"",VLOOKUP(B12,Deelnemers2026!$B$2:$F$345,4,FALSE),"") | F12: =IF(B12<>"",VLOOKUP(B12,Deelnemers2026!$B$2:$F$345,5,FALSE),"")
C13: =IF(B13<>"",VLOOKUP(B13,Deelnemers2026!$B$2:$E$345,2,FALSE),"") | D13: =IF(B13<>"",VLOOKUP(B13,Deelnemers2026!$B$2:$E$345,3,FALSE),"") | E13: =IF(B13<>"",VLOOKUP(B13,Deelnemers2026!$B$2:$F$345,4,FALSE),"") | F13: =IF(B13<>"",VLOOKUP(B13,Deelnemers2026!$B$2:$F$345,5,FALSE),"")
A14: R2 | B14: jong r | C14: RB Jong
B15: cat nr. | C15: Naam | D15: Vader | E15: eigenaar | F15: plaats
A16: 1A | B16: 213 | C16: =IF(B16<>"",VLOOKUP(B16,Deelnemers2026!$B$2:$E$345,2,FALSE),"") -> Welland Dirkje 377 | D16: =IF(B16<>"",VLOOKUP(B16,Deelnemers2026!$B$2:$E$345,3,FALSE),"") -> Drouner Potency Red | E16: =IF(B16<>"",VLOOKUP(B16,Deelnemers2026!$B$2:$F$345,4,FALSE),"") -> A en R van der Wel | F16: =IF(B16<>"",VLOOKUP(B16,Deelnemers2026!$B$2:$F$345,5,FALSE),"") -> Hoogblokland
A18: 1B | B18: 219 | C18: =IF(B18<>"",VLOOKUP(B18,Deelnemers2026!$B$2:$E$345,2,FALSE),"") -> Grashoek Gerie 229 | D18: =IF(B18<>"",VLOOKUP(B18,Deelnemers2026!$B$2:$E$345,3,FALSE),"") -> Blogger | E18: =IF(B18<>"",VLOOKUP(B18,Deelnemers2026!$B$2:$F$345,4,FALSE),"") -> A en R van der Wel | F18: =IF(B18<>"",VLOOKUP(B18,Deelnemers2026!$B$2:$F$345,5,FALSE),"") -> Hoogblokland
A20: 1C | B20: 212 | C20: =IF(B20<>"",VLOOKUP(B20,Deelnemers2026!$B$2:$E$345,2,FALSE),"") -> Hbc Atomic Jolda | D20: =IF(B20<>"",VLOOKUP(B20,Deelnemers2026!$B$2:$E$345,3,FALSE),"") -> Larcrest Atomic-Red | E20: =IF(B20<>"",VLOOKUP(B20,Deelnemers2026!$B$2:$F$345,4,FALSE),"") -> Schep Holsteins Holland BV | F20: =IF(B20<>"",VLOOKUP(B20,Deelnemers2026!$B$2:$F$345,5,FALSE),"") -> Bergambacht
A22: Beste uier: | C22: =IF(B23<>"",VLOOKUP(B23,Deelnemers2026!$B$2:$E$345,2,FALSE),"") | D22: =IF(B23<>"",VLOOKUP(B23,Deelnemers2026!$B$2:$E$345,3,FALSE),"") | E22: =IF(B23<>"",VLOOKUP(B23,Deelnemers2026!$B$2:$F$345,4,FALSE),"") | F22: =IF(B23<>"",VLOOKUP(B23,Deelnemers2026!$B$2:$F$345,5,FALSE),"")
A23: resterende uitslag:
C24: =IF(B24<>"",VLOOKUP(B24,Deelnemers2026!$B$2:$E$345,2,FALSE),"") | D24: =IF(B24<>"",VLOOKUP(B24,Deelnemers2026!$B$2:$E$345,3,FALSE),"") | E24: =IF(B24<>"",VLOOKUP(B24,Deelnemers2026!$B$2:$F$345,4,FALSE),"") | F24: =IF(B24<>"",VLOOKUP(B24,Deelnemers2026!$B$2:$F$345,5,FALSE),"")
A25: R1 | B25: jong r | C25: RB ouderen koeien
B26: cat nr. | C26: Naam | D26: Vader | E26: eigenaar | F26: plaats
A27: 1A | B27: 224 | C27: =IF(B27<>"",VLOOKUP(B27,Deelnemers2026!$B$2:$E$345,2,FALSE),"") -> Hbc Power Buck Rose | D27: =IF(B27<>"",VLOOKUP(B27,Deelnemers2026!$B$2:$E$345,3,FALSE),"") -> Power | E27: =IF(B27<>"",VLOOKUP(B27,Deelnemers2026!$B$2:$F$345,4,FALSE),"") -> Schep Holsteins Holland BV | F27: =IF(B27<>"",VLOOKUP(B27,Deelnemers2026!$B$2:$F$345,5,FALSE),"") -> Bergambacht
A29: 1B | B29: 191 | C29: =IF(B29<>"",VLOOKUP(B29,Deelnemers2026!$B$2:$E$345,2,FALSE),"") -> Dana 4444 | D29: =IF(B29<>"",VLOOKUP(B29,Deelnemers2026!$B$2:$E$345,3,FALSE),"") -> Bruchter Passe | E29: =IF(B29<>"",VLOOKUP(B29,Deelnemers2026!$B$2:$F$345,4,FALSE),"") -> A en R van der Wel/ W den Besten | F29: =IF(B29<>"",VLOOKUP(B29,Deelnemers2026!$B$2:$F$345,5,FALSE),"") -> Hoogblokland
A31: 1C | B31: 229 | C31: =IF(B31<>"",VLOOKUP(B31,Deelnemers2026!$B$2:$E$345,2,FALSE),"") -> Jansje 381 | D31: =IF(B31<>"",VLOOKUP(B31,Deelnemers2026!$B$2:$E$345,3,FALSE),"") -> Delta Fun P | E31: =IF(B31<>"",VLOOKUP(B31,Deelnemers2026!$B$2:$F$345,4,FALSE),"") -> Vof Pellikaan-de Jong | F31: =IF(B31<>"",VLOOKUP(B31,Deelnemers2026!$B$2:$F$345,5,FALSE),"") -> Meerkerk
A33: Beste uier: | B33: 224 | C33: =IF(B33<>"",VLOOKUP(B33,Deelnemers2026!$B$2:$E$345,2,FALSE),"") -> Hbc Power Buck Rose | D33: =IF(B33<>"",VLOOKUP(B33,Deelnemers2026!$B$2:$E$345,3,FALSE),"") -> Power | E33: =IF(B33<>"",VLOOKUP(B33,Deelnemers2026!$B$2:$F$345,4,FALSE),"") -> Schep Holsteins Holland BV | F33: =IF(B33<>"",VLOOKUP(B33,Deelnemers2026!$B$2:$F$345,5,FALSE),"") -> Bergambacht
A34: resterende uitslag: | B34: 226, 227, 230, 231, 225
C35: =IF(B35<>"",VLOOKUP(B35,Deelnemers2026!$B$2:$E$345,2,FALSE),"") | D35: =IF(B35<>"",VLOOKUP(B35,Deelnemers2026!$B$2:$E$345,3,FALSE),"") | E35: =IF(B35<>"",VLOOKUP(B35,Deelnemers2026!$B$2:$F$345,4,FALSE),"") | F35: =IF(B35<>"",VLOOKUP(B35,Deelnemers2026!$B$2:$F$345,5,FALSE),"")
A36: R2 | B36: oud r | C36: RB ouderen koeien
B37: cat nr. | C37: Naam | D37: Vader | E37: eigenaar | F37: plaats
C38: =IF(B38<>"",VLOOKUP(B38,Deelnemers2026!$B$2:$E$345,2,FALSE),"") | D38: =IF(B38<>"",VLOOKUP(B38,Deelnemers2026!$B$2:$E$345,3,FALSE),"") | E38: =IF(B38<>"",VLOOKUP(B38,Deelnemers2026!$B$2:$F$345,4,FALSE),"") | F38: =IF(B38<>"",VLOOKUP(B38,Deelnemers2026!$B$2:$F$345,5,FALSE),"")
C39: =IF(B39<>"",VLOOKUP(B39,Deelnemers2026!$B$2:$E$345,2,FALSE),"") | D39: =IF(B39<>"",VLOOKUP(B39,Deelnemers2026!$B$2:$E$345,3,FALSE),"") | E39: =IF(B39<>"",VLOOKUP(B39,Deelnemers2026!$B$2:$F$345,4,FALSE),"") | F39: =IF(B39<>"",VLOOKUP(B39,Deelnemers2026!$B$2:$F$345,5,FALSE),"")
C40: =IF(B40<>"",VLOOKUP(B40,Deelnemers2026!$B$2:$E$345,2,FALSE),"") | D40: =IF(B40<>"",VLOOKUP(B40,Deelnemers2026!$B$2:$E$345,3,FALSE),"") | E40: =IF(B40<>"",VLOOKUP(B40,Deelnemers2026!$B$2:$F$345,4,FALSE),"") | F40: =IF(B40<>"",VLOOKUP(B40,Deelnemers2026!$B$2:$F$345,5,FALSE),"")
C41: =IF(B41<>"",VLOOKUP(B41,Deelnemers2026!$B$2:$E$345,2,FALSE),"") | D41: =IF(B41<>"",VLOOKUP(B41,Deelnemers2026!$B$2:$E$345,3,FALSE),"") | E41: =IF(B41<>"",VLOOKUP(B41,Deelnemers2026!$B$2:$F$345,4,FALSE),"") | F41: =IF(B41<>"",VLOOKUP(B41,Deelnemers2026!$B$2:$F$345,5,FALSE),"")
A42: Beste uier: | C42: =IF(B42<>"",VLOOKUP(B42,Deelnemers2026!$B$2:$E$345,2,FALSE),"") | D42: =IF(B42<>"",VLOOKUP(B42,Deelnemers2026!$B$2:$E$345,3,FALSE),"") | E42: =IF(B42<>"",VLOOKUP(B42,Deelnemers2026!$B$2:$F$345,4,FALSE),"") | F42: =IF(B42<>"",VLOOKUP(B42,Deelnemers2026!$B$2:$F$345,5,FALSE),"")
A43: resterende uitslag:
C44: =IF(B44<>"",VLOOKUP(B44,Deelnemers2026!$B$2:$E$345,2,FALSE),"") | D44: =IF(B44<>"",VLOOKUP(B44,Deelnemers2026!$B$2:$E$345,3,FALSE),"") | E44: =IF(B44<>"",VLOOKUP(B44,Deelnemers2026!$B$2:$F$345,4,FALSE),"") | F44: =IF(B44<>"",VLOOKUP(B44,Deelnemers2026!$B$2:$F$345,5,FALSE),"")
C45: =IF(B45<>"",VLOOKUP(B45,Deelnemers2026!$B$2:$E$345,2,FALSE),"") | D45: =IF(B45<>"",VLOOKUP(B45,Deelnemers2026!$B$2:$E$345,3,FALSE),"") | E45: =IF(B45<>"",VLOOKUP(B45,Deelnemers2026!$B$2:$F$345,4,FALSE),"") | F45: =IF(B45<>"",VLOOKUP(B45,Deelnemers2026!$B$2:$F$345,5,FALSE),"")
C46: =IF(B46<>"",VLOOKUP(B46,Deelnemers2026!$B$2:$E$345,2,FALSE),"") | D46: =IF(B46<>"",VLOOKUP(B46,Deelnemers2026!$B$2:$E$345,3,FALSE),"") | E46: =IF(B46<>"",VLOOKUP(B46,Deelnemers2026!$B$2:$F$345,4,FALSE),"") | F46: =IF(B46<>"",VLOOKUP(B46,Deelnemers2026!$B$2:$F$345,5,FALSE),"")
C47: =IF(B47<>"",VLOOKUP(B47,Deelnemers2026!$B$2:$E$345,2,FALSE),"") | D47: =IF(B47<>"",VLOOKUP(B47,Deelnemers2026!$B$2:$E$345,3,FALSE),"") | E47: =IF(B47<>"",VLOOKUP(B47,Deelnemers2026!$B$2:$F$345,4,FALSE),"") | F47: =IF(B47<>"",VLOOKUP(B47,Deelnemers2026!$B$2:$F$345,5,FALSE),"")
C48: =IF(B48<>"",VLOOKUP(B48,Deelnemers2026!$B$2:$E$345,2,FALSE),"") | D48: =IF(B48<>"",VLOOKUP(B48,Deelnemers2026!$B$2:$E$345,3,FALSE),"") | E48: =IF(B48<>"",VLOOKUP(B48,Deelnemers2026!$B$2:$F$345,4,FALSE),"") | F48: =IF(B48<>"",VLOOKUP(B48,Deelnemers2026!$B$2:$F$345,5,FALSE),"")
C57: =IF(B57<>"",VLOOKUP(B57,Deelnemers2026!$B$2:$E$345,2,FALSE),"") | D57: =IF(B57<>"",VLOOKUP(B57,Deelnemers2026!$B$2:$E$345,3,FALSE),"") | E57: =IF(B57<>"",VLOOKUP(B57,Deelnemers2026!$B$2:$F$345,4,FALSE),"") | F57: =IF(B57<>"",VLOOKUP(B57,Deelnemers2026!$B$2:$F$345,5,FALSE),"")
C58: =IF(B58<>"",VLOOKUP(B58,Deelnemers2026!$B$2:$E$345,2,FALSE),"") | D58: =IF(B58<>"",VLOOKUP(B58,Deelnemers2026!$B$2:$E$345,3,FALSE),"") | E58: =IF(B58<>"",VLOOKUP(B58,Deelnemers2026!$B$2:$F$345,4,FALSE),"") | F58: =IF(B58<>"",VLOOKUP(B58,Deelnemers2026!$B$2:$F$345,5,FALSE),"")
C59: =IF(B59<>"",VLOOKUP(B59,Deelnemers2026!$B$2:$E$345,2,FALSE),"") | D59: =IF(B59<>"",VLOOKUP(B59,Deelnemers2026!$B$2:$E$345,3,FALSE),"") | E59: =IF(B59<>"",VLOOKUP(B59,Deelnemers2026!$B$2:$F$345,4,FALSE),"") | F59: =IF(B59<>"",VLOOKUP(B59,Deelnemers2026!$B$2:$F$345,5,FALSE),"")
C60: =IF(B60<>"",VLOOKUP(B60,Deelnemers2026!$B$2:$E$345,2,FALSE),"") | D60: =IF(B60<>"",VLOOKUP(B60,Deelnemers2026!$B$2:$E$345,3,FALSE),"") | E60: =IF(B60<>"",VLOOKUP(B60,Deelnemers2026!$B$2:$F$345,4,FALSE),"") | F60: =IF(B60<>"",VLOOKUP(B60,Deelnemers2026!$B$2:$F$345,5,FALSE),"")
C61: =IF(B61<>"",VLOOKUP(B61,Deelnemers2026!$B$2:$E$345,2,FALSE),"") | D61: =IF(B61<>"",VLOOKUP(B61,Deelnemers2026!$B$2:$E$345,3,FALSE),"") | E61: =IF(B61<>"",VLOOKUP(B61,Deelnemers2026!$B$2:$F$345,4,FALSE),"") | F61: =IF(B61<>"",VLOOKUP(B61,Deelnemers2026!$B$2:$F$345,5,FALSE),"")
C62: =IF(B62<>"",VLOOKUP(B62,Deelnemers2026!$B$2:$E$345,2,FALSE),"") | D62: =IF(B62<>"",VLOOKUP(B62,Deelnemers2026!$B$2:$E$345,3,FALSE),"") | E62: =IF(B62<>"",VLOOKUP(B62,Deelnemers2026!$B$2:$F$345,4,FALSE),"") | F62: =IF(B62<>"",VLOOKUP(B62,Deelnemers2026!$B$2:$F$345,5,FALSE),"")
C63: =IF(B63<>"",VLOOKUP(B63,Deelnemers2026!$B$2:$E$345,2,FALSE),"") | D63: =IF(B63<>"",VLOOKUP(B63,Deelnemers2026!$B$2:$E$345,3,FALSE),"") | E63: =IF(B63<>"",VLOOKUP(B63,Deelnemers2026!$B$2:$F$345,4,FALSE),"") | F63: =IF(B63<>"",VLOOKUP(B63,Deelnemers2026!$B$2:$F$345,5,FALSE),"")
... C175: =IF(B175<>"",VLOOKUP(B175,Deelnemers2026!$B$2:$E$345,2,FALSE),"") | D175: =IF(B175<>"",VLOOKUP(B175,Deelnemers2026!$B$2:$E$345,3,FALSE),"") | E175: =IF(B175<>"",VLOOKUP(B175,Deelnemers2026!$B$2:$F$345,4,FALSE),"") | F175: =IF(B175<>"",VLOOKUP(B175,Deelnemers2026!$B$2:$F$345,5,FALSE),"")
C176: =IF(B176<>"",VLOOKUP(B176,Deelnemers2026!$B$2:$E$345,2,FALSE),"") | D176: =IF(B176<>"",VLOOKUP(B176,Deelnemers2026!$B$2:$F$345,3,FALSE),"") | E176: =IF(B176<>"",VLOOKUP(B176,Deelnemers2026!$B$2:$F$345,4,FALSE),"") | F176: =IF(B176<>"",VLOOKUP(B176,Deelnemers2026!$B$2:$F$345,5,FALSE),"")
C177: =IF(B177<>"",VLOOKUP(B177,Deelnemers2026!$B$2:$E$345,2,FALSE),"") | E177: =IF(B177<>"",VLOOKUP(B177,Deelnemers2026!$B$2:$F$345,4,FALSE),"") | F177: =IF(B177<>"",VLOOKUP(B177,Deelnemers2026!$B$2:$F$345,5,FALSE),"")
C178: =IF(B178<>"",VLOOKUP(B178,Deelnemers2026!$B$2:$E$345,2,FALSE),"") | D178: =IF(B178<>"",VLOOKUP(B178,Deelnemers2026!$B$2:$F$345,3,FALSE),"") | E178: =IF(B178<>"",VLOOKUP(B178,Deelnemers2026!$B$2:$F$345,4,FALSE),"") | F178: =IF(B178<>"",VLOOKUP(B178,Deelnemers2026!$B$2:$F$345,5,FALSE),"")
F179: =IF(B179<>"",VLOOKUP(B179,Deelnemers2026!$B$2:$F$345,5,FALSE),"")
C180: =IF(B180<>"",VLOOKUP(B180,Deelnemers2026!$B$2:$E$345,2,FALSE),"") | D180: =IF(B180<>"",VLOOKUP(B180,Deelnemers2026!$B$2:$E$345,3,FALSE),"") | E180: =IF(B180<>"",VLOOKUP(B180,Deelnemers2026!$B$2:$F$345,4,FALSE),"") | F180: =IF(B180<>"",VLOOKUP(B180,Deelnemers2026!$B$2:$F$345,5,FALSE),"")
C181: =IF(B181<>"",VLOOKUP(B181,Deelnemers2026!$B$2:$E$345,2,FALSE),"") | D181: =IF(B181<>"",VLOOKUP(B181,Deelnemers2026!$B$2:$F$345,3,FALSE),"") | E181: =IF(B181<>"",VLOOKUP(B181,Deelnemers2026!$B$2:$F$345,4,FALSE),"") | F181: =IF(B181<>"",VLOOKUP(B181,Deelnemers2026!$B$2:$F$345,5,FALSE),"")

Sheet Uitslag Divers 
B1: Uitslagen keuring divers
A2: R1 | B2: Jong
B3: cat nr. | C3: Naam | D3: Vader | E3: eigenaar | F3: plaats
A4: 1A | B4: 146 | C4: De Vinkenhof Roza 219 | E4: Vof de Vinkenhof | F4: Groot Ammers
A5: 1B | B5: 143 | C5: Manuel 84 | E5: Mts J en J Aanen-de Haan | F5: Brandwijk
A6: 1C | B6: 141 | C6: De Vinkenhof Danielle 240 | E6: Vof de Vinkenhof | F6: Groot Ammers
A8: Resterende uitslag
A10: R2 | B10: Jong
B11: cat nr. | C11: Naam | D11: Vader | E11: eigenaar | F11: plaats
A12: 1A | B12: 153 | C12: De Vinkenhof Annemarie 56 | D12: Harcon | E12: Vof de Vinkenhof | F12: Groot Ammers
A13: 1B | B13: 154 | C13: Johanna Vannem2 | D13: Lucky Vimo | E13: Mts J en J Aanen-de Haan | F13: Brandwijk
A14: 1C | B14: 155 | C14: Maaike 164 | D14: Go-Farm Miura ET | E14: Vof Boerderij de Verwondering | F14: Goudriaan
A16: Resterende uitslag
A18: R2 | B18: Middenklasse
B19: cat nr. | C19: Naam | D19: Vader | E19: eigenaar | F19: plaats
A20: 1A | B20: 162 | C20: Rb Glamour Girl | D20: River Valley Joyride | E20: Schouten Holsteins/J Verdoold | F20: Bergambacht
A21: 1B | B21: 165 | C21: Tida 242 | D21: Rh Norwin | E21: Vof Boerderij de Verwondering | F21: Goudriaan
A22: 1C | B22: 161 | C22: Tida 247 | D22: Guard | E22: Vof Boerderij de Verwondering | F22: Goudriaan
A24: Resterende uitslag
A26: R1 | B26: Oud
B27: cat nr. | C27: Naam | D27: Vader | E27: eigenaar | F27: plaats
A28: 1A | B28: 171 | C28: Giessenhof Augusta 227 | D28: Delta Lunar | E28: Mts Kortleve-Kooijman | F28: Noordeloos
A29: 1B | B29: 170 | C29: De Vinkenhof Uilkje 131 | D29: Saturnus | E29: Vof de Vinkenhof | F29: Groot Ammers
A30: 1C | B30: 176 | C30: Pien | D30: Fageno | E30: J A Smallegoor + F G Honders | F30: Doetinchem
A32: Resterende uitslag
A33: R2 | B33: Oud
B34: cat nr. | C34: Naam | D34: Vader | E34: eigenaar | F34: plaats
A35: 1A | B35: 190 | C35: Margriet 269 | D35: Ju Stefan | E35: De Drie Wedden | F35: Noordeloos
A36: 1B | B36: 184 | C36: Giessenhof Sannie 413 | D36: Cookiecutter Mom Hunter | E36: Mts Kortleve-Kooijman | F36: Noordeloos
A37: 1C | B37: 183 | C37: Dgh Wimpje 170 | D37: Leif | E37: De Groene Hofstee | F37: Hei en Boeicop
A39: Resterende uitslag
A42: Bedrijfsgroepen
A43: Rubr 1 | C43: Rubr 2 | D43: Rub 3
A44: 1A | B44: De verwondering | C44: De Vinkenhof | D44: De Vinkenhof
A45: 1B | B45: Aanen | C45: Groene Hoftstee | D45: De Drie Wedden
A46: 1C | B46: De Drie wedden | C46: Voets | D46: Kortleve
A49: Algemeen kamp bedrijfsgroepen
A50: Kampioen | B50: Vinkenhof
A51: Reserve kam | B51: Vinkenhof
A52: Eervolle vermel | B52: De Verwondering
C53: =IF(B53<>"",VLOOKUP(B53,Deelnemers2026!$B$2:$E$345,2,FALSE),"") | D53: =IF(B53<>"",VLOOKUP(B53,Deelnemers2026!$B$2:$E$345,3,FALSE),"") | E53: =IF(B53<>"",VLOOKUP(B53,Deelnemers2026!$B$2:$F$345,4,FALSE),"") | F53: =IF(B53<>"",VLOOKUP(B53,Deelnemers2026!$B$2:$F$345,5,FALSE),"")
C54: =IF(B54<>"",VLOOKUP(B54,Deelnemers2026!$B$2:$E$345,2,FALSE),"") | D54: =IF(B54<>"",VLOOKUP(B54,Deelnemers2026!$B$2:$E$345,3,FALSE),"") | E54: =IF(B54<>"",VLOOKUP(B54,Deelnemers2026!$B$2:$F$345,4,FALSE),"") | F54: =IF(B54<>"",VLOOKUP(B54,Deelnemers2026!$B$2:$F$345,5,FALSE),"")
C55: =IF(B55<>"",VLOOKUP(B55,Deelnemers2026!$B$2:$E$345,2,FALSE),"") | D55: =IF(B55<>"",VLOOKUP(B55,Deelnemers2026!$B$2:$E$345,3,FALSE),"") | E55: =IF(B55<>"",VLOOKUP(B55,Deelnemers2026!$B$2:$F$345,4,FALSE),"") | F55: =IF(B55<>"",VLOOKUP(B55,Deelnemers2026!$B$2:$F$345,5,FALSE),"")
C56: =IF(B56<>"",VLOOKUP(B56,Deelnemers2026!$B$2:$E$345,2,FALSE),"") | D56: =IF(B56<>"",VLOOKUP(B56,Deelnemers2026!$B$2:$E$345,3,FALSE),"") | E56: =IF(B56<>"",VLOOKUP(B56,Deelnemers2026!$B$2:$F$345,4,FALSE),"") | F56: =IF(B56<>"",VLOOKUP(B56,Deelnemers2026!$B$2:$F$345,5,FALSE),"")
C57: =IF(B57<>"",VLOOKUP(B57,Deelnemers2026!$B$2:$E$345,2,FALSE),"") | D57: =IF(B57<>"",VLOOKUP(B57,Deelnemers2026!$B$2:$E$345,3,FALSE),"") | E57: =IF(B57<>"",VLOOKUP(B57,Deelnemers2026!$B$2:$F$345,4,FALSE),"") | F57: =IF(B57<>"",VLOOKUP(B57,Deelnemers2026!$B$2:$F$345,5,FALSE),"")
C58: =IF(B58<>"",VLOOKUP(B58,Deelnemers2026!$B$2:$E$345,2,FALSE),"") | D58: =IF(B58<>"",VLOOKUP(B58,Deelnemers2026!$B$2:$E$345,3,FALSE),"") | E58: =IF(B58<>"",VLOOKUP(B58,Deelnemers2026!$B$2:$F$345,4,FALSE),"") | F58: =IF(B58<>"",VLOOKUP(B58,Deelnemers2026!$B$2:$F$345,5,FALSE),"")
C59: =IF(B59<>"",VLOOKUP(B59,Deelnemers2026!$B$2:$E$345,2,FALSE),"") | D59: =IF(B59<>"",VLOOKUP(B59,Deelnemers2026!$B$2:$E$345,3,FALSE),"") | E59: =IF(B59<>"",VLOOKUP(B59,Deelnemers2026!$B$2:$F$345,4,FALSE),"") | F59: =IF(B59<>"",VLOOKUP(B59,Deelnemers2026!$B$2:$F$345,5,FALSE),"")
C60: =IF(B60<>"",VLOOKUP(B60,Deelnemers2026!$B$2:$E$345,2,FALSE),"") | D60: =IF(B60<>"",VLOOKUP(B60,Deelnemers2026!$B$2:$E$345,3,FALSE),"") | E60: =IF(B60<>"",VLOOKUP(B60,Deelnemers2026!$B$2:$F$345,4,FALSE),"") | F60: =IF(B60<>"",VLOOKUP(B60,Deelnemers2026!$B$2:$F$345,5,FALSE),"")
C61: =IF(B61<>"",VLOOKUP(B61,Deelnemers2026!$B$2:$E$345,2,FALSE),"") | D61: =IF(B61<>"",VLOOKUP(B61,Deelnemers2026!$B$2:$E$345,3,FALSE),"") | E61: =IF(B61<>"",VLOOKUP(B61,Deelnemers2026!$B$2:$F$345,4,FALSE),"") | F61: =IF(B61<>"",VLOOKUP(B61,Deelnemers2026!$B$2:$F$345,5,FALSE),"")
C62: =IF(B62<>"",VLOOKUP(B62,Deelnemers2026!$B$2:$E$345,2,FALSE),"") | D62: =IF(B62<>"",VLOOKUP(B62,Deelnemers2026!$B$2:$E$345,3,FALSE),"") | E62: =IF(B62<>"",VLOOKUP(B62,Deelnemers2026!$B$2:$F$345,4,FALSE),"") | F62: =IF(B62<>"",VLOOKUP(B62,Deelnemers2026!$B$2:$F$345,5,FALSE),"")
C63: =IF(B63<>"",VLOOKUP(B63,Deelnemers2026!$B$2:$E$345,2,FALSE),"") | D63: =IF(B63<>"",VLOOKUP(B63,Deelnemers2026!$B$2:$E$345,3,FALSE),"") | E63: =IF(B63<>"",VLOOKUP(B63,Deelnemers2026!$B$2:$F$345,4,FALSE),"") | F63: =IF(B63<>"",VLOOKUP(B63,Deelnemers2026!$B$2:$F$345,5,FALSE),"")
C64: =IF(B64<>"",VLOOKUP(B64,Deelnemers2026!$B$2:$E$345,2,FALSE),"") | D64: =IF(B64<>"",VLOOKUP(B64,Deelnemers2026!$B$2:$E$345,3,FALSE),"") | E64: =IF(B64<>"",VLOOKUP(B64,Deelnemers2026!$B$2:$F$345,4,FALSE),"") | F64: =IF(B64<>"",VLOOKUP(B64,Deelnemers2026!$B$2:$F$345,5,FALSE),"")
... C138: =IF(B138<>"",VLOOKUP(B138,Deelnemers2026!$B$2:$E$345,2,FALSE),"") | D138: =IF(B138<>"",VLOOKUP(B138,Deelnemers2026!$B$2:$E$345,3,FALSE),"") | E138: =IF(B138<>"",VLOOKUP(B138,Deelnemers2026!$B$2:$F$345,4,FALSE),"") | F138: =IF(B138<>"",VLOOKUP(B138,Deelnemers2026!$B$2:$F$345,5,FALSE),"")

Sheet Groepen
B2: Groep nr: | C2: Zwart bont
B3: R1
B4: 1a | C4: Merwehoeve
B5: 1b | C5: De jong
B6: 1c | C6: Kortlever
B9: R2
B10: 1a | C10: fa de groot
B11: 1b | C11: bons holsteins
B12: 1c
B14: R3 | C14: was er niet
B15: 1a
B16: 1b
B17: 1c
B20: Roodbont
B21: R1
B22: 1a | C22: van der Wel
B23: 1b | C23: Pelikaan
B24: 1c | C24: Van Zessen

Sheet Showmanship
B2: Kampioenschap showmanship junior | E2: Kampioenschap showmanship senior
A3: Kampioen | B3: 262 | D3: Kampioen | E3: 242
A4: Resereve kampioen | B4: 259 | D4: Resereve kampioen | E4: 265
A5: Eervolle vermelding | B5: 244 | D5: Eervolle vermelding | E5: 281
A8: Ring 1 eeste ronde | C8: Ring 2, rubriek 1 showmanship senior
A9: 262 | C9: 242 | E9: Ring 3, rubriek 2 showmanship senior
A10: 259 | C10: 265 | E10: 281
A11: 244 | C11: 268 | E11: 267
A12: 261 | C12: 257 | E12: 269
A13: 280 | C13: 254 | E13: 279
A14: 250 | C14: 243 | E14: 278
A15: 256 | C15: 272 | E15: 253
A16: 248 | C16: 266 | E16: 270
A17: 252 | C17: 271

Sheet Kampioenen
B1: cat nr. | C1: Naam | D1: Vader | E1: Eigenaar | F1: Plaats | G1: Showman
A2: Kampioenschap showmanship junior
A3: Kampioen | B3: 262 | C3: =IF($B3<>"",VLOOKUP($B3,Deelnemers2026!$B$2:$G$345,2,FALSE),"") -> Marry 150 | D3: =IF($B3<>"",VLOOKUP($B3,Deelnemers2026!$B$2:$G$345,3,FALSE),"") -> Comestar Lemagic | E3: =IF($B3<>"",VLOOKUP($B3,Deelnemers2026!$B$2:$G$345,4,FALSE),"") -> Vof MCJM + GAM Goesten-Pullen | F3: =IF($B3<>"",VLOOKUP($B3,Deelnemers2026!$B$2:$G$345,5,FALSE),"") -> Hedel | G3: =IF($B3<>"",VLOOKUP($B3,Deelnemers2026!$B$2:$G$345,6,FALSE),"") -> Femke Goesten, 15
A4: Resereve kampioen | B4: 259 | C4: =IF($B4<>"",VLOOKUP($B4,Deelnemers2026!$B$2:$G$345,2,FALSE),"") -> Hbc Detect. Morena | D4: =IF($B4<>"",VLOOKUP($B4,Deelnemers2026!$B$2:$G$345,3,FALSE),"") -> Blondin Detective | E4: =IF($B4<>"",VLOOKUP($B4,Deelnemers2026!$B$2:$G$345,4,FALSE),"") -> Schep Holsteins Holland BV | F4: =IF($B4<>"",VLOOKUP($B4,Deelnemers2026!$B$2:$G$345,5,FALSE),"") -> Bergambacht | G4: =IF($B4<>"",VLOOKUP($B4,Deelnemers2026!$B$2:$G$345,6,FALSE),"") -> Lieke Schep, 16
A5: Eervolle vermelding | B5: 244 | C5: =IF($B5<>"",VLOOKUP($B5,Deelnemers2026!$B$2:$G$345,2,FALSE),"") -> M.H. Evalyn 122 | D5: =IF($B5<>"",VLOOKUP($B5,Deelnemers2026!$B$2:$G$345,3,FALSE),"") -> Siemers Renegade Parfect | E5: =IF($B5<>"",VLOOKUP($B5,Deelnemers2026!$B$2:$G$345,4,FALSE),"") -> Merwehoeve de Groot V.O.F. | F5: =IF($B5<>"",VLOOKUP($B5,Deelnemers2026!$B$2:$G$345,5,FALSE),"") -> Herwijnen | G5: =IF($B5<>"",VLOOKUP($B5,Deelnemers2026!$B$2:$G$345,6,FALSE),"") -> Lynn Keijzer, 14
A7: Kampioenschap showmanship senior
A8: Kampioen | B8: 242 | C8: =IF($B8<>"",VLOOKUP($B8,Deelnemers2026!$B$2:$G$345,2,FALSE),"") -> Nijntje | D8: =IF($B8<>"",VLOOKUP($B8,Deelnemers2026!$B$2:$G$345,3,FALSE),"") -> Real Red Mo | E8: =IF($B8<>"",VLOOKUP($B8,Deelnemers2026!$B$2:$G$345,4,FALSE),"") -> Fa Brouwer-Bor | F8: =IF($B8<>"",VLOOKUP($B8,Deelnemers2026!$B$2:$G$345,5,FALSE),"") -> Noordeloos | G8: Lieke Brouwer 18
A9: Resereve kampioen | B9: 265 | C9: =IF($B9<>"",VLOOKUP($B9,Deelnemers2026!$B$2:$G$345,2,FALSE),"") -> Hiltje 73 | D9: =IF($B9<>"",VLOOKUP($B9,Deelnemers2026!$B$2:$G$345,3,FALSE),"") -> Peeldijker Freezer | E9: =IF($B9<>"",VLOOKUP($B9,Deelnemers2026!$B$2:$G$345,4,FALSE),"") -> Vof Harteveld | F9: =IF($B9<>"",VLOOKUP($B9,Deelnemers2026!$B$2:$G$345,5,FALSE),"") -> Ameide | G9: =IF($B9<>"",VLOOKUP($B9,Deelnemers2026!$B$2:$G$345,6,FALSE),"") -> Sara Harteveld, 17
A10: Eervolle vermelding | B10: 281 | C10: =IF($B10<>"",VLOOKUP($B10,Deelnemers2026!$B$2:$G$345,2,FALSE),"") -> Does 63 | D10: =IF($B10<>"",VLOOKUP($B10,Deelnemers2026!$B$2:$G$345,3,FALSE),"") -> Crater Camden | E10: =IF($B10<>"",VLOOKUP($B10,Deelnemers2026!$B$2:$G$345,4,FALSE),"") -> Vof Harteveld | F10: =IF($B10<>"",VLOOKUP($B10,Deelnemers2026!$B$2:$G$345,5,FALSE),"") -> Ameide | G10: =IF($B10<>"",VLOOKUP($B10,Deelnemers2026!$B$2:$G$345,6,FALSE),"") -> Ellemieke Gerritsen, 22
A12: Kampioenschap exterieur pinken
A13: Kampioen | B13: 280 | C13: =IF($B13<>"",VLOOKUP($B13,Deelnemers2026!$B$2:$G$345,2,FALSE),"") -> Brando Bianca 122 | D13: =IF($B13<>"",VLOOKUP($B13,Deelnemers2026!$B$2:$G$345,3,FALSE),"") -> Siemers Renegade Parfect | E13: =IF($B13<>"",VLOOKUP($B13,Deelnemers2026!$B$2:$G$345,4,FALSE),"") -> Vof D + D Schakel | F13: =IF($B13<>"",VLOOKUP($B13,Deelnemers2026!$B$2:$G$345,5,FALSE),"") -> Brandwijk | G13: =IF($B13<>"",VLOOKUP($B13,Deelnemers2026!$B$2:$G$345,6,FALSE),"") -> Bernice Hofman, 16
A14: Resereve kampioen | B14: 250 | C14: =IF($B14<>"",VLOOKUP($B14,Deelnemers2026!$B$2:$G$345,2,FALSE),"") -> M.H. Alana 162 | D14: =IF($B14<>"",VLOOKUP($B14,Deelnemers2026!$B$2:$G$345,3,FALSE),"") -> Haveitall Dropbx Hellion | E14: =IF($B14<>"",VLOOKUP($B14,Deelnemers2026!$B$2:$G$345,4,FALSE),"") -> Merwehoeve de Groot V.O.F. | F14: =IF($B14<>"",VLOOKUP($B14,Deelnemers2026!$B$2:$G$345,5,FALSE),"") -> Herwijnen | G14: =IF($B14<>"",VLOOKUP($B14,Deelnemers2026!$B$2:$G$345,6,FALSE),"") -> Iris de Groot, 14
A15: Eervolle vermelding | B15: 259 | C15: =IF($B15<>"",VLOOKUP($B15,Deelnemers2026!$B$2:$G$345,2,FALSE),"") -> Hbc Detect. Morena | D15: =IF($B15<>"",VLOOKUP($B15,Deelnemers2026!$B$2:$G$345,3,FALSE),"") -> Blondin Detective | E15: =IF($B15<>"",VLOOKUP($B15,Deelnemers2026!$B$2:$G$345,4,FALSE),"") -> Schep Holsteins Holland BV | F15: =IF($B15<>"",VLOOKUP($B15,Deelnemers2026!$B$2:$G$345,5,FALSE),"") -> Bergambacht | G15: =IF($B15<>"",VLOOKUP($B15,Deelnemers2026!$B$2:$G$345,6,FALSE),"") -> Lieke Schep, 16
A17: Kampioenschap toilet pinken
A18: Kampioen | B18: 265 | C18: =IF($B18<>"",VLOOKUP($B18,Deelnemers2026!$B$2:$G$345,2,FALSE),"") -> Hiltje 73 | D18: =IF($B18<>"",VLOOKUP($B18,Deelnemers2026!$B$2:$G$345,3,FALSE),"") -> Peeldijker Freezer | E18: =IF($B18<>"",VLOOKUP($B18,Deelnemers2026!$B$2:$G$345,4,FALSE),"") -> Vof Harteveld | F18: =IF($B18<>"",VLOOKUP($B18,Deelnemers2026!$B$2:$G$345,5,FALSE),"") -> Ameide | G18: =IF($B18<>"",VLOOKUP($B18,Deelnemers2026!$B$2:$G$345,6,FALSE),"") -> Sara Harteveld, 17
A19: Resereve kampioen | B19: 242 | C19: =IF($B19<>"",VLOOKUP($B19,Deelnemers2026!$B$2:$G$345,2,FALSE),"") -> Nijntje | D19: =IF($B19<>"",VLOOKUP($B19,Deelnemers2026!$B$2:$G$345,3,FALSE),"") -> Real Red Mo | E19: =IF($B19<>"",VLOOKUP($B19,Deelnemers2026!$B$2:$G$345,4,FALSE),"") -> Fa Brouwer-Bor | F19: =IF($B19<>"",VLOOKUP($B19,Deelnemers2026!$B$2:$G$345,5,FALSE),"") -> Noordeloos | G19: Lieke Brouwer 18
A20: Eervolle vermelding | B20: 264 | C20: =IF($B20<>"",VLOOKUP($B20,Deelnemers2026!$B$2:$G$345,2,FALSE),"") -> Dit 73 | D20: =IF($B20<>"",VLOOKUP($B20,Deelnemers2026!$B$2:$G$345,3,FALSE),"") -> Mb-Luckylady Bullseye | E20: =IF($B20<>"",VLOOKUP($B20,Deelnemers2026!$B$2:$G$345,4,FALSE),"") -> Vof MCJM + GAM Goesten-Pullen | F20: =IF($B20<>"",VLOOKUP($B20,Deelnemers2026!$B$2:$G$345,5,FALSE),"") -> Hedel | G20: =IF($B20<>"",VLOOKUP($B20,Deelnemers2026!$B$2:$G$345,6,FALSE),"") -> Femke van Genderen, 18
A22: Kampioenschap zwartbont vaarzen
A23: Kampioen | B23: 14 | C23: =IF($B23<>"",VLOOKUP($B23,Deelnemers2026!$B$2:$G$345,2,FALSE),"") -> Bons-Holsteins Koba 314 | D23: =IF($B23<>"",VLOOKUP($B23,Deelnemers2026!$B$2:$G$345,3,FALSE),"") -> Stantons Alligator | E23: =IF($B23<>"",VLOOKUP($B23,Deelnemers2026!$B$2:$G$345,4,FALSE),"") -> Bons-Holsteins | F23: =IF($B23<>"",VLOOKUP($B23,Deelnemers2026!$B$2:$G$345,5,FALSE),"") -> Ottoland
A24: Resereve kampioen | B24: 24 | C24: =IF($B24<>"",VLOOKUP($B24,Deelnemers2026!$B$2:$G$345,2,FALSE),"") -> Bertha 218 | D24: =IF($B24<>"",VLOOKUP($B24,Deelnemers2026!$B$2:$G$345,3,FALSE),"") -> Cherry-Lily Zip Luster-P | E24: =IF($B24<>"",VLOOKUP($B24,Deelnemers2026!$B$2:$G$345,4,FALSE),"") -> Fa de Groot | F24: =IF($B24<>"",VLOOKUP($B24,Deelnemers2026!$B$2:$G$345,5,FALSE),"") -> Everdingen
A25: Eervolle vermelding | B25: 15 | C25: =IF($B25<>"",VLOOKUP($B25,Deelnemers2026!$B$2:$G$345,2,FALSE),"") -> Margriet 398 | D25: =IF($B25<>"",VLOOKUP($B25,Deelnemers2026!$B$2:$G$345,3,FALSE),"") -> Bertt | E25: =IF($B25<>"",VLOOKUP($B25,Deelnemers2026!$B$2:$G$345,4,FALSE),"") -> Het Lam Vof | F25: =IF($B25<>"",VLOOKUP($B25,Deelnemers2026!$B$2:$G$345,5,FALSE),"") -> Leerbroek
A26: Uierkampioene | B26: 24 | C26: =IF($B26<>"",VLOOKUP($B26,Deelnemers2026!$B$2:$G$345,2,FALSE),"") -> Bertha 218 | D26: =IF($B26<>"",VLOOKUP($B26,Deelnemers2026!$B$2:$G$345,3,FALSE),"") -> Cherry-Lily Zip Luster-P | E26: =IF($B26<>"",VLOOKUP($B26,Deelnemers2026!$B$2:$G$345,4,FALSE),"") -> Fa de Groot | F26: =IF($B26<>"",VLOOKUP($B26,Deelnemers2026!$B$2:$G$345,5,FALSE),"") -> Everdingen
A28: Kampioenschap roodbont jong
A29: Kampioen | B29: 213 | C29: =IF($B29<>"",VLOOKUP($B29,Deelnemers2026!$B$2:$G$345,2,FALSE),"") -> Welland Dirkje 377 | D29: =IF($B29<>"",VLOOKUP($B29,Deelnemers2026!$B$2:$G$345,3,FALSE),"") -> Drouner Potency Red | E29: =IF($B29<>"",VLOOKUP($B29,Deelnemers2026!$B$2:$G$345,4,FALSE),"") -> A en R van der Wel | F29: =IF($B29<>"",VLOOKUP($B29,Deelnemers2026!$B$2:$G$345,5,FALSE),"") -> Hoogblokland
A30: Resereve kampioen | B30: 203 | C30: =IF($B30<>"",VLOOKUP($B30,Deelnemers2026!$B$2:$G$345,2,FALSE),"") -> M.H. Alana 110 | D30: =IF($B30<>"",VLOOKUP($B30,Deelnemers2026!$B$2:$G$345,3,FALSE),"") -> Kenmore Triple Crown-Red | E30: =IF($B30<>"",VLOOKUP($B30,Deelnemers2026!$B$2:$G$345,4,FALSE),"") -> Merwehoeve de Groot V.O.F. | F30: =IF($B30<>"",VLOOKUP($B30,Deelnemers2026!$B$2:$G$345,5,FALSE),"") -> Herwijnen
A31: Eervolle vermelding | B31: 219 | C31: =IF($B31<>"",VLOOKUP($B31,Deelnemers2026!$B$2:$G$345,2,FALSE),"") -> Grashoek Gerie 229 | D31: =IF($B31<>"",VLOOKUP($B31,Deelnemers2026!$B$2:$G$345,3,FALSE),"") -> Blogger | E31: =IF($B31<>"",VLOOKUP($B31,Deelnemers2026!$B$2:$G$345,4,FALSE),"") -> A en R van der Wel | F31: =IF($B31<>"",VLOOKUP($B31,Deelnemers2026!$B$2:$G$345,5,FALSE),"") -> Hoogblokland
A32: Uierkampioene | B32: 212 | C32: =IF($B32<>"",VLOOKUP($B32,Deelnemers2026!$B$2:$G$345,2,FALSE),"") -> Hbc Atomic Jolda | D32: =IF($B32<>"",VLOOKUP($B32,Deelnemers2026!$B$2:$G$345,3,FALSE),"") -> Larcrest Atomic-Red | E32: =IF($B32<>"",VLOOKUP($B32,Deelnemers2026!$B$2:$G$345,4,FALSE),"") -> Schep Holsteins Holland BV | F32: =IF($B32<>"",VLOOKUP($B32,Deelnemers2026!$B$2:$G$345,5,FALSE),"") -> Bergambacht
A34: Kampioenschap zwartbont middenklasse
A35: Kampioen | B35: 63 | C35: =IF($B35<>"",VLOOKUP($B35,Deelnemers2026!$B$2:$G$345,2,FALSE),"") -> Bons-Holsteins Koba 291 | D35: =IF($B35<>"",VLOOKUP($B35,Deelnemers2026!$B$2:$G$345,3,FALSE),"") -> Stantons Alligator | E35: =IF($B35<>"",VLOOKUP($B35,Deelnemers2026!$B$2:$G$345,4,FALSE),"") -> Bons-Holsteins/Schep Holsteins/ALH Genetics | F35: =IF($B35<>"",VLOOKUP($B35,Deelnemers2026!$B$2:$G$345,5,FALSE),"") -> Ottoland
A36: Resereve kampioen | B36: 118 | C36: =IF($B36<>"",VLOOKUP($B36,Deelnemers2026!$B$2:$G$345,2,FALSE),"") -> Bertha 220 | D36: =IF($B36<>"",VLOOKUP($B36,Deelnemers2026!$B$2:$G$345,3,FALSE),"") -> Stantons Chief | E36: =IF($B36<>"",VLOOKUP($B36,Deelnemers2026!$B$2:$G$345,4,FALSE),"") -> Fa de Groot | F36: =IF($B36<>"",VLOOKUP($B36,Deelnemers2026!$B$2:$G$345,5,FALSE),"") -> Everdingen
A37: Eervolle vermelding | B37: 52 | C37: =IF($B37<>"",VLOOKUP($B37,Deelnemers2026!$B$2:$G$345,2,FALSE),"") -> Wilhelmina 641 | D37: =IF($B37<>"",VLOOKUP($B37,Deelnemers2026!$B$2:$G$345,3,FALSE),"") -> Farnear Delta-Lambda | E37: =IF($B37<>"",VLOOKUP($B37,Deelnemers2026!$B$2:$G$345,4,FALSE),"") -> Mts van Dijk-de Bruin | F37: =IF($B37<>"",VLOOKUP($B37,Deelnemers2026!$B$2:$G$345,5,FALSE),"") -> Giessenburg
A38: Uierkampioene | B38: 58 | C38: =IF($B38<>"",VLOOKUP($B38,Deelnemers2026!$B$2:$G$345,2,FALSE),"") -> J.Schief.Philo | D38: =IF($B38<>"",VLOOKUP($B38,Deelnemers2026!$B$2:$G$345,3,FALSE),"") -> Stantons Chief | E38: =IF($B38<>"",VLOOKUP($B38,Deelnemers2026!$B$2:$G$345,4,FALSE),"") -> Vof Jongsteins | F38: =IF($B38<>"",VLOOKUP($B38,Deelnemers2026!$B$2:$G$345,5,FALSE),"") -> Hoogblokland
A40: Kampioenschap zwartbont oud
A41: Kampioen | B41: 102 | C41: =IF($B41<>"",VLOOKUP($B41,Deelnemers2026!$B$2:$G$345,2,FALSE),"") -> Bons-Holsteins Koba 253 | D41: =IF($B41<>"",VLOOKUP($B41,Deelnemers2026!$B$2:$G$345,3,FALSE),"") -> Walnutlawn Solomon | E41: =IF($B41<>"",VLOOKUP($B41,Deelnemers2026!$B$2:$G$345,4,FALSE),"") -> Bons-Holsteins | F41: =IF($B41<>"",VLOOKUP($B41,Deelnemers2026!$B$2:$G$345,5,FALSE),"") -> Ottoland
A42: Resereve kampioen | B42: 81 | C42: =IF($B42<>"",VLOOKUP($B42,Deelnemers2026!$B$2:$G$345,2,FALSE),"") -> Lambda Ashlyn | D42: =IF($B42<>"",VLOOKUP($B42,Deelnemers2026!$B$2:$G$345,3,FALSE),"") -> Farnear Delta-Lambda | E42: =IF($B42<>"",VLOOKUP($B42,Deelnemers2026!$B$2:$G$345,4,FALSE),"") -> Fa de Groot | F42: =IF($B42<>"",VLOOKUP($B42,Deelnemers2026!$B$2:$G$345,5,FALSE),"") -> Everdingen
A43: Eervolle vermelding | B43: 120 | C43: =IF($B43<>"",VLOOKUP($B43,Deelnemers2026!$B$2:$G$345,2,FALSE),"") -> Wilhelmina 602 | D43: =IF($B43<>"",VLOOKUP($B43,Deelnemers2026!$B$2:$G$345,3,FALSE),"") -> Comestar Lauthority | E43: =IF($B43<>"",VLOOKUP($B43,Deelnemers2026!$B$2:$G$345,4,FALSE),"") -> Mts van Dijk-de Bruin | F43: =IF($B43<>"",VLOOKUP($B43,Deelnemers2026!$B$2:$G$345,5,FALSE),"") -> Giessenburg
A44: Uierkampioene | B44: 102 | C44: =IF($B44<>"",VLOOKUP($B44,Deelnemers2026!$B$2:$G$345,2,FALSE),"") -> Bons-Holsteins Koba 253 | D44: =IF($B44<>"",VLOOKUP($B44,Deelnemers2026!$B$2:$G$345,3,FALSE),"") -> Walnutlawn Solomon | E44: =IF($B44<>"",VLOOKUP($B44,Deelnemers2026!$B$2:$G$345,4,FALSE),"") -> Bons-Holsteins | F44: =IF($B44<>"",VLOOKUP($B44,Deelnemers2026!$B$2:$G$345,5,FALSE),"") -> Ottoland
A46: Kampioenschap roodbont oud
A47: Kampioen | B47: 224 | C47: =IF($B47<>"",VLOOKUP($B47,Deelnemers2026!$B$2:$G$345,2,FALSE),"") -> Hbc Power Buck Rose | D47: =IF($B47<>"",VLOOKUP($B47,Deelnemers2026!$B$2:$G$345,3,FALSE),"") -> Power | E47: =IF($B47<>"",VLOOKUP($B47,Deelnemers2026!$B$2:$G$345,4,FALSE),"") -> Schep Holsteins Holland BV | F47: =IF($B47<>"",VLOOKUP($B47,Deelnemers2026!$B$2:$G$345,5,FALSE),"") -> Bergambacht
A48: Resereve kampioen | B48: 191 | C48: =IF($B48<>"",VLOOKUP($B48,Deelnemers2026!$B$2:$G$345,2,FALSE),"") -> Dana 4444 | D48: =IF($B48<>"",VLOOKUP($B48,Deelnemers2026!$B$2:$G$345,3,FALSE),"") -> Bruchter Passe | E48: =IF($B48<>"",VLOOKUP($B48,Deelnemers2026!$B$2:$G$345,4,FALSE),"") -> A en R van der Wel/ W den Besten | F48: =IF($B48<>"",VLOOKUP($B48,Deelnemers2026!$B$2:$G$345,5,FALSE),"") -> Hoogblokland
A49: Eervolle vermelding | B49: 229 | C49: =IF($B49<>"",VLOOKUP($B49,Deelnemers2026!$B$2:$G$345,2,FALSE),"") -> Jansje 381 | D49: =IF($B49<>"",VLOOKUP($B49,Deelnemers2026!$B$2:$G$345,3,FALSE),"") -> Delta Fun P | E49: =IF($B49<>"",VLOOKUP($B49,Deelnemers2026!$B$2:$G$345,4,FALSE),"") -> Vof Pellikaan-de Jong | F49: =IF($B49<>"",VLOOKUP($B49,Deelnemers2026!$B$2:$G$345,5,FALSE),"") -> Meerkerk
A50: Uierkampioene | B50: 224 | C50: =IF($B50<>"",VLOOKUP($B50,Deelnemers2026!$B$2:$G$345,2,FALSE),"") -> Hbc Power Buck Rose | D50: =IF($B50<>"",VLOOKUP($B50,Deelnemers2026!$B$2:$G$345,3,FALSE),"") -> Power | E50: =IF($B50<>"",VLOOKUP($B50,Deelnemers2026!$B$2:$G$345,4,FALSE),"") -> Schep Holsteins Holland BV | F50: =IF($B50<>"",VLOOKUP($B50,Deelnemers2026!$B$2:$G$345,5,FALSE),"") -> Bergambacht
A52: Bedrijfgroepen zwartbont | C52: Bedrijf | D52: Plaats
A53: Kampioen | C53: Fa de Groot | D53: Everdingen
A54: Resereve kampioen | C54: Bons-Holsteins | D54: Ottoland
A55: Eervolle vermelding | C55: Merwerhoeve de Groot | D55: Herwijnen
A57: Bedrijfgroepen roodbont | C57: Bedrijf | D57: Plaats
A58: Kampioen | C58: A en R van der Wel | D58: Hoogblokland
A59: Resereve kampioen | C59: Vof Pelikaan-de Jong | D59: Meerkerk
A60: Eervolle vermelding | C60: Melkveebedrijf van Zessen | D60: Lexmond
A62: Bedrijfgroepen Divers
A63: Kampioen | C63: De Vinkenhof
A64: Resereve kampioen | C64: De Vinkenhof
A65: Eervolle vermelding
A67: WEA
A68: Kamp | B68: 191 | C68: Dana 4444 | D68: Bruchter Passe | E68: A en R van der Wel/ W den Besten | F68: Hoogblokland
A69: res Kamp | B69: 112 | C69: Aaltje 355 | D69: De-Su 521 Bookem | E69: D A Keijzer Vof | F69: Gorinchem
A70: Eervolle vermelding | B70: 113 | C70: Marietje | D70: Lone-Oak-Acres Altarabo-ET | E70: Nieuwvredebest BV | F70: Vuren
A72: Keuring Divers
A73: Divers jong
A74: Kampioen | B74: 146 | C74: =IF($B74<>"",VLOOKUP($B74,Deelnemers2026!$B$2:$G$345,2,FALSE),"") -> De Vinkenhof Roza 219 | D74: =IF($B74<>"",VLOOKUP($B74,Deelnemers2026!$B$2:$G$345,3,FALSE),"") -> Delta Launch Pp-Red | E74: =IF($B74<>"",VLOOKUP($B74,Deelnemers2026!$B$2:$G$345,4,FALSE),"") -> Vof de Vinkenhof | F74: =IF($B74<>"",VLOOKUP($B74,Deelnemers2026!$B$2:$G$345,5,FALSE),"") -> Groot Ammers
A75: Reserve Kampioen | B75: 153 | C75: =IF($B75<>"",VLOOKUP($B75,Deelnemers2026!$B$2:$G$345,2,FALSE),"") -> De Vinkenhof Annemarie 56 | D75: =IF($B75<>"",VLOOKUP($B75,Deelnemers2026!$B$2:$G$345,3,FALSE),"") -> Harcon | E75: =IF($B75<>"",VLOOKUP($B75,Deelnemers2026!$B$2:$G$345,4,FALSE),"") -> Vof de Vinkenhof | F75: =IF($B75<>"",VLOOKUP($B75,Deelnemers2026!$B$2:$G$345,5,FALSE),"") -> Groot Ammers
A77: Divers middenklasse
A78: Kampioen | B78: 162 | C78: =IF($B78<>"",VLOOKUP($B78,Deelnemers2026!$B$2:$G$345,2,FALSE),"") -> Rb Glamour Girl | D78: =IF($B78<>"",VLOOKUP($B78,Deelnemers2026!$B$2:$G$345,3,FALSE),"") -> River Valley Joyride | E78: =IF($B78<>"",VLOOKUP($B78,Deelnemers2026!$B$2:$G$345,4,FALSE),"") -> Schouten Holsteins/J Verdoold | F78: =IF($B78<>"",VLOOKUP($B78,Deelnemers2026!$B$2:$G$345,5,FALSE),"") -> Bergambacht
A79: Reserve Kampioen | B79: 163 | C79: =IF($B79<>"",VLOOKUP($B79,Deelnemers2026!$B$2:$G$345,2,FALSE),"") -> Mette Marit 3 | D79: =IF($B79<>"",VLOOKUP($B79,Deelnemers2026!$B$2:$G$345,3,FALSE),"") -> O Malley | E79: =IF($B79<>"",VLOOKUP($B79,Deelnemers2026!$B$2:$G$345,4,FALSE),"") -> Vof Voets | F79: =IF($B79<>"",VLOOKUP($B79,Deelnemers2026!$B$2:$G$345,5,FALSE),"") -> Vlist
A81: Divers Oud
A82: Kampioen | B82: 171 | C82: =IF($B82<>"",VLOOKUP($B82,Deelnemers2026!$B$2:$G$345,2,FALSE),"") -> Giessenhof Augusta 227 | D82: =IF($B82<>"",VLOOKUP($B82,Deelnemers2026!$B$2:$G$345,3,FALSE),"") -> Delta Lunar | E82: =IF($B82<>"",VLOOKUP($B82,Deelnemers2026!$B$2:$G$345,4,FALSE),"") -> Mts Kortleve-Kooijman | F82: =IF($B82<>"",VLOOKUP($B82,Deelnemers2026!$B$2:$G$345,5,FALSE),"") -> Noordeloos
A83: Reserve Kampioen | B83: 184 | C83: =IF($B83<>"",VLOOKUP($B83,Deelnemers2026!$B$2:$G$345,2,FALSE),"") -> Giessenhof Sannie 413 | D83: =IF($B83<>"",VLOOKUP($B83,Deelnemers2026!$B$2:$G$345,3,FALSE),"") -> Cookiecutter Mom Hunter | E83: =IF($B83<>"",VLOOKUP($B83,Deelnemers2026!$B$2:$G$345,4,FALSE),"") -> Mts Kortleve-Kooijman | F83: =IF($B83<>"",VLOOKUP($B83,Deelnemers2026!$B$2:$G$345,5,FALSE),"") -> Noordeloos
B84: 170 | C84: =IF($B84<>"",VLOOKUP($B84,Deelnemers2026!$B$2:$G$345,2,FALSE),"") -> De Vinkenhof Uilkje 131 | D84: =IF($B84<>"",VLOOKUP($B84,Deelnemers2026!$B$2:$G$345,3,FALSE),"") -> Saturnus | E84: =IF($B84<>"",VLOOKUP($B84,Deelnemers2026!$B$2:$G$345,4,FALSE),"") -> Vof de Vinkenhof | F84: =IF($B84<>"",VLOOKUP($B84,Deelnemers2026!$B$2:$G$345,5,FALSE),"") -> Groot Ammers
A86: Dirk de Groot Bokaal | B86: 102 | C86: =IF($B86<>"",VLOOKUP($B86,Deelnemers2026!$B$2:$G$345,2,FALSE),"") -> Bons-Holsteins Koba 253 | D86: =IF($B86<>"",VLOOKUP($B86,Deelnemers2026!$B$2:$G$345,3,FALSE),"") -> Walnutlawn Solomon | E86: =IF($B86<>"",VLOOKUP($B86,Deelnemers2026!$B$2:$G$345,4,FALSE),"") -> Bons-Holsteins | F86: =IF($B86<>"",VLOOKUP($B86,Deelnemers2026!$B$2:$G$345,5,FALSE),"") -> Ottoland

Sheet Blad1

Sheet Defilé
A1: Koeien voor het defilé
B2: cat nr. | C2: Naam | D2: Vader | E2: Eigenaar | F2: Plaats | G2: Showman
A3: Showmanship junior | B3: 262 | C3: =IF($B3<>"",VLOOKUP($B3,Deelnemers2026!$B$2:$G$345,2,FALSE),"") -> Marry 150 | D3: =IF($B3<>"",VLOOKUP($B3,Deelnemers2026!$B$2:$G$345,3,FALSE),"") -> Comestar Lemagic | E3: =IF($B3<>"",VLOOKUP($B3,Deelnemers2026!$B$2:$G$345,4,FALSE),"") -> Vof MCJM + GAM Goesten-Pullen | F3: =IF($B3<>"",VLOOKUP($B3,Deelnemers2026!$B$2:$G$345,5,FALSE),"") -> Hedel | G3: =IF($B3<>"",VLOOKUP($B3,Deelnemers2026!$B$2:$G$345,6,FALSE),"") -> Femke Goesten, 15
B4: 259 | C4: =IF($B4<>"",VLOOKUP($B4,Deelnemers2026!$B$2:$G$345,2,FALSE),"") -> Hbc Detect. Morena | D4: =IF($B4<>"",VLOOKUP($B4,Deelnemers2026!$B$2:$G$345,3,FALSE),"") -> Blondin Detective | E4: =IF($B4<>"",VLOOKUP($B4,Deelnemers2026!$B$2:$G$345,4,FALSE),"") -> Schep Holsteins Holland BV | F4: =IF($B4<>"",VLOOKUP($B4,Deelnemers2026!$B$2:$G$345,5,FALSE),"") -> Bergambacht | G4: =IF($B4<>"",VLOOKUP($B4,Deelnemers2026!$B$2:$G$345,6,FALSE),"") -> Lieke Schep, 16
A5: Showmanship senior | B5: 242 | C5: =IF($B5<>"",VLOOKUP($B5,Deelnemers2026!$B$2:$G$345,2,FALSE),"") -> Nijntje | D5: =IF($B5<>"",VLOOKUP($B5,Deelnemers2026!$B$2:$G$345,3,FALSE),"") -> Real Red Mo | E5: =IF($B5<>"",VLOOKUP($B5,Deelnemers2026!$B$2:$G$345,4,FALSE),"") -> Fa Brouwer-Bor | F5: =IF($B5<>"",VLOOKUP($B5,Deelnemers2026!$B$2:$G$345,5,FALSE),"") -> Noordeloos | G5: Lieke Brouwer 18
B6: 265 | C6: =IF($B6<>"",VLOOKUP($B6,Deelnemers2026!$B$2:$G$345,2,FALSE),"") -> Hiltje 73 | D6: =IF($B6<>"",VLOOKUP($B6,Deelnemers2026!$B$2:$G$345,3,FALSE),"") -> Peeldijker Freezer | E6: =IF($B6<>"",VLOOKUP($B6,Deelnemers2026!$B$2:$G$345,4,FALSE),"") -> Vof Harteveld | F6: =IF($B6<>"",VLOOKUP($B6,Deelnemers2026!$B$2:$G$345,5,FALSE),"") -> Ameide | G6: =IF($B6<>"",VLOOKUP($B6,Deelnemers2026!$B$2:$G$345,6,FALSE),"") -> Sara Harteveld, 17
A7: Ex Pinken | B7: 280 | C7: =IF($B7<>"",VLOOKUP($B7,Deelnemers2026!$B$2:$G$345,2,FALSE),"") -> Brando Bianca 122 | D7: =IF($B7<>"",VLOOKUP($B7,Deelnemers2026!$B$2:$G$345,3,FALSE),"") -> Siemers Renegade Parfect | E7: =IF($B7<>"",VLOOKUP($B7,Deelnemers2026!$B$2:$G$345,4,FALSE),"") -> Vof D + D Schakel | F7: =IF($B7<>"",VLOOKUP($B7,Deelnemers2026!$B$2:$G$345,5,FALSE),"") -> Brandwijk | G7: =IF($B7<>"",VLOOKUP($B7,Deelnemers2026!$B$2:$G$345,6,FALSE),"") -> Bernice Hofman, 16
B8: 250 | C8: =IF($B8<>"",VLOOKUP($B8,Deelnemers2026!$B$2:$G$345,2,FALSE),"") -> M.H. Alana 162 | D8: =IF($B8<>"",VLOOKUP($B8,Deelnemers2026!$B$2:$G$345,3,FALSE),"") -> Haveitall Dropbx Hellion | E8: =IF($B8<>"",VLOOKUP($B8,Deelnemers2026!$B$2:$G$345,4,FALSE),"") -> Merwehoeve de Groot V.O.F. | F8: =IF($B8<>"",VLOOKUP($B8,Deelnemers2026!$B$2:$G$345,5,FALSE),"") -> Herwijnen | G8: =IF($B8<>"",VLOOKUP($B8,Deelnemers2026!$B$2:$G$345,6,FALSE),"") -> Iris de Groot, 14
A9: Toilet | B9: 265 | C9: =IF($B9<>"",VLOOKUP($B9,Deelnemers2026!$B$2:$G$345,2,FALSE),"") -> Hiltje 73 | D9: =IF($B9<>"",VLOOKUP($B9,Deelnemers2026!$B$2:$G$345,3,FALSE),"") -> Peeldijker Freezer | E9: =IF($B9<>"",VLOOKUP($B9,Deelnemers2026!$B$2:$G$345,4,FALSE),"") -> Vof Harteveld | F9: =IF($B9<>"",VLOOKUP($B9,Deelnemers2026!$B$2:$G$345,5,FALSE),"") -> Ameide | G9: =IF($B9<>"",VLOOKUP($B9,Deelnemers2026!$B$2:$G$345,6,FALSE),"") -> Sara Harteveld, 17
B10: 242 | C10: =IF($B10<>"",VLOOKUP($B10,Deelnemers2026!$B$2:$G$345,2,FALSE),"") -> Nijntje | D10: =IF($B10<>"",VLOOKUP($B10,Deelnemers2026!$B$2:$G$345,3,FALSE),"") -> Real Red Mo | E10: =IF($B10<>"",VLOOKUP($B10,Deelnemers2026!$B$2:$G$345,4,FALSE),"") -> Fa Brouwer-Bor | F10: =IF($B10<>"",VLOOKUP($B10,Deelnemers2026!$B$2:$G$345,5,FALSE),"") -> Noordeloos | G10: Lieke Brouwer 18
C11: =IF($B11<>"",VLOOKUP($B11,Deelnemers2026!$B$2:$G$345,2,FALSE),"") | D11: =IF($B11<>"",VLOOKUP($B11,Deelnemers2026!$B$2:$G$345,3,FALSE),"") | E11: =IF($B11<>"",VLOOKUP($B11,Deelnemers2026!$B$2:$G$345,4,FALSE),"") | F11: =IF($B11<>"",VLOOKUP($B11,Deelnemers2026!$B$2:$G$345,5,FALSE),"")
A12: Roodbont jong | B12: 213 | C12: =IF($B12<>"",VLOOKUP($B12,Deelnemers2026!$B$2:$G$345,2,FALSE),"") -> Welland Dirkje 377 | D12: =IF($B12<>"",VLOOKUP($B12,Deelnemers2026!$B$2:$G$345,3,FALSE),"") -> Drouner Potency Red | E12: =IF($B12<>"",VLOOKUP($B12,Deelnemers2026!$B$2:$G$345,4,FALSE),"") -> A en R van der Wel | F12: =IF($B12<>"",VLOOKUP($B12,Deelnemers2026!$B$2:$G$345,5,FALSE),"") -> Hoogblokland
B13: 203 | C13: =IF($B13<>"",VLOOKUP($B13,Deelnemers2026!$B$2:$G$345,2,FALSE),"") -> M.H. Alana 110 | D13: =IF($B13<>"",VLOOKUP($B13,Deelnemers2026!$B$2:$G$345,3,FALSE),"") -> Kenmore Triple Crown-Red | E13: =IF($B13<>"",VLOOKUP($B13,Deelnemers2026!$B$2:$G$345,4,FALSE),"") -> Merwehoeve de Groot V.O.F. | F13: =IF($B13<>"",VLOOKUP($B13,Deelnemers2026!$B$2:$G$345,5,FALSE),"") -> Herwijnen
A14: Roodbont oud | B14: 224 | C14: =IF($B14<>"",VLOOKUP($B14,Deelnemers2026!$B$2:$G$345,2,FALSE),"") -> Hbc Power Buck Rose | D14: =IF($B14<>"",VLOOKUP($B14,Deelnemers2026!$B$2:$G$345,3,FALSE),"") -> Power | E14: =IF($B14<>"",VLOOKUP($B14,Deelnemers2026!$B$2:$G$345,4,FALSE),"") -> Schep Holsteins Holland BV | F14: =IF($B14<>"",VLOOKUP($B14,Deelnemers2026!$B$2:$G$345,5,FALSE),"") -> Bergambacht
B15: 191 | C15: =IF($B15<>"",VLOOKUP($B15,Deelnemers2026!$B$2:$G$345,2,FALSE),"") -> Dana 4444 | D15: =IF($B15<>"",VLOOKUP($B15,Deelnemers2026!$B$2:$G$345,3,FALSE),"") -> Bruchter Passe | E15: =IF($B15<>"",VLOOKUP($B15,Deelnemers2026!$B$2:$G$345,4,FALSE),"") -> A en R van der Wel/ W den Besten | F15: =IF($B15<>"",VLOOKUP($B15,Deelnemers2026!$B$2:$G$345,5,FALSE),"") -> Hoogblokland
C16: =IF($B16<>"",VLOOKUP($B16,Deelnemers2026!$B$2:$G$345,2,FALSE),"") | D16: =IF($B16<>"",VLOOKUP($B16,Deelnemers2026!$B$2:$G$345,3,FALSE),"") | E16: =IF($B16<>"",VLOOKUP($B16,Deelnemers2026!$B$2:$G$345,4,FALSE),"") | F16: =IF($B16<>"",VLOOKUP($B16,Deelnemers2026!$B$2:$G$345,5,FALSE),"")
A17: Zwartbont vaars | B17: 14 | C17: =IF($B17<>"",VLOOKUP($B17,Deelnemers2026!$B$2:$G$345,2,FALSE),"") -> Bons-Holsteins Koba 314 | D17: =IF($B17<>"",VLOOKUP($B17,Deelnemers2026!$B$2:$G$345,3,FALSE),"") -> Stantons Alligator | E17: =IF($B17<>"",VLOOKUP($B17,Deelnemers2026!$B$2:$G$345,4,FALSE),"") -> Bons-Holsteins | F17: =IF($B17<>"",VLOOKUP($B17,Deelnemers2026!$B$2:$G$345,5,FALSE),"") -> Ottoland
B18: 24 | C18: =IF($B18<>"",VLOOKUP($B18,Deelnemers2026!$B$2:$G$345,2,FALSE),"") -> Bertha 218 | D18: =IF($B18<>"",VLOOKUP($B18,Deelnemers2026!$B$2:$G$345,3,FALSE),"") -> Cherry-Lily Zip Luster-P | E18: =IF($B18<>"",VLOOKUP($B18,Deelnemers2026!$B$2:$G$345,4,FALSE),"") -> Fa de Groot | F18: =IF($B18<>"",VLOOKUP($B18,Deelnemers2026!$B$2:$G$345,5,FALSE),"") -> Everdingen
A19: Zwartbont midden | B19: 63 | C19: =IF($B19<>"",VLOOKUP($B19,Deelnemers2026!$B$2:$G$345,2,FALSE),"") -> Bons-Holsteins Koba 291 | D19: =IF($B19<>"",VLOOKUP($B19,Deelnemers2026!$B$2:$G$345,3,FALSE),"") -> Stantons Alligator | E19: =IF($B19<>"",VLOOKUP($B19,Deelnemers2026!$B$2:$G$345,4,FALSE),"") -> Bons-Holsteins/Schep Holsteins/ALH Genetics | F19: =IF($B19<>"",VLOOKUP($B19,Deelnemers2026!$B$2:$G$345,5,FALSE),"") -> Ottoland
B20: 118 | C20: =IF($B20<>"",VLOOKUP($B20,Deelnemers2026!$B$2:$G$345,2,FALSE),"") -> Bertha 220 | D20: =IF($B20<>"",VLOOKUP($B20,Deelnemers2026!$B$2:$G$345,3,FALSE),"") -> Stantons Chief | E20: =IF($B20<>"",VLOOKUP($B20,Deelnemers2026!$B$2:$G$345,4,FALSE),"") -> Fa de Groot | F20: =IF($B20<>"",VLOOKUP($B20,Deelnemers2026!$B$2:$G$345,5,FALSE),"") -> Everdingen
A21: Zwartbont oud | B21: 102 | C21: =IF($B21<>"",VLOOKUP($B21,Deelnemers2026!$B$2:$G$345,2,FALSE),"") -> Bons-Holsteins Koba 253 | D21: =IF($B21<>"",VLOOKUP($B21,Deelnemers2026!$B$2:$G$345,3,FALSE),"") -> Walnutlawn Solomon | E21: =IF($B21<>"",VLOOKUP($B21,Deelnemers2026!$B$2:$G$345,4,FALSE),"") -> Bons-Holsteins | F21: =IF($B21<>"",VLOOKUP($B21,Deelnemers2026!$B$2:$G$345,5,FALSE),"") -> Ottoland
B22: 81 | C22: =IF($B22<>"",VLOOKUP($B22,Deelnemers2026!$B$2:$G$345,2,FALSE),"") -> Lambda Ashlyn | D22: =IF($B22<>"",VLOOKUP($B22,Deelnemers2026!$B$2:$G$345,3,FALSE),"") -> Farnear Delta-Lambda | E22: =IF($B22<>"",VLOOKUP($B22,Deelnemers2026!$B$2:$G$345,4,FALSE),"") -> Fa de Groot | F22: =IF($B22<>"",VLOOKUP($B22,Deelnemers2026!$B$2:$G$345,5,FALSE),"") -> Everdingen
C23: =IF($B23<>"",VLOOKUP($B23,Deelnemers2026!$B$2:$G$345,2,FALSE),"") | D23: =IF($B23<>"",VLOOKUP($B23,Deelnemers2026!$B$2:$G$345,3,FALSE),"") | E23: =IF($B23<>"",VLOOKUP($B23,Deelnemers2026!$B$2:$G$345,4,FALSE),"") | F23: =IF($B23<>"",VLOOKUP($B23,Deelnemers2026!$B$2:$G$345,5,FALSE),"")
A24: Divers jong | B24: 146 | C24: =IF($B24<>"",VLOOKUP($B24,Deelnemers2026!$B$2:$G$345,2,FALSE),"") -> De Vinkenhof Roza 219 | D24: =IF($B24<>"",VLOOKUP($B24,Deelnemers2026!$B$2:$G$345,3,FALSE),"") -> Delta Launch Pp-Red | E24: =IF($B24<>"",VLOOKUP($B24,Deelnemers2026!$B$2:$G$345,4,FALSE),"") -> Vof de Vinkenhof | F24: =IF($B24<>"",VLOOKUP($B24,Deelnemers2026!$B$2:$G$345,5,FALSE),"") -> Groot Ammers
B25: 153 | C25: =IF($B25<>"",VLOOKUP($B25,Deelnemers2026!$B$2:$G$345,2,FALSE),"") -> De Vinkenhof Annemarie 56 | D25: =IF($B25<>"",VLOOKUP($B25,Deelnemers2026!$B$2:$G$345,3,FALSE),"") -> Harcon | E25: =IF($B25<>"",VLOOKUP($B25,Deelnemers2026!$B$2:$G$345,4,FALSE),"") -> Vof de Vinkenhof | F25: =IF($B25<>"",VLOOKUP($B25,Deelnemers2026!$B$2:$G$345,5,FALSE),"") -> Groot Ammers
A26: Divers midden | B26: 162 | C26: =IF($B26<>"",VLOOKUP($B26,Deelnemers2026!$B$2:$G$345,2,FALSE),"") -> Rb Glamour Girl | D26: =IF($B26<>"",VLOOKUP($B26,Deelnemers2026!$B$2:$G$345,3,FALSE),"") -> River Valley Joyride | E26: =IF($B26<>"",VLOOKUP($B26,Deelnemers2026!$B$2:$G$345,4,FALSE),"") -> Schouten Holsteins/J Verdoold | F26: =IF($B26<>"",VLOOKUP($B26,Deelnemers2026!$B$2:$G$345,5,FALSE),"") -> Bergambacht
B27: 163 | C27: =IF($B27<>"",VLOOKUP($B27,Deelnemers2026!$B$2:$G$345,2,FALSE),"") -> Mette Marit 3 | D27: =IF($B27<>"",VLOOKUP($B27,Deelnemers2026!$B$2:$G$345,3,FALSE),"") -> O Malley | E27: =IF($B27<>"",VLOOKUP($B27,Deelnemers2026!$B$2:$G$345,4,FALSE),"") -> Vof Voets | F27: =IF($B27<>"",VLOOKUP($B27,Deelnemers2026!$B$2:$G$345,5,FALSE),"") -> Vlist
A28: Divers oud | B28: 171 | C28: =IF($B28<>"",VLOOKUP($B28,Deelnemers2026!$B$2:$G$345,2,FALSE),"") -> Giessenhof Augusta 227 | D28: =IF($B28<>"",VLOOKUP($B28,Deelnemers2026!$B$2:$G$345,3,FALSE),"") -> Delta Lunar | E28: =IF($B28<>"",VLOOKUP($B28,Deelnemers2026!$B$2:$G$345,4,FALSE),"") -> Mts Kortleve-Kooijman | F28: =IF($B28<>"",VLOOKUP($B28,Deelnemers2026!$B$2:$G$345,5,FALSE),"") -> Noordeloos
B29: 184 | C29: =IF($B29<>"",VLOOKUP($B29,Deelnemers2026!$B$2:$G$345,2,FALSE),"") -> Giessenhof Sannie 413 | D29: =IF($B29<>"",VLOOKUP($B29,Deelnemers2026!$B$2:$G$345,3,FALSE),"") -> Cookiecutter Mom Hunter | E29: =IF($B29<>"",VLOOKUP($B29,Deelnemers2026!$B$2:$G$345,4,FALSE),"") -> Mts Kortleve-Kooijman | F29: =IF($B29<>"",VLOOKUP($B29,Deelnemers2026!$B$2:$G$345,5,FALSE),"") -> Noordeloos
A31: Kaas: technische prijs | B31: van de vakjury
A32: Inzender | B32: Woonplaats | C32: Categorie | D32: Soort | E32: punten
A33: Noordam CV | B33: Hellouw | C33: Jong | D33: Kaas van de boerderij | E33: 95
A34: Mts. Van Schie | B34: Polsbroek | C34: Belegen | D34: Kaas van de boerderij | E34: 93
A35: Kaasboerderij Verweij | B35: Polsbroek | C35: Kruidenkaas | D35: Kaas van de boerderij | E35: 97
A36: Kaasboerderij Schep | B36: Bergambacht | C36: Oude Kaas | D36: Kaas van de boerderij | E36: 93
A37: Kaasboerderij Speksnijder | B37: Lekkerkerk | C37: Babykaas | D37: Kaas van de boerderij | E37: 93
A38: Kaasboerderij Hoogendoorn | B38: Waarder | C38: Specialiteiten | D38: Zuivelbereider | E38: 95
A39: Kaasboerderij Hoogendoorn | B39: Waarder | C39: Kruidenkaas | D39: Geitenkaas | E39: 93
A41: Kaas: Consumentenprijs
A42: Familie den Besten | C42: Jong
A43: Van Schie | C43: Belegen
A44: Fam Kool | C44: Oud
A45: Kaasboerderij Speksnijder | C45: Kruidenkaas

Sheet Rubrieksindeling2026
B1: 9.30
A2: ring 1 Erica | B2: Show | C2: nrs 244 248 250 252 256 259 261 262 280
A3: ring 2 Anna | B3: Show | C3: nrs 242 243 257 264 265 266 268 271 272
A4: ring 3 Renate | B4: Show | C4: nrs 253 267 269 270 281 278 279
B6: 9.50
A7: Ring 1 Ard | B7: Extr pinken | C7: nrs 242 243 244 248 250 252 253 256 257
A8: rting 2 Jaap | B8: Extr pinken | C8: mrs 259 261 262 264 265 280 266 267
A9: Ring 3 Gerrit | B9: Extr pinken | C9: nrs 268 269 270 271 272 281 278 279
B11: 10.10
A12: Ring 1 Addy | B12: kamp extr
A13: Ring 2 Addy | B13: kamp extr
A14: Ring 3 Erica | B14: Kamp Toilet
B16: 10.25
A17: Ring 1 Ard | B17: Vaarzen zb | C17: nrs 3 114 5 6 8 9 10 11
A18: Ring 2 Jaap | B18: Vaarzen zb | C18: nrs 12 13 14 15 16 115 17 18 19
A19: Ring 3 Renate | B19: Kamp Showmanship
B21: 10.50
A22: Ring 1 Ard | B22: varzen ZB | C22: nrs 20 21 116 22 117 24 25
A23: Ring 2 Jaap | B23: Midden ZB | C23: nrs 118 29 30 31 32 33 35 36 119 37 38 39
A24: Ring 3 Gerrit | B24: Jong RB | C24: nrs 201 203 206 208
B26: 11.10
A27: Ring 3 Gerrit | B27: Jong RB | C27: nrs 209 212 213 215 216 218 219
B29: 11.15
A30: Ring 1 Ard | B30: Midden ZB | C30: nrs 40 41 42 44 47 48 49 50 51 52 58
A31: Ring 2 Jaap | B31: Midden ZB | C31: nrs 61 62 63 67 68 69 70 72 73 77 78
B33: 11.25
A34: Ring 3 Addy | B34: Wea prijs | C34: nrs 176 103 177 230 191 109 112 113 182 183 192 184 193 186
B36: 11.35
A37: Ring 1 Jaap | B37: jong | C37: Kamp Zwart Bont | E37: en Beste uier
A38: Ring2 Gerrit | B38: jong | C38: Kamp roodbont | E38: en Beste uier
B40: 12.00 | C40: pauze programma
B43: 13.15 | C43: Bedrijfscollecties
A44: Ring 1 Ard | B44: ZB | C44: CG de Jong , Bons, Jongsteins
A45: Ring 2 Jaap | B45: ZB | C45: V Dijk , Versluis , Kortleve
A46: Ring 3 Gerrit | B46: ZB | C46: Melkvee de Jong , Schep Holsteins , Merwehoeve de Groot
B48: 13.45
A49: Ring1+2 Ard | B49: ZB | C49: Kampioenschap bedrijfsgroep Zwartbont
A50: Ring 3 Gerrit | B50: RB | C50: Vd Wel , V Zessen, Pelikaan,
B52: 14.10
A53: Ring 1 Ard | B53: ZB | C53: nrs 102 103 107 109 110 111 112 113
A54: Ring 2 Jaap | B54: ZB | C54: nrs 91 92 93 95 97 98 101 120
A55: Ring 3 Gerrit | B55: ZB | C55: nrs 79 81 83 84 85 86 87 88 89
B57: 14.35
A58: Ring 1 Ard | B58: ZB midden | C58: uier kampioen
A59: Ring 2 Jaap | B59: ZB oud | C59: uier kampioen
A60: Ring 3 Gerrit | B60: RB oud | C60: nrs 224 225 226 227 229 230 231 191
B63: kampioenskeuring individueel
B64: 14.55
A65: Ring 1 Ard | B65: zwartbont midden
A66: Ring 2 Jaap | B66: Zwartbont Oud
B69: 15.30
A70: Allemaal | B70: Defile | C70: op tijd in de vooringen aanwezig zijn
B73: Het telefoon nummer van de dienstdoende Dierenarts
B74: Bart Jansen | D74: 06-27075594
B75: Of Tent Dierenartsenpraktijk Hoornaar
H80: ,

Sheet rubriek gewoon2026
A1: Rubrieksindeling Divers rubriek 1 t/m 12 in ring 4
B3: Tijd/aantal dieren | C3: 1 | D3: 2 | E3: 3 | F3: 4 | G3: 5 | H3: 6 | I3: 7 | J3: 8 | K3: 9 | L3: 10
A4: Rubriek 1 | B4: 09.25 | C4: 141 | D4: 143 | E4: 144 | F4: 145 | G4: 146 | H4: 147 | I4: 148
B5: Vaarzen
A6: Rubriek 2 | B6: 9.45 | C6: 187 | D6: 150 | E6: 152 | F6: 153 | G6: 154 | H6: 155 | I6: 187
B7: Vaarzen
A8: Rubriek 2 | B8: 10.05 | C8: 157 | D8: 188 | E8: 189 | F8: 158 | G8: 160
B9: 2de kalfs
A10: Rubriek 3 | B10: 10.25 | C10: 161 | D10: 162 | E10: 164 | F10: 166 | G10: 167
B11: 2de/3de kalfs
A12: Rubriek 4 | B12: 10.45
B13: kampioen vaarzen | C13: 1a, 1b en 1c's
A14: Rubriek 5 | B14: 11.05
B15: kampioen midden | C15: 1a, 1b en 1c's
A16: Rubriek 6 | B16: 11.25 | C16: De Drie wedden | E16: Aanen | G16: De verwondering
C17: WEA- prijs
B18: 12.00 - 13.00
A19: Rubriek 7 | B19: 13.15 | C19: De Vinkenhof | E19: Groende hofstee | G19: Voets
B20: Bedrijfsgroepen
A21: Rubriek 8 | B21: 13.35 | C21: De Drie wedden | E21: Kortleve | G21: De Vinkenhof
B22: Bedrijfsgroepen
A23: Rubriek 9 | B23: 13.55
B24: Kampioenskeuring bedrijfsgroepen | E24: 1a's en 1b's
A25: Rubriek 10 | B25: 14.15 | C25: 169 | D25: 170 | E25: 171 | F25: 172 | G25: 175 | H25: 176 | I25: 177
B26: Oud 1
A27: Rubriek 11 | B27: 14.35 | C27: 178 | D27: 179 | E27: 190 | F27: 182 | G27: 183 | H27: 184 | I27: 185
B28: Oud 2
A29: Rubriek 12 | B29: 14.55
B30: Kampioenskeuring oud | D30: 1a's, 1b's en 1c, s

Sheet wea
A1: wea prijs | B1: cat | C1: naam | D1: vader | E1: eigenaar | F1: plaats
A2: 1 | B2: 191 | C2: Dana 4444 | D2: Bruchter Passe | E2: A en R van der Wel/ W den Besten | F2: Hoogblokland
A3: 2 | B3: 112 | C3: Aaltje 355 | D3: De-Su 521 Bookem | E3: D A Keijzer Vof | F3: Gorinchem
A4: 3 | B4: 103 | C4: Emma 1192 | D4: Midwolder Marshall | E4: Melkveebedrijf de Jong | F4: Noordeloos
A5: 4 | B5: 184 | C5: Giessenhof Sannie 413 | D5: Cookiecutter Mom Hunter | E5: Mts Kortleve-Kooijman | F5: Noordeloos
A6: 5 | B6: 113 | C6: Marietje | D6: Lone-Oak-Acres Altarabo-ET | E6: Nieuwvredebest BV | F6: Vuren
A7: 6 | B7: 193 | C7: Margriet 391 | D7: R-E-W Seaver | E7: Vof de Bruin | F7: Giessenburg
A8: 7 | B8: 176 | C8: Pien | D8: Fageno | E8: J A Smallegoor + F G Honders | F8: Doetinchem
A9: 8 | B9: 230 | C9: Driemolens 7216 Anky 2 | D9: American Nova Star-Red | E9: Melkveebedrijf van Zessen | F9: Lexmond
A10: 9 | B10: 182 | C10: Giessenhof Thea 68 | D10: Delta Bookem Danno | E10: Mts Kortleve-Kooijman | F10: Noordeloos
A11: 10 | B11: 109 | C11: Giessenhof Sannie 449 | D11: Peak Amplify | E11: Mts Kortleve-Kooijman | F11: Noordeloos
A12: 12 | B12: 183 | C12: Dgh Wimpje 170 | D12: Leif | E12: De Groene Hofstee | F12: Hei en Boeicop
A13: 13 | B13: 177 | C13: De Vinkenhof Elsa 1 | D13: De Vinkenhof River | E13: Vof de Vinkenhof | F13: Groot Ammers
A14: 14 | B14: 186 | C14: De Vinkenhof Roza 85 | D14: Baltimore | E14: Vof de Vinkenhof | F14: Groot Ammers
A17: Wea prijs kamp
A18: Kamp | B18: 191 | C18: Dana 4444 | D18: Bruchter Passe | E18: A en R van der Wel/ W den Besten | F18: Hoogblokland
A19: res Kamp | B19: 112 | C19: Aaltje 355 | D19: De-Su 521 Bookem | E19: D A Keijzer Vof | F19: Gorinchem
A20: Eervolle vermelding | B20: 113 | C20: Marietje | D20: Lone-Oak-Acres Altarabo-ET | E20: Nieuwvredebest BV | F20: Vuren

Sheet Uitslag kazen
A1: Inzender | B1: Woonplaats | C1: Categorie | D1: Soort | E1: punten
A2: Noordam CV | B2: Hellouw | C2: Jong | D2: Kaas van de boerderij | E2: 95
A3: Mts. Van Schie | B3: Polsbroek | C3: Belegen | D3: Kaas van de boerderij | E3: 93
A4: Kaasboerderij Verweij | B4: Polsbroek | C4: Kruidenkaas | D4: Kaas van de boerderij | E4: 97
A5: Kaasboerderij Schep | B5: Bergambacht | C5: Oude Kaas | D5: Kaas van de boerderij | E5: 93
A6: Kaasboerderij Speksnijder | B6: Lekkerkerk | C6: Babykaas | D6: Kaas van de boerderij | E6: 93
A7: Kaasboerderij Hoogendoorn | B7: Waarder | C7: Specialiteiten | D7: Zuivelbereider | E7: 95
A8: Kaasboerderij Hoogendoorn | B8: Waarder | C8: Kruidenkaas | D8: Geitenkaas | E8: 93
