Workbook

Sheet Deelnemers2026
B1: cat.nr. | C1: Naam | D1: vader | E1: eigenaar | F1: Plaats | G1: Voorbrengers | I1: Bedrijfsgroepen
B2: Zwartbont | J2: Bedrijf | K2: Plaats
A3: Vaarzen | B3: 1 | C3: Bertha 223 | D3: Val-Bisson Doorman | E3: Fa de Groot | F3: Everdingen | I3: A | J3: Bons-Holsteins | K3: Ottoland
B4: 2 | C4: Grietje 337 | D4: Walnutlawn Solomon | E4: Vof de Bruin | F4: Giessenburg | I4: B | J4: CG de Jong | K4: Noordeloos
B5: 3 | C5: Margriet 578 | D5: Fustsyn Parfect Parker | E5: Vof de Bruin | F5: Giessenburg | I5: C | J5: Fa de Groot | K5: Everdingen
B6: 114 | C6: De Witboom Greet 134 | D6: Stantons Chief | E6: Vof Versluis den Otter | F6: Ameide | I6: D | J6: Melkveebedrijf de Jong | K6: Noordeloos
B7: 4 | C7: Lena 139 | D7: Westcoast Gd Blakely | E7: Fa H + D van Eijl | F7: Groot Ammers | I7: E | J7: Merwerhoeve de Groot | K7: Herwijnen
B8: 5 | C8: Prairie Hoeve Hendrika 89 | D8: Progenesis Ambrose | E8: Mts Timmer-van Dijk | F8: Noordeloos | I8: F | J8: Mts Kortleve-Kooijman | K8: Noordeloos
B9: 6 | C9: Bridgestone 274 | D9: Walnutlawn Bridgestone | E9: Firma Vermaat | F9: Hei en Boeicop | I9: G | J9: Mts van Dijk- de Bruin | K9: Giessenburg
B10: 7 | C10: Lijsje 269 | D10: Vogue A2p2-Pp | E10: Fa de Groot | F10: Everdingen | I10: H | J10: Mts van Dijk-de Bruin | K10: Giessenburg
B11: 8 | C11: Madelene 24 | D11: Gladiator Isa | E11: Vof Verdoold | F11: Giessenburg | I11: I | J11: Nieuwevredebest BV | K11: Vuren
B12: 9 | C12: J.S.J.T. Chief Faire | D12: Stantons Chief | E12: Vof Jongsteins | F12: Hoogblokland | I12: J | J12: Schep Holsteins | K12: Bergambacht
B13: 10 | C13: Hbc Boost Darla | D13: Bons-Holsteins Boost | E13: Schep Holsteins Holland BV | F13: Bergambacht | I13: K | J13: Vof de Bruin | K13: Giessenburg
B14: 11 | C14: Mina 260 | D14: 1063 | E14: Het Lam Vof | F14: Leerbroek | I14: L | J14: Vof Jongsteins | K14: Hoogblokland
B15: 12 | C15: Mattenhof Lambda Hazel | D15: Farnear Delta-Lambda | E15: Schep Holsteins Holland BV en ALH Genetics | F15: Bergambacht/Damwoude | I15: M | J15: Vof Versluis-den Otter | K15: Ameide
B16: 13 | C16: M.H. Wilhelm 80 | D16: S-S-I Pr Renegade | E16: Merwehoeve de Groot V.O.F. | F16: Herwijnen
B17: 14 | C17: Bons-Holsteins Koba 314 | D17: Stantons Alligator | E17: Bons-Holsteins | F17: Ottoland
B18: 15 | C18: Margriet 398 | D18: Bertt | E18: Het Lam Vof | F18: Leerbroek
B19: 16 | C19: Giessen Charity 326 | D19: Kings-Ransom Dynasty | E19: Vof D + D Schakel | F19: Brandwijk
B20: 115 | C20: Jonker Willempje 36 | D20: Sandy-Valley El Grande | E20: C G de Jong | F20: Noordeloos
B21: 17 | C21: Plataan F 3023 | D21: Aurora Altaantonio | E21: Fa van Beest-de Bruin | F21: Hoogblokland
B22: 18 | C22: Liesje 4 | D22: Delta Perfect | E22: Fa C Terlouw | F22: Bleskensgraaf Ca
B23: 19 | C23: Brando Geertje 153 | D23: Toc-Farm Fitz | E23: Vof D + D Schakel | F23: Brandwijk
B24: 20 | C24: Bons-Holsteins Koba 310 | D24: Mb-Luckylady Bullseye | E24: Bons-Holsteins | F24: Ottoland
B25: 21 | C25: Wilhelmina 633 | D25: Vdr Slash | E25: Vof Kemp Zijderveld | F25: Zijderveld
B26: 116 | C26: Harris Ashlyn | D26: Mattenhof Harris | E26: Fa de Groot | F26: Everdingen
B27: 22 | C27: Bons-Holsteins Koba 309 | D27: Mb-Luckylady Bullseye | E27: Bons-Holsteins | F27: Ottoland
... B31: 25 | C31: Giessenhof Sannie 491 | D31: Delta Lucardi | E31: Mts Kortleve-Kooijman | F31: Noordeloos
A32: Middenklasse | B32: 118 | C32: Bertha 220 | D32: Stantons Chief | E32: Fa de Groot | F32: Everdingen
B33: 26 | C33: Geertje 750 | D33: Slingerman 182 | E33: Mts van Dijk-de Bruin | F33: Giessenburg
B34: 27 | C34: Ebeltje 646 | D34: W-R-L Ssi Renegad Remedy | E34: Nieuwvredebest BV | F34: Vuren
B35: 28 | C35: Koba 316 | D35: Delta Lucardi | E35: Fa C Terlouw | F35: Bleskensgraaf Ca
B36: 29 | C36: Aaltje 395 | D36: Delta Lustrum | E36: D A Keijzer Vof | F36: Gorinchem
B37: 30 | C37: M.H. Locket 3 | D37: Cookiecutter Harrisenna | E37: Merwehoeve de Groot V.O.F. | F37: Herwijnen
B38: 31 | C38: De Witboom Marijke 1 | D38: Peak Hotline | E38: Vof Versluis den Otter | F38: Ameide
B39: 32 | C39: Juliana 1053 | D39: Delta Perfect | E39: Mts Timmer-van Dijk | F39: Noordeloos
B40: 33 | C40: Hbc Lambda Sheila 2 | D40: Delta Lambda | E40: Schep Holsteins Holland BV | F40: Bergambacht
B41: 34 | C41: Giessenhof Jutta | D41: Bgp Fb Ridercup | E41: Mts Kortleve-Kooijman | F41: Noordeloos
B42: 35 | C42: De Witboom Nelly 726 | D42: Cherry-Lily Zip Luster-P | E42: Vof Versluis den Otter | F42: Ameide
B43: 36 | C43: Lijsje 259 | D43: Ocd Montross Laidlaw | E43: Fa de Groot | F43: Everdingen
...

Sheet Rubriek per a4
A1: 1 | H1: 10 | O1: 19
B2: 9.30 | C2: Ring 1 | D2: Showmanship jong | E2: Kampioenschap | F2: 12 tot 16 jaar | I2: 9.30 | J2: Ring 2 | K2: Showmanship oud | M2: 17 tot 30 jaar | P2: 9.30 | Q2: Ring 3 | R2: Showmanship oud | T2: 17 tot 30 jaar
B3: cat nr. | C3: Naam | D3: Vader | E3: Eigenaar | F3: Plaats | G3: Showman | I3: cat nr. | J3: Naam | K3: Vader | L3: Eigenaar | M3: Plaats | N3: Showman | P3: cat nr. | Q3: Naam | R3: Vader | S3: Eigenaar | T3: Plaats | U3: Showman
B4: 244 | C4: =IF($B4<>"",VLOOKUP($B4,Deelnemers2026!$B$2:$G$345,2,FALSE),"") -> M.H. Evalyn 122 | D4: =IF($B4<>"",VLOOKUP($B4,Deelnemers2026!$B$2:$G$345,3,FALSE),"") -> Siemers Renegade Parfect | E4: =IF($B4<>"",VLOOKUP($B4,Deelnemers2026!$B$2:$G$345,4,FALSE),"") -> Merwehoeve de Groot V.O.F. | F4: =IF($B4<>"",VLOOKUP($B4,Deelnemers2026!$B$2:$G$345,5,FALSE),"") -> Herwijnen | G4: =IF($B4<>"",VLOOKUP($B4,Deelnemers2026!$B$2:$G$345,6,FALSE),"") -> Lynn Keijzer, 14 | I4: 242 | J4: =IF($I4<>"",VLOOKUP($I4,Deelnemers2026!$B$2:$G$345,2,FALSE),"") -> Nijntje | K4: =IF($I4<>"",VLOOKUP($I4,Deelnemers2026!$B$2:$G$345,3,FALSE),"") -> Real Red Mo | L4: =IF($I4<>"",VLOOKUP($I4,Deelnemers2026!$B$2:$G$345,4,FALSE),"") -> Fa Brouwer-Bor | M4: =IF($I4<>"",VLOOKUP($I4,Deelnemers2026!$B$2:$G$345,5,FALSE),"") -> Noordeloos | N4: =IF($I4<>"",VLOOKUP($I4,Deelnemers2026!$B$2:$G$345,6,FALSE),"") -> Femke Goesten, 15 | P4: 253 | Q4: =IF($P4<>"",VLOOKUP($P4,Deelnemers2026!$B$2:$G$345,2,FALSE),"") -> Cosmo 5873 | R4: =IF($P4<>"",VLOOKUP($P4,Deelnemers2026!$B$2:$G$345,3,FALSE),"") -> Siemers Doc Hardy | S4: =IF($P4<>"",VLOOKUP($P4,Deelnemers2026!$B$2:$G$345,4,FALSE),"") -> Fa van Beest-de Bruin | T4: =IF($P4<>"",VLOOKUP($P4,Deelnemers2026!$B$2:$G$345,5,FALSE),"") -> Hoogblokland | U4: =IF($P4<>"",VLOOKUP($P4,Deelnemers2026!$B$2:$G$345,6,FALSE),"") -> Lieke van Rossum, 20
B5: 248 | C5: =IF($B5<>"",VLOOKUP($B5,Deelnemers2026!$B$2:$G$345,2,FALSE),"") -> Margreet 7 | D5: =IF($B5<>"",VLOOKUP($B5,Deelnemers2026!$B$2:$G$345,3,FALSE),"") -> Hamming Salute | E5: =IF($B5<>"",VLOOKUP($B5,Deelnemers2026!$B$2:$G$345,4,FALSE),"") -> Vof T J C Berends | F5: =IF($B5<>"",VLOOKUP($B5,Deelnemers2026!$B$2:$G$345,5,FALSE),"") -> Lienden | G5: =IF($B5<>"",VLOOKUP($B5,Deelnemers2026!$B$2:$G$345,6,FALSE),"") -> Lena Berende, 12 | I5: 243 | J5: =IF($I5<>"",VLOOKUP($I5,Deelnemers2026!$B$2:$G$345,2,FALSE),"") -> Giessenhof Sannie 505 | K5: =IF($I5<>"",VLOOKUP($I5,Deelnemers2026!$B$2:$G$345,3,FALSE),"") -> Bomaz Cola | L5: =IF($I5<>"",VLOOKUP($I5,Deelnemers2026!$B$2:$G$345,4,FALSE),"") -> Mts Kortleve-Kooijman | M5: =IF($I5<>"",VLOOKUP($I5,Deelnemers2026!$B$2:$G$345,5,FALSE),"") -> Noordeloos | N5: =IF($I5<>"",VLOOKUP($I5,Deelnemers2026!$B$2:$G$345,6,FALSE),"") -> Ariane Kortleve, 17 | P5: 267 | Q5: =IF($P5<>"",VLOOKUP($P5,Deelnemers2026!$B$2:$G$345,2,FALSE),"") -> Hiltje 72 | R5: =IF($P5<>"",VLOOKUP($P5,Deelnemers2026!$B$2:$G$345,3,FALSE),"") -> Siemers H Partake 35318 | S5: =IF($P5<>"",VLOOKUP($P5,Deelnemers2026!$B$2:$G$345,4,FALSE),"") -> Vof Harteveld | T5: =IF($P5<>"",VLOOKUP($P5,Deelnemers2026!$B$2:$G$345,5,FALSE),"") -> Ameide | U5: =IF($P5<>"",VLOOKUP($P5,Deelnemers2026!$B$2:$G$345,6,FALSE),"") -> Jeanine Oudijk, 22
B6: 250 | C6: =IF($B6<>"",VLOOKUP($B6,Deelnemers2026!$B$2:$G$345,2,FALSE),"") -> M.H. Alana 162 | D6: =IF($B6<>"",VLOOKUP($B6,Deelnemers2026!$B$2:$G$345,3,FALSE),"") -> Haveitall Dropbx Hellion | E6: =IF($B6<>"",VLOOKUP($B6,Deelnemers2026!$B$2:$G$345,4,FALSE),"") -> Merwehoeve de Groot V.O.F. | F6: =IF($B6<>"",VLOOKUP($B6,Deelnemers2026!$B$2:$G$345,5,FALSE),"") -> Herwijnen | G6: =IF($B6<>"",VLOOKUP($B6,Deelnemers2026!$B$2:$G$345,6,FALSE),"") -> Iris de Groot, 14 | I6: 257 | J6: =IF($I6<>"",VLOOKUP($I6,Deelnemers2026!$B$2:$G$345,2,FALSE),"") -> Jansje 875 | K6: =IF($I6<>"",VLOOKUP($I6,Deelnemers2026!$B$2:$G$345,3,FALSE),"") -> Peak Hotline | L6: =IF($I6<>"",VLOOKUP($I6,Deelnemers2026!$B$2:$G$345,4,FALSE),"") -> Fa de Groot | M6: =IF($I6<>"",VLOOKUP($I6,Deelnemers2026!$B$2:$G$345,5,FALSE),"") -> Everdingen | N6: =IF($I6<>"",VLOOKUP($I6,Deelnemers2026!$B$2:$G$345,6,FALSE),"") -> Lyn van het Schip, 18 | P6: 269 | Q6: =IF($P6<>"",VLOOKUP($P6,Deelnemers2026!$B$2:$G$345,2,FALSE),"") -> Hbc Major Andrea | R6: =IF($P6<>"",VLOOKUP($P6,Deelnemers2026!$B$2:$G$345,3,FALSE),"") -> Robella Major | S6: =IF($P6<>"",VLOOKUP($P6,Deelnemers2026!$B$2:$G$345,4,FALSE),"") -> Schep Holsteins Holland BV | T6: =IF($P6<>"",VLOOKUP($P6,Deelnemers2026!$B$2:$G$345,5,FALSE),"") -> Bergambacht | U6: =IF($P6<>"",VLOOKUP($P6,Deelnemers2026!$B$2:$G$345,6,FALSE),"") -> Jens van leeuwen 24 jaar
B7: 252 | C7: =IF($B7<>"",VLOOKUP($B7,Deelnemers2026!$B$2:$G$345,2,FALSE),"") -> Jopie 158 | D7: =IF($B7<>"",VLOOKUP($B7,Deelnemers2026!$B$2:$G$345,3,FALSE),"") -> Bbg Elk 68 van de Plashoeve | E7: =IF($B7<>"",VLOOKUP($B7,Deelnemers2026!$B$2:$G$345,4,FALSE),"") -> Nieuwvredebest BV | F7: =IF($B7<>"",VLOOKUP($B7,Deelnemers2026!$B$2:$G$345,5,FALSE),"") -> Vuren | G7: =IF($B7<>"",VLOOKUP($B7,Deelnemers2026!$B$2:$G$345,6,FALSE),"") -> Dylan Hijkoop, 14 | I7: 264 | J7: =IF($I7<>"",VLOOKUP($I7,Deelnemers2026!$B$2:$G$345,2,FALSE),"") -> Dit 73 | K7: =IF($I7<>"",VLOOKUP($I7,Deelnemers2026!$B$2:$G$345,3,FALSE),"") -> Mb-Luckylady Bullseye | L7: =IF($I7<>"",VLOOKUP($I7,Deelnemers2026!$B$2:$G$345,4,FALSE),"") -> Vof MCJM + GAM Goesten-Pullen | M7: =IF($I7<>"",VLOOKUP($I7,Deelnemers2026!$B$2:$G$345,5,FALSE),"") -> Hedel | N7: =IF($I7<>"",VLOOKUP($I7,Deelnemers2026!$B$2:$G$345,6,FALSE),"") -> Femke van Genderen, 18 | P7: 270 | Q7: =IF($P7<>"",VLOOKUP($P7,Deelnemers2026!$B$2:$G$345,2,FALSE),"") -> Jonker Stoffelina 481 | R7: =IF($P7<>"",VLOOKUP($P7,Deelnemers2026!$B$2:$G$345,3,FALSE),"") -> 0 | S7: =IF($P7<>"",VLOOKUP($P7,Deelnemers2026!$B$2:$G$345,4,FALSE),"") -> C G de Jong | T7: =IF($P7<>"",VLOOKUP($P7,Deelnemers2026!$B$2:$G$345,5,FALSE),"") -> Noordeloos | U7: =IF($P7<>"",VLOOKUP($P7,Deelnemers2026!$B$2:$G$345,6,FALSE),"") -> Britt van Ballegooijen, 22
B8: 256 | C8: =IF($B8<>"",VLOOKUP($B8,Deelnemers2026!$B$2:$G$345,2,FALSE),"") -> Brando Janna 229 | D8: =IF($B8<>"",VLOOKUP($B8,Deelnemers2026!$B$2:$G$345,3,FALSE),"") -> Mb-Luckylady Bullseye | E8: =IF($B8<>"",VLOOKUP($B8,Deelnemers2026!$B$2:$G$345,4,FALSE),"") -> Vof D + D Schakel | F8: =IF($B8<>"",VLOOKUP($B8,Deelnemers2026!$B$2:$G$345,5,FALSE),"") -> Brandwijk | G8: =IF($B8<>"",VLOOKUP($B8,Deelnemers2026!$B$2:$G$345,6,FALSE),"") -> Monica Verduin, 16 | I8: 265 | J8: =IF($I8<>"",VLOOKUP($I8,Deelnemers2026!$B$2:$G$345,2,FALSE),"") -> Hiltje 73 | K8: =IF($I8<>"",VLOOKUP($I8,Deelnemers2026!$B$2:$G$345,3,FALSE),"") -> Peeldijker Freezer | L8: =IF($I8<>"",VLOOKUP($I8,Deelnemers2026!$B$2:$G$345,4,FALSE),"") -> Vof Harteveld | M8: =IF($I8<>"",VLOOKUP($I8,Deelnemers2026!$B$2:$G$345,5,FALSE),"") -> Ameide | N8: =IF($I8<>"",VLOOKUP($I8,Deelnemers2026!$B$2:$G$345,6,FALSE),"") -> Sara Harteveld, 17 | P8: 281 | Q8: =IF($P8<>"",VLOOKUP($P8,Deelnemers2026!$B$2:$G$345,2,FALSE),"") -> Does 63 | R8: =IF($P8<>"",VLOOKUP($P8,Deelnemers2026!$B$2:$G$345,3,FALSE),"") -> Crater Camden | S8: =IF($P8<>"",VLOOKUP($P8,Deelnemers2026!$B$2:$G$345,4,FALSE),"") -> Vof Harteveld | T8: =IF($P8<>"",VLOOKUP($P8,Deelnemers2026!$B$2:$G$345,5,FALSE),"") -> Ameide | U8: =IF($P8<>"",VLOOKUP($P8,Deelnemers2026!$B$2:$G$345,6,FALSE),"") -> Ellemieke Gerritsen, 22
B9: 259 | C9: =IF($B9<>"",VLOOKUP($B9,Deelnemers2026!$B$2:$G$345,2,FALSE),"") -> Hbc Detect. Morena | D9: =IF($B9<>"",VLOOKUP($B9,Deelnemers2026!$B$2:$G$345,3,FALSE),"") -> Blondin Detective | E9: =IF($B9<>"",VLOOKUP($B9,Deelnemers2026!$B$2:$G$345,4,FALSE),"") -> Schep Holsteins Holland BV | F9: =IF($B9<>"",VLOOKUP($B9,Deelnemers2026!$B$2:$G$345,5,FALSE),"") -> Bergambacht | G9: =IF($B9<>"",VLOOKUP($B9,Deelnemers2026!$B$2:$G$345,6,FALSE),"") -> Lieke Schep, 16 | I9: 266 | J9: =IF($I9<>"",VLOOKUP($I9,Deelnemers2026!$B$2:$G$345,2,FALSE),"") -> Lena 143 | K9: =IF($I9<>"",VLOOKUP($I9,Deelnemers2026!$B$2:$G$345,3,FALSE),"") -> Progenesis Anahita | L9: =IF($I9<>"",VLOOKUP($I9,Deelnemers2026!$B$2:$G$345,4,FALSE),"") -> *Van de Vos | M9: =IF($I9<>"",VLOOKUP($I9,Deelnemers2026!$B$2:$G$345,5,FALSE),"") -> Groot Ammers | N9: =IF($I9<>"",VLOOKUP($I9,Deelnemers2026!$B$2:$G$345,6,FALSE),"") -> Bart den Hartog, 18 | P9: 278 | Q9: =IF($P9<>"",VLOOKUP($P9,Deelnemers2026!$B$2:$G$345,2,FALSE),"") -> Chief 5163(9) | R9: =IF($P9<>"",VLOOKUP($P9,Deelnemers2026!$B$2:$G$345,3,FALSE),"") -> Stantons Chief | S9: =IF($P9<>"",VLOOKUP($P9,Deelnemers2026!$B$2:$G$345,4,FALSE),"") -> Firma Vermaat | T9: =IF($P9<>"",VLOOKUP($P9,Deelnemers2026!$B$2:$G$345,5,FALSE),"") -> Leerdam | U9: =IF($P9<>"",VLOOKUP($P9,Deelnemers2026!$B$2:$G$345,6,FALSE),"") -> Nafthali Vermaat, 20
B10: 261 | C10: =IF($B10<>"",VLOOKUP($B10,Deelnemers2026!$B$2:$G$345,2,FALSE),"") -> Hbc Perenn. Reintje | D10: =IF($B10<>"",VLOOKUP($B10,Deelnemers2026!$B$2:$G$345,3,FALSE),"") -> Eclipse Perennial | E10: =IF($B10<>"",VLOOKUP($B10,Deelnemers2026!$B$2:$G$345,4,FALSE),"") -> Schep Holsteins Holland BV | F10: =IF($B10<>"",VLOOKUP($B10,Deelnemers2026!$B$2:$G$345,5,FALSE),"") -> Bergambacht | G10: =IF($B10<>"",VLOOKUP($B10,Deelnemers2026!$B$2:$G$345,6,FALSE),"") -> Maud van Schoonhoven, 16 | I10: 268 | J10: =IF($I10<>"",VLOOKUP($I10,Deelnemers2026!$B$2:$G$345,2,FALSE),"") -> Tatoo Elina | K10: =IF($I10<>"",VLOOKUP($I10,Deelnemers2026!$B$2:$G$345,3,FALSE),"") -> Tattoo vd Sijsloberg | L10: =IF($I10<>"",VLOOKUP($I10,Deelnemers2026!$B$2:$G$345,4,FALSE),"") -> Schouten Holsteins en Koen van Zwienen | M10: =IF($I10<>"",VLOOKUP($I10,Deelnemers2026!$B$2:$G$345,5,FALSE),"") -> Bergambacht | N10: =IF($I10<>"",VLOOKUP($I10,Deelnemers2026!$B$2:$G$345,6,FALSE),"") -> Koen van Zwienen, 18 | P10: 279 | Q10: =IF($P10<>"",VLOOKUP($P10,Deelnemers2026!$B$2:$G$345,2,FALSE),"") -> Hbc Alligat Reintje | R10: =IF($P10<>"",VLOOKUP($P10,Deelnemers2026!$B$2:$G$345,3,FALSE),"") -> Stantons Alligator | S10: =IF($P10<>"",VLOOKUP($P10,Deelnemers2026!$B$2:$G$345,4,FALSE),"") -> Schep Holsteins Holland BV | T10: =IF($P10<>"",VLOOKUP($P10,Deelnemers2026!$B$2:$G$345,5,FALSE),"") -> Bergambacht | U10: =IF($P10<>"",VLOOKUP($P10,Deelnemers2026!$B$2:$G$345,6,FALSE),"") -> Daan van Zwienen, 20
B11: 262 | C11: =IF($B11<>"",VLOOKUP($B11,Deelnemers2026!$B$2:$G$345,2,FALSE),"") -> Marry 150 | D11: =IF($B11<>"",VLOOKUP($B11,Deelnemers2026!$B$2:$G$345,3,FALSE),"") -> Comestar Lemagic | E11: =IF($B11<>"",VLOOKUP($B11,Deelnemers2026!$B$2:$G$345,4,FALSE),"") -> Vof MCJM + GAM Goesten-Pullen | F11: =IF($B11<>"",VLOOKUP($B11,Deelnemers2026!$B$2:$G$345,5,FALSE),"") -> Hedel | G11: =IF($B11<>"",VLOOKUP($B11,Deelnemers2026!$B$2:$G$345,6,FALSE),"") -> Femke Goesten, 15 | I11: 271 | J11: =IF($I11<>"",VLOOKUP($I11,Deelnemers2026!$B$2:$G$345,2,FALSE),"") -> Leyhigh 2849 (2 | K11: =IF($I11<>"",VLOOKUP($I11,Deelnemers2026!$B$2:$G$345,3,FALSE),"") -> Drewholme Leyhigh Pp | L11: =IF($I11<>"",VLOOKUP($I11,Deelnemers2026!$B$2:$G$345,4,FALSE),"") -> Firma Vermaat | M11: =IF($I11<>"",VLOOKUP($I11,Deelnemers2026!$B$2:$G$345,5,FALSE),"") -> Leerdam | N11: =IF($I11<>"",VLOOKUP($I11,Deelnemers2026!$B$2:$G$345,6,FALSE),"") -> Celia Vermaat, 19 | Q11: =IF($P11<>"",VLOOKUP($P11,Deelnemers2026!$B$2:$G$345,2,FALSE),"") | R11: =IF($P11<>"",VLOOKUP($P11,Deelnemers2026!$B$2:$G$345,3,FALSE),"") | S11: =IF($P11<>"",VLOOKUP($P11,Deelnemers2026!$B$2:$G$345,4,FALSE),"") | T11: =IF($P11<>"",VLOOKUP($P11,Deelnemers2026!$B$2:$G$345,5,FALSE),"") | U11: =IF($P11<>"",VLOOKUP($P11,Deelnemers2026!$B$2:$G$345,6,FALSE),"")
B12: 280 | C12: =IF($B12<>"",VLOOKUP($B12,Deelnemers2026!$B$2:$G$345,2,FALSE),"") -> Brando Bianca 122 | D12: =IF($B12<>"",VLOOKUP($B12,Deelnemers2026!$B$2:$G$345,3,FALSE),"") -> Siemers Renegade Parfect | E12: =IF($B12<>"",VLOOKUP($B12,Deelnemers2026!$B$2:$G$345,4,FALSE),"") -> Vof D + D Schakel | F12: =IF($B12<>"",VLOOKUP($B12,Deelnemers2026!$B$2:$G$345,5,FALSE),"") -> Brandwijk | G12: =IF($B12<>"",VLOOKUP($B12,Deelnemers2026!$B$2:$G$345,6,FALSE),"") -> Bernice Hofman, 16 | I12: 272 | J12: =IF($I12<>"",VLOOKUP($I12,Deelnemers2026!$B$2:$G$345,2,FALSE),"") -> Ans 33 | K12: =IF($I12<>"",VLOOKUP($I12,Deelnemers2026!$B$2:$G$345,3,FALSE),"") -> Cookiecutter Hypnotic | L12: =IF($I12<>"",VLOOKUP($I12,Deelnemers2026!$B$2:$G$345,4,FALSE),"") -> *Van de Vos | M12: =IF($I12<>"",VLOOKUP($I12,Deelnemers2026!$B$2:$G$345,5,FALSE),"") -> Groot Ammers | N12: =IF($I12<>"",VLOOKUP($I12,Deelnemers2026!$B$2:$G$345,6,FALSE),"") -> Allart Parre, 19 | Q12: =IF($P12<>"",VLOOKUP($P12,Deelnemers2026!$B$2:$G$345,2,FALSE),"") | R12: =IF($P12<>"",VLOOKUP($P12,Deelnemers2026!$B$2:$G$345,3,FALSE),"") | S12: =IF($P12<>"",VLOOKUP($P12,Deelnemers2026!$B$2:$G$345,4,FALSE),"") | T12: =IF($P12<>"",VLOOKUP($P12,Deelnemers2026!$B$2:$G$345,5,FALSE),"") | U12: =IF($P12<>"",VLOOKUP($P12,Deelnemers2026!$B$2:$G$345,6,FALSE),"")
C13: =IF($B13<>"",VLOOKUP($B13,Deelnemers2026!$B$2:$G$345,2,FALSE),"") | D13: =IF($B13<>"",VLOOKUP($B13,Deelnemers2026!$B$2:$G$345,3,FALSE),"") | E13: =IF($B13<>"",VLOOKUP($B13,Deelnemers2026!$B$2:$G$345,4,FALSE),"") | F13: =IF($B13<>"",VLOOKUP($B13,Deelnemers2026!$B$2:$G$345,5,FALSE),"") | G13: =IF($B13<>"",VLOOKUP($B13,Deelnemers2026!$B$2:$G$345,6,FALSE),"") | J13: =IF($I13<>"",VLOOKUP($I13,Deelnemers2026!$B$2:$G$345,2,FALSE),"") | K13: =IF($I13<>"",VLOOKUP($I13,Deelnemers2026!$B$2:$G$345,3,FALSE),"") | L13: =IF($I13<>"",VLOOKUP($I13,Deelnemers2026!$B$2:$G$345,4,FALSE),"") | M13: =IF($I13<>"",VLOOKUP($I13,Deelnemers2026!$B$2:$G$345,5,FALSE),"") | N13: =IF($I13<>"",VLOOKUP($I13,Deelnemers2026!$B$2:$G$345,6,FALSE),"") | Q13: =IF($P13<>"",VLOOKUP($P13,Deelnemers2026!$B$2:$G$345,2,FALSE),"") | R13: =IF($P13<>"",VLOOKUP($P13,Deelnemers2026!$B$2:$G$345,3,FALSE),"") | S13: =IF($P13<>"",VLOOKUP($P13,Deelnemers2026!$B$2:$G$345,4,FALSE),"") | T13: =IF($P13<>"",VLOOKUP($P13,Deelnemers2026!$B$2:$G$345,5,FALSE),"") | U13: =IF($P13<>"",VLOOKUP($P13,Deelnemers2026!$B$2:$G$345,6,FALSE),"")
C14: =IF($B14<>"",VLOOKUP($B14,Deelnemers2026!$B$2:$G$345,2,FALSE),"") | D14: =IF($B14<>"",VLOOKUP($B14,Deelnemers2026!$B$2:$G$345,3,FALSE),"") | E14: =IF($B14<>"",VLOOKUP($B14,Deelnemers2026!$B$2:$G$345,4,FALSE),"") | F14: =IF($B14<>"",VLOOKUP($B14,Deelnemers2026!$B$2:$G$345,5,FALSE),"") | G14: =IF($B14<>"",VLOOKUP($B14,Deelnemers2026!$B$2:$G$345,6,FALSE),"") | J14: =IF($I14<>"",VLOOKUP($I14,Deelnemers2026!$B$2:$G$345,2,FALSE),"") | K14: =IF($I14<>"",VLOOKUP($I14,Deelnemers2026!$B$2:$G$345,3,FALSE),"") | L14: =IF($I14<>"",VLOOKUP($I14,Deelnemers2026!$B$2:$G$345,4,FALSE),"") | M14: =IF($I14<>"",VLOOKUP($I14,Deelnemers2026!$B$2:$G$345,5,FALSE),"") | N14: =IF($I14<>"",VLOOKUP($I14,Deelnemers2026!$B$2:$G$345,6,FALSE),"")
C15: =IF($B15<>"",VLOOKUP($B15,Deelnemers2026!$B$2:$G$345,2,FALSE),"") | D15: =IF($B15<>"",VLOOKUP($B15,Deelnemers2026!$B$2:$G$345,3,FALSE),"") | E15: =IF($B15<>"",VLOOKUP($B15,Deelnemers2026!$B$2:$G$345,4,FALSE),"") | F15: =IF($B15<>"",VLOOKUP($B15,Deelnemers2026!$B$2:$G$345,5,FALSE),"") | G15: =IF($B15<>"",VLOOKUP($B15,Deelnemers2026!$B$2:$G$345,6,FALSE),"") | J15: =IF($I15<>"",VLOOKUP($I15,Deelnemers2026!$B$2:$G$345,2,FALSE),"") | K15: =IF($I15<>"",VLOOKUP($I15,Deelnemers2026!$B$2:$G$345,3,FALSE),"") | L15: =IF($I15<>"",VLOOKUP($I15,Deelnemers2026!$B$2:$G$345,4,FALSE),"") | M15: =IF($I15<>"",VLOOKUP($I15,Deelnemers2026!$B$2:$G$345,5,FALSE),"") | N15: =IF($I15<>"",VLOOKUP($I15,Deelnemers2026!$B$2:$G$345,6,FALSE),"")
C16: =IF($B16<>"",VLOOKUP($B16,Deelnemers2026!$B$2:$G$345,2,FALSE),"") | D16: =IF($B16<>"",VLOOKUP($B16,Deelnemers2026!$B$2:$G$345,3,FALSE),"") | E16: =IF($B16<>"",VLOOKUP($B16,Deelnemers2026!$B$2:$G$345,4,FALSE),"") | F16: =IF($B16<>"",VLOOKUP($B16,Deelnemers2026!$B$2:$G$345,5,FALSE),"") | G16: =IF($B16<>"",VLOOKUP($B16,Deelnemers2026!$B$2:$G$345,6,FALSE),"")
C17: =IF($B17<>"",VLOOKUP($B17,Deelnemers2026!$B$2:$G$345,2,FALSE),"") | D17: =IF($B17<>"",VLOOKUP($B17,Deelnemers2026!$B$2:$G$345,3,FALSE),"") | E17: =IF($B17<>"",VLOOKUP($B17,Deelnemers2026!$B$2:$G$345,4,FALSE),"") | F17: =IF($B17<>"",VLOOKUP($B17,Deelnemers2026!$B$2:$G$345,5,FALSE),"") | G17: =IF($B17<>"",VLOOKUP($B17,Deelnemers2026!$B$2:$G$345,6,FALSE),"")
C18: =IF($B18<>"",VLOOKUP($B18,Deelnemers2026!$B$2:$G$345,2,FALSE),"") | D18: =IF($B18<>"",VLOOKUP($B18,Deelnemers2026!$B$2:$G$345,3,FALSE),"") | E18: =IF($B18<>"",VLOOKUP($B18,Deelnemers2026!$B$2:$G$345,4,FALSE),"") | F18: =IF($B18<>"",VLOOKUP($B18,Deelnemers2026!$B$2:$G$345,5,FALSE),"") | G18: =IF($B18<>"",VLOOKUP($B18,Deelnemers2026!$B$2:$G$345,6,FALSE),"")
C19: =IF($B19<>"",VLOOKUP($B19,Deelnemers2026!$B$2:$G$345,2,FALSE),"") | D19: =IF($B19<>"",VLOOKUP($B19,Deelnemers2026!$B$2:$G$345,3,FALSE),"") | E19: =IF($B19<>"",VLOOKUP($B19,Deelnemers2026!$B$2:$G$345,4,FALSE),"") | F19: =IF($B19<>"",VLOOKUP($B19,Deelnemers2026!$B$2:$G$345,5,FALSE),"") | G19: =IF($B19<>"",VLOOKUP($B19,Deelnemers2026!$B$2:$G$345,6,FALSE),"")
A34: 2 | H34: 11 | O34: 20
B35: 9.50 | C35: Ring 1 | D35: Extrieur pinken | I35: 9.50 | J35: Ring 2 | K35: Extrieur pinken | P35: 9.50 | Q35: Ring 3 | R35: Extrieur pinken
B36: cat nr. | C36: Naam | D36: Vader | E36: Eigenaar | F36: Plaats | G36: Showman | I36: cat nr. | J36: Naam | K36: Vader | L36: Eigenaar | M36: Plaats | N36: Showman | P36: cat nr. | Q36: Naam | R36: Vader | S36: Eigenaar | T36: Plaats | U36: Showman
B37: 242 | C37: =IF($B37<>"",VLOOKUP($B37,Deelnemers2026!$B$2:$G$345,2,FALSE),"") -> Nijntje | D37: =IF($B37<>"",VLOOKUP($B37,Deelnemers2026!$B$2:$G$345,3,FALSE),"") -> Real Red Mo | E37: =IF($B37<>"",VLOOKUP($B37,Deelnemers2026!$B$2:$G$345,4,FALSE),"") -> Fa Brouwer-Bor | F37: =IF($B37<>"",VLOOKUP($B37,Deelnemers2026!$B$2:$G$345,5,FALSE),"") -> Noordeloos | G37: =IF($B37<>"",VLOOKUP($B37,Deelnemers2026!$B$2:$G$345,6,FALSE),"") -> Femke Goesten, 15 | I37: 259 | J37: =IF($I37<>"",VLOOKUP($I37,Deelnemers2026!$B$2:$G$345,2,FALSE),"") -> Hbc Detect. Morena | K37: =IF($I37<>"",VLOOKUP($I37,Deelnemers2026!$B$2:$G$345,3,FALSE),"") -> Blondin Detective | L37: =IF($I37<>"",VLOOKUP($I37,Deelnemers2026!$B$2:$G$345,4,FALSE),"") -> Schep Holsteins Holland BV | M37: =IF($I37<>"",VLOOKUP($I37,Deelnemers2026!$B$2:$G$345,5,FALSE),"") -> Bergambacht | N37: =IF($I37<>"",VLOOKUP($I37,Deelnemers2026!$B$2:$G$345,6,FALSE),"") -> Lieke Schep, 16 | P37: 268 | Q37: =IF($P37<>"",VLOOKUP($P37,Deelnemers2026!$B$2:$G$345,2,FALSE),"") -> Tatoo Elina | R37: =IF($P37<>"",VLOOKUP($P37,Deelnemers2026!$B$2:$G$345,3,FALSE),"") -> Tattoo vd Sijsloberg | S37: =IF($P37<>"",VLOOKUP($P37,Deelnemers2026!$B$2:$G$345,4,FALSE),"") -> Schouten Holsteins en Koen van Zwienen | T37: =IF($P37<>"",VLOOKUP($P37,Deelnemers2026!$B$2:$G$345,5,FALSE),"") -> Bergambacht | U37: =IF($P37<>"",VLOOKUP($P37,Deelnemers2026!$B$2:$G$345,6,FALSE),"") -> Koen van Zwienen, 18
B38: 243 | C38: =IF($B38<>"",VLOOKUP($B38,Deelnemers2026!$B$2:$G$345,2,FALSE),"") -> Giessenhof Sannie 505 | D38: =IF($B38<>"",VLOOKUP($B38,Deelnemers2026!$B$2:$G$345,3,FALSE),"") -> Bomaz Cola | E38: =IF($B38<>"",VLOOKUP($B38,Deelnemers2026!$B$2:$G$345,4,FALSE),"") -> Mts Kortleve-Kooijman | F38: =IF($B38<>"",VLOOKUP($B38,Deelnemers2026!$B$2:$G$345,5,FALSE),"") -> Noordeloos | G38: =IF($B38<>"",VLOOKUP($B38,Deelnemers2026!$B$2:$G$345,6,FALSE),"") -> Ariane Kortleve, 17 | I38: 261 | J38: =IF($I38<>"",VLOOKUP($I38,Deelnemers2026!$B$2:$G$345,2,FALSE),"") -> Hbc Perenn. Reintje | K38: =IF($I38<>"",VLOOKUP($I38,Deelnemers2026!$B$2:$G$345,3,FALSE),"") -> Eclipse Perennial | L38: =IF($I38<>"",VLOOKUP($I38,Deelnemers2026!$B$2:$G$345,4,FALSE),"") -> Schep Holsteins Holland BV | M38: =IF($I38<>"",VLOOKUP($I38,Deelnemers2026!$B$2:$G$345,5,FALSE),"") -> Bergambacht | N38: =IF($I38<>"",VLOOKUP($I38,Deelnemers2026!$B$2:$G$345,6,FALSE),"") -> Maud van Schoonhoven, 16 | P38: 269 | Q38: =IF($P38<>"",VLOOKUP($P38,Deelnemers2026!$B$2:$G$345,2,FALSE),"") -> Hbc Major Andrea | R38: =IF($P38<>"",VLOOKUP($P38,Deelnemers2026!$B$2:$G$345,3,FALSE),"") -> Robella Major | S38: =IF($P38<>"",VLOOKUP($P38,Deelnemers2026!$B$2:$G$345,4,FALSE),"") -> Schep Holsteins Holland BV | T38: =IF($P38<>"",VLOOKUP($P38,Deelnemers2026!$B$2:$G$345,5,FALSE),"") -> Bergambacht | U38: =IF($P38<>"",VLOOKUP($P38,Deelnemers2026!$B$2:$G$345,6,FALSE),"") -> Jens van leeuwen 24 jaar
B39: 244 | C39: =IF($B39<>"",VLOOKUP($B39,Deelnemers2026!$B$2:$G$345,2,FALSE),"") -> M.H. Evalyn 122 | D39: =IF($B39<>"",VLOOKUP($B39,Deelnemers2026!$B$2:$G$345,3,FALSE),"") -> Siemers Renegade Parfect | E39: =IF($B39<>"",VLOOKUP($B39,Deelnemers2026!$B$2:$G$345,4,FALSE),"") -> Merwehoeve de Groot V.O.F. | F39: =IF($B39<>"",VLOOKUP($B39,Deelnemers2026!$B$2:$G$345,5,FALSE),"") -> Herwijnen | G39: =IF($B39<>"",VLOOKUP($B39,Deelnemers2026!$B$2:$G$345,6,FALSE),"") -> Lynn Keijzer, 14 | I39: 262 | J39: =IF($I39<>"",VLOOKUP($I39,Deelnemers2026!$B$2:$G$345,2,FALSE),"") -> Marry 150 | K39: =IF($I39<>"",VLOOKUP($I39,Deelnemers2026!$B$2:$G$345,3,FALSE),"") -> Comestar Lemagic | L39: =IF($I39<>"",VLOOKUP($I39,Deelnemers2026!$B$2:$G$345,4,FALSE),"") -> Vof MCJM + GAM Goesten-Pullen | M39: =IF($I39<>"",VLOOKUP($I39,Deelnemers2026!$B$2:$G$345,5,FALSE),"") -> Hedel | N39: =IF($I39<>"",VLOOKUP($I39,Deelnemers2026!$B$2:$G$345,6,FALSE),"") -> Femke Goesten, 15 | P39: 270 | Q39: =IF($P39<>"",VLOOKUP($P39,Deelnemers2026!$B$2:$G$345,2,FALSE),"") -> Jonker Stoffelina 481 | R39: =IF($P39<>"",VLOOKUP($P39,Deelnemers2026!$B$2:$G$345,3,FALSE),"") -> 0 | S39: =IF($P39<>"",VLOOKUP($P39,Deelnemers2026!$B$2:$G$345,4,FALSE),"") -> C G de Jong | T39: =IF($P39<>"",VLOOKUP($P39,Deelnemers2026!$B$2:$G$345,5,FALSE),"") -> Noordeloos | U39: =IF($P39<>"",VLOOKUP($P39,Deelnemers2026!$B$2:$G$345,6,FALSE),"") -> Britt van Ballegooijen, 22
B40: 248 | C40: =IF($B40<>"",VLOOKUP($B40,Deelnemers2026!$B$2:$G$345,2,FALSE),"") -> Margreet 7 | D40: =IF($B40<>"",VLOOKUP($B40,Deelnemers2026!$B$2:$G$345,3,FALSE),"") -> Hamming Salute | E40: =IF($B40<>"",VLOOKUP($B40,Deelnemers2026!$B$2:$G$345,4,FALSE),"") -> Vof T J C Berends | F40: =IF($B40<>"",VLOOKUP($B40,Deelnemers2026!$B$2:$G$345,5,FALSE),"") -> Lienden | G40: =IF($B40<>"",VLOOKUP($B40,Deelnemers2026!$B$2:$G$345,6,FALSE),"") -> Lena Berende, 12 | I40: 264 | J40: =IF($I40<>"",VLOOKUP($I40,Deelnemers2026!$B$2:$G$345,2,FALSE),"") -> Dit 73 | K40: =IF($I40<>"",VLOOKUP($I40,Deelnemers2026!$B$2:$G$345,3,FALSE),"") -> Mb-Luckylady Bullseye | L40: =IF($I40<>"",VLOOKUP($I40,Deelnemers2026!$B$2:$G$345,4,FALSE),"") -> Vof MCJM + GAM Goesten-Pullen | M40: =IF($I40<>"",VLOOKUP($I40,Deelnemers2026!$B$2:$G$345,5,FALSE),"") -> Hedel | N40: =IF($I40<>"",VLOOKUP($I40,Deelnemers2026!$B$2:$G$345,6,FALSE),"") -> Femke van Genderen, 18 | P40: 271 | Q40: =IF($P40<>"",VLOOKUP($P40,Deelnemers2026!$B$2:$G$345,2,FALSE),"") -> Leyhigh 2849 (2 | R40: =IF($P40<>"",VLOOKUP($P40,Deelnemers2026!$B$2:$G$345,3,FALSE),"") -> Drewholme Leyhigh Pp | S40: =IF($P40<>"",VLOOKUP($P40,Deelnemers2026!$B$2:$G$345,4,FALSE),"") -> Firma Vermaat | T40: =IF($P40<>"",VLOOKUP($P40,Deelnemers2026!$B$2:$G$345,5,FALSE),"") -> Leerdam | U40: =IF($P40<>"",VLOOKUP($P40,Deelnemers2026!$B$2:$G$345,6,FALSE),"") -> Celia Vermaat, 19
B41: 250 | C41: =IF($B41<>"",VLOOKUP($B41,Deelnemers2026!$B$2:$G$345,2,FALSE),"") -> M.H. Alana 162 | D41: =IF($B41<>"",VLOOKUP($B41,Deelnemers2026!$B$2:$G$345,3,FALSE),"") -> Haveitall Dropbx Hellion | E41: =IF($B41<>"",VLOOKUP($B41,Deelnemers2026!$B$2:$G$345,4,FALSE),"") -> Merwehoeve de Groot V.O.F. | F41: =IF($B41<>"",VLOOKUP($B41,Deelnemers2026!$B$2:$G$345,5,FALSE),"") -> Herwijnen | G41: =IF($B41<>"",VLOOKUP($B41,Deelnemers2026!$B$2:$G$345,6,FALSE),"") -> Iris de Groot, 14 | I41: 265 | J41: =IF($I41<>"",VLOOKUP($I41,Deelnemers2026!$B$2:$G$345,2,FALSE),"") -> Hiltje 73 | K41: =IF($I41<>"",VLOOKUP($I41,Deelnemers2026!$B$2:$G$345,3,FALSE),"") -> Peeldijker Freezer | L41: =IF($I41<>"",VLOOKUP($I41,Deelnemers2026!$B$2:$G$345,4,FALSE),"") -> Vof Harteveld | M41: =IF($I41<>"",VLOOKUP($I41,Deelnemers2026!$B$2:$G$345,5,FALSE),"") -> Ameide | N41: =IF($I41<>"",VLOOKUP($I41,Deelnemers2026!$B$2:$G$345,6,FALSE),"") -> Sara Harteveld, 17 | P41: 272 | Q41: =IF($P41<>"",VLOOKUP($P41,Deelnemers2026!$B$2:$G$345,2,FALSE),"") -> Ans 33 | R41: =IF($P41<>"",VLOOKUP($P41,Deelnemers2026!$B$2:$G$345,3,FALSE),"") -> Cookiecutter Hypnotic | S41: =IF($P41<>"",VLOOKUP($P41,Deelnemers2026!$B$2:$G$345,4,FALSE),"") -> *Van de Vos | T41: =IF($P41<>"",VLOOKUP($P41,Deelnemers2026!$B$2:$G$345,5,FALSE),"") -> Groot Ammers | U41: =IF($P41<>"",VLOOKUP($P41,Deelnemers2026!$B$2:$G$345,6,FALSE),"") -> Allart Parre, 19
B42: 252 | C42: =IF($B42<>"",VLOOKUP($B42,Deelnemers2026!$B$2:$G$345,2,FALSE),"") -> Jopie 158 | D42: =IF($B42<>"",VLOOKUP($B42,Deelnemers2026!$B$2:$G$345,3,FALSE),"") -> Bbg Elk 68 van de Plashoeve | E42: =IF($B42<>"",VLOOKUP($B42,Deelnemers2026!$B$2:$G$345,4,FALSE),"") -> Nieuwvredebest BV | F42: =IF($B42<>"",VLOOKUP($B42,Deelnemers2026!$B$2:$G$345,5,FALSE),"") -> Vuren | G42: =IF($B42<>"",VLOOKUP($B42,Deelnemers2026!$B$2:$G$345,6,FALSE),"") -> Dylan Hijkoop, 14 | I42: 280 | J42: =IF($I42<>"",VLOOKUP($I42,Deelnemers2026!$B$2:$G$345,2,FALSE),"") -> Brando Bianca 122 | K42: =IF($I42<>"",VLOOKUP($I42,Deelnemers2026!$B$2:$G$345,3,FALSE),"") -> Siemers Renegade Parfect | L42: =IF($I42<>"",VLOOKUP($I42,Deelnemers2026!$B$2:$G$345,4,FALSE),"") -> Vof D + D Schakel | M42: =IF($I42<>"",VLOOKUP($I42,Deelnemers2026!$B$2:$G$345,5,FALSE),"") -> Brandwijk | N42: =IF($I42<>"",VLOOKUP($I42,Deelnemers2026!$B$2:$G$345,6,FALSE),"") -> Bernice Hofman, 16 | P42: 281 | Q42: =IF($P42<>"",VLOOKUP($P42,Deelnemers2026!$B$2:$G$345,2,FALSE),"") -> Does 63 | R42: =IF($P42<>"",VLOOKUP($P42,Deelnemers2026!$B$2:$G$345,3,FALSE),"") -> Crater Camden | S42: =IF($P42<>"",VLOOKUP($P42,Deelnemers2026!$B$2:$G$345,4,FALSE),"") -> Vof Harteveld | T42: =IF($P42<>"",VLOOKUP($P42,Deelnemers2026!$B$2:$G$345,5,FALSE),"") -> Ameide | U42: =IF($P42<>"",VLOOKUP($P42,Deelnemers2026!$B$2:$G$345,6,FALSE),"") -> Ellemieke Gerritsen, 22
B43: 253 | C43: =IF($B43<>"",VLOOKUP($B43,Deelnemers2026!$B$2:$G$345,2,FALSE),"") -> Cosmo 5873 | D43: =IF($B43<>"",VLOOKUP($B43,Deelnemers2026!$B$2:$G$345,3,FALSE),"") -> Siemers Doc Hardy | E43: =IF($B43<>"",VLOOKUP($B43,Deelnemers2026!$B$2:$G$345,4,FALSE),"") -> Fa van Beest-de Bruin | F43: =IF($B43<>"",VLOOKUP($B43,Deelnemers2026!$B$2:$G$345,5,FALSE),"") -> Hoogblokland | G43: =IF($B43<>"",VLOOKUP($B43,Deelnemers2026!$B$2:$G$345,6,FALSE),"") -> Lieke van Rossum, 20 | I43: 266 | J43: =IF($I43<>"",VLOOKUP($I43,Deelnemers2026!$B$2:$G$345,2,FALSE),"") -> Lena 143 | K43: =IF($I43<>"",VLOOKUP($I43,Deelnemers2026!$B$2:$G$345,3,FALSE),"") -> Progenesis Anahita | L43: =IF($I43<>"",VLOOKUP($I43,Deelnemers2026!$B$2:$G$345,4,FALSE),"") -> *Van de Vos | M43: =IF($I43<>"",VLOOKUP($I43,Deelnemers2026!$B$2:$G$345,5,FALSE),"") -> Groot Ammers | N43: =IF($I43<>"",VLOOKUP($I43,Deelnemers2026!$B$2:$G$345,6,FALSE),"") -> Bart den Hartog, 18 | P43: 278 | Q43: =IF($P43<>"",VLOOKUP($P43,Deelnemers2026!$B$2:$G$345,2,FALSE),"") -> Chief 5163(9) | R43: =IF($P43<>"",VLOOKUP($P43,Deelnemers2026!$B$2:$G$345,3,FALSE),"") -> Stantons Chief | S43: =IF($P43<>"",VLOOKUP($P43,Deelnemers2026!$B$2:$G$345,4,FALSE),"") -> Firma Vermaat | T43: =IF($P43<>"",VLOOKUP($P43,Deelnemers2026!$B$2:$G$345,5,FALSE),"") -> Leerdam | U43: =IF($P43<>"",VLOOKUP($P43,Deelnemers2026!$B$2:$G$345,6,FALSE),"") -> Nafthali Vermaat, 20
B44: 256 | C44: =IF($B44<>"",VLOOKUP($B44,Deelnemers2026!$B$2:$G$345,2,FALSE),"") -> Brando Janna 229 | D44: =IF($B44<>"",VLOOKUP($B44,Deelnemers2026!$B$2:$G$345,3,FALSE),"") -> Mb-Luckylady Bullseye | E44: =IF($B44<>"",VLOOKUP($B44,Deelnemers2026!$B$2:$G$345,4,FALSE),"") -> Vof D + D Schakel | F44: =IF($B44<>"",VLOOKUP($B44,Deelnemers2026!$B$2:$G$345,5,FALSE),"") -> Brandwijk | G44: =IF($B44<>"",VLOOKUP($B44,Deelnemers2026!$B$2:$G$345,6,FALSE),"") -> Monica Verduin, 16 | I44: 267 | J44: =IF($I44<>"",VLOOKUP($I44,Deelnemers2026!$B$2:$G$345,2,FALSE),"") -> Hiltje 72 | K44: =IF($I44<>"",VLOOKUP($I44,Deelnemers2026!$B$2:$G$345,3,FALSE),"") -> Siemers H Partake 35318 | L44: =IF($I44<>"",VLOOKUP($I44,Deelnemers2026!$B$2:$G$345,4,FALSE),"") -> Vof Harteveld | M44: =IF($I44<>"",VLOOKUP($I44,Deelnemers2026!$B$2:$G$345,5,FALSE),"") -> Ameide | N44: =IF($I44<>"",VLOOKUP($I44,Deelnemers2026!$B$2:$G$345,6,FALSE),"") -> Jeanine Oudijk, 22 | P44: 279 | Q44: =IF($P44<>"",VLOOKUP($P44,Deelnemers2026!$B$2:$G$345,2,FALSE),"") -> Hbc Alligat Reintje | R44: =IF($P44<>"",VLOOKUP($P44,Deelnemers2026!$B$2:$G$345,3,FALSE),"") -> Stantons Alligator | S44: =IF($P44<>"",VLOOKUP($P44,Deelnemers2026!$B$2:$G$345,4,FALSE),"") -> Schep Holsteins Holland BV | T44: =IF($P44<>"",VLOOKUP($P44,Deelnemers2026!$B$2:$G$345,5,FALSE),"") -> Bergambacht | U44: =IF($P44<>"",VLOOKUP($P44,Deelnemers2026!$B$2:$G$345,6,FALSE),"") -> Daan van Zwienen, 20
B45: 257 | C45: =IF($B45<>"",VLOOKUP($B45,Deelnemers2026!$B$2:$G$345,2,FALSE),"") -> Jansje 875 | D45: =IF($B45<>"",VLOOKUP($B45,Deelnemers2026!$B$2:$G$345,3,FALSE),"") -> Peak Hotline | E45: =IF($B45<>"",VLOOKUP($B45,Deelnemers2026!$B$2:$G$345,4,FALSE),"") -> Fa de Groot | F45: =IF($B45<>"",VLOOKUP($B45,Deelnemers2026!$B$2:$G$345,5,FALSE),"") -> Everdingen | G45: =IF($B45<>"",VLOOKUP($B45,Deelnemers2026!$B$2:$G$345,6,FALSE),"") -> Lyn van het Schip, 18
C46: =IF($B46<>"",VLOOKUP($B46,Deelnemers2026!$B$2:$G$345,2,FALSE),"") | D46: =IF($B46<>"",VLOOKUP($B46,Deelnemers2026!$B$2:$G$345,3,FALSE),"") | E46: =IF($B46<>"",VLOOKUP($B46,Deelnemers2026!$B$2:$G$345,4,FALSE),"") | F46: =IF($B46<>"",VLOOKUP($B46,Deelnemers2026!$B$2:$G$345,5,FALSE),"") | G46: =IF($B46<>"",VLOOKUP($B46,Deelnemers2026!$B$2:$G$345,6,FALSE),"")
P48: 10.10 | Q48: Ring 2 + 3 | R48: Extrieur pinken | S48: Kampioenschap
P49: cat nr. | Q49: Naam | R49: Vader | S49: Eigenaar | T49: Plaats | U49: Showman
B52: 10.10 | C52: Ring 1 | D52: Toilet pinken | E52: Kampioenschap | I52: 10.10 | J52: Ring 2 + 3 | K52: Extrieur pinken | L52: Kampioenschap
B53: cat nr. | C53: Naam | D53: Vader | E53: Eigenaar | F53: Plaats | G53: Showman | I53: cat nr. | J53: Naam | K53: Vader | L53: Eigenaar | M53: Plaats | N53: Showman
P57: 10.25 | Q57: Ring 3 | R57: Showmanship oud | S57: Kampioenschap | T57: 17 tot 30 jaar
P58: cat nr. | Q58: Naam | R58: Vader | S58: Eigenaar | T58: Plaats | U58: Showman
P59: 242 | Q59: =IF($P59<>"",VLOOKUP($P59,Deelnemers2026!$B$2:$G$345,2,FALSE),"") -> Nijntje | R59: =IF($P59<>"",VLOOKUP($P59,Deelnemers2026!$B$2:$G$345,3,FALSE),"") -> Real Red Mo | S59: =IF($P59<>"",VLOOKUP($P59,Deelnemers2026!$B$2:$G$345,4,FALSE),"") -> Fa Brouwer-Bor | T59: =IF($P59<>"",VLOOKUP($P59,Deelnemers2026!$B$2:$G$345,5,FALSE),"") -> Noordeloos | U59: =IF($P59<>"",VLOOKUP($P59,Deelnemers2026!$B$2:$G$345,6,FALSE),"") -> Femke Goesten, 15
P60: 265 | Q60: =IF($P60<>"",VLOOKUP($P60,Deelnemers2026!$B$2:$G$345,2,FALSE),"") -> Hiltje 73 | R60: =IF($P60<>"",VLOOKUP($P60,Deelnemers2026!$B$2:$G$345,3,FALSE),"") -> Peeldijker Freezer | S60: =IF($P60<>"",VLOOKUP($P60,Deelnemers2026!$B$2:$G$345,4,FALSE),"") -> Vof Harteveld | T60: =IF($P60<>"",VLOOKUP($P60,Deelnemers2026!$B$2:$G$345,5,FALSE),"") -> Ameide | U60: =IF($P60<>"",VLOOKUP($P60,Deelnemers2026!$B$2:$G$345,6,FALSE),"") -> Sara Harteveld, 17
...

Sheet Uitslag ZB
A2: R1 | B2: jong z | C2: ZB Melkvaarzen
B3: cat nr. | C3: Naam | D3: Vader | E3: eigenaar | F3: plaats
A4: 1A | B4: 11 | C4: =IF(B4<>"",VLOOKUP(B4,Deelnemers2026!$B$2:$E$345,2,FALSE),"") -> Mina 260 | D4: =IF(B4<>"",VLOOKUP(B4,Deelnemers2026!$B$2:$E$345,3,FALSE),"") -> 1063 | E4: =IF(B4<>"",VLOOKUP(B4,Deelnemers2026!$B$2:$F$345,4,FALSE),"") -> Het Lam Vof | F4: =IF(B4<>"",VLOOKUP(B4,Deelnemers2026!$B$2:$F$345,5,FALSE),"") -> Leerbroek
A6: 1B | B6: 3 | C6: =IF(B6<>"",VLOOKUP(B6,Deelnemers2026!$B$2:$E$345,2,FALSE),"") -> Margriet 578 | D6: =IF(B6<>"",VLOOKUP(B6,Deelnemers2026!$B$2:$F$345,3,FALSE),"") -> Fustsyn Parfect Parker | E6: =IF(B6<>"",VLOOKUP(B6,Deelnemers2026!$B$2:$F$345,4,FALSE),"") -> Vof de Bruin | F6: =IF(B6<>"",VLOOKUP(B6,Deelnemers2026!$B$2:$F$345,5,FALSE),"") -> Giessenburg
A8: 1C | B8: 9 | C8: =IF(B8<>"",VLOOKUP(B8,Deelnemers2026!$B$2:$E$345,2,FALSE),"") -> J.S.J.T. Chief Faire | D8: =IF(B8<>"",VLOOKUP(B8,Deelnemers2026!$B$2:$F$345,3,FALSE),"") -> Stantons Chief | E8: =IF(B8<>"",VLOOKUP(B8,Deelnemers2026!$B$2:$F$345,4,FALSE),"") -> Vof Jongsteins | F8: =IF(B8<>"",VLOOKUP(B8,Deelnemers2026!$B$2:$F$345,5,FALSE),"") -> Hoogblokland
A10: Beste uier: | B10: 9 | C10: =IF(B10<>"",VLOOKUP(B10,Deelnemers2026!$B$2:$E$345,2,FALSE),"") -> J.S.J.T. Chief Faire | D10: =IF(B10<>"",VLOOKUP(B10,Deelnemers2026!$B$2:$F$345,3,FALSE),"") -> Stantons Chief | E10: =IF(B10<>"",VLOOKUP(B10,Deelnemers2026!$B$2:$F$345,4,FALSE),"") -> Vof Jongsteins | F10: =IF(B10<>"",VLOOKUP(B10,Deelnemers2026!$B$2:$F$345,5,FALSE),"") -> Hoogblokland
A11: Resterende uitslag:
C12: =IF(B12<>"",VLOOKUP(B12,Deelnemers2026!$B$2:$E$345,2,FALSE),"") | D12: =IF(B12<>"",VLOOKUP(B12,Deelnemers2026!$B$2:$F$345,3,FALSE),"") | E12: =IF(B12<>"",VLOOKUP(B12,Deelnemers2026!$B$2:$F$345,4,FALSE),"") | F12: =IF(B12<>"",VLOOKUP(B12,Deelnemers2026!$B$2:$F$345,5,FALSE),"")
A13: R2 | B13: jong z | C13: ZB Melkvaarzen
B14: cat nr. | C14: Naam | D14: Vader | E14: Eigenaar | F14: Plaats
A15: 1A | B15: 14 | C15: =IF(B15<>"",VLOOKUP(B15,Deelnemers2026!$B$2:$E$345,2,FALSE),"") -> Bons-Holsteins Koba 314 | D15: =IF(B15<>"",VLOOKUP(B15,Deelnemers2026!$B$2:$F$345,3,FALSE),"") -> Stantons Alligator | E15: =IF(B15<>"",VLOOKUP(B15,Deelnemers2026!$B$2:$F$345,4,FALSE),"") -> Bons-Holsteins | F15: =IF(B15<>"",VLOOKUP(B15,Deelnemers2026!$B$2:$F$345,5,FALSE),"") -> Ottoland
A17: 1B | B17: 15 | C17: =IF(B17<>"",VLOOKUP(B17,Deelnemers2026!$B$2:$E$345,2,FALSE),"") -> Margriet 398 | D17: =IF(B17<>"",VLOOKUP(B17,Deelnemers2026!$B$2:$F$345,3,FALSE),"") -> Bertt | E17: =IF(B17<>"",VLOOKUP(B17,Deelnemers2026!$B$2:$F$345,4,FALSE),"") -> Het Lam Vof | F17: =IF(B17<>"",VLOOKUP(B17,Deelnemers2026!$B$2:$F$345,5,FALSE),"") -> Leerbroek
A19: 1C | B19: 12 | C19: =IF(B19<>"",VLOOKUP(B19,Deelnemers2026!$B$2:$E$345,2,FALSE),"") -> Mattenhof Lambda Hazel | D19: =IF(B19<>"",VLOOKUP(B19,Deelnemers2026!$B$2:$F$345,3,FALSE),"") -> Farnear Delta-Lambda | E19: =IF(B19<>"",VLOOKUP(B19,Deelnemers2026!$B$2:$F$345,4,FALSE),"") -> Schep Holsteins Holland BV en ALH Genetics | F19: =IF(B19<>"",VLOOKUP(B19,Deelnemers2026!$B$2:$F$345,5,FALSE),"") -> Bergambacht/Damwoude
A21: Beste uier: | B21: 15 | C21: =IF(B21<>"",VLOOKUP(B21,Deelnemers2026!$B$2:$E$345,2,FALSE),"") -> Margriet 398 | D21: =IF(B21<>"",VLOOKUP(B21,Deelnemers2026!$B$2:$F$345,3,FALSE),"") -> Bertt | E21: =IF(B21<>"",VLOOKUP(B21,Deelnemers2026!$B$2:$F$345,4,FALSE),"") -> Het Lam Vof | F21: =IF(B21<>"",VLOOKUP(B21,Deelnemers2026!$B$2:$F$345,5,FALSE),"") -> Leerbroek
A22: Resterende uitslag: | B22: 13, 19, 16, 115, 18, 17
C23: =IF(B23<>"",VLOOKUP(B23,Deelnemers2026!$B$2:$E$345,2,FALSE),"") | D23: =IF(B23<>"",VLOOKUP(B23,Deelnemers2026!$B$2:$F$345,3,FALSE),"") | E23: =IF(B23<>"",VLOOKUP(B23,Deelnemers2026!$B$2:$F$345,4,FALSE),"") | F23: =IF(B23<>"",VLOOKUP(B23,Deelnemers2026!$B$2:$F$345,5,FALSE),"")
A24: R3 | B24: jong z | C24: ZB Melkvaarzen
B25: cat nr. | C25: Naam | D25: Vader | E25: Eigenaar | F25: Plaats
A26: 1A | B26: 24 | C26: =IF(B26<>"",VLOOKUP(B26,Deelnemers2026!$B$2:$E$345,2,FALSE),"") -> Bertha 218 | D26: =IF(B26<>"",VLOOKUP(B26,Deelnemers2026!$B$2:$F$345,3,FALSE),"") -> Cherry-Lily Zip Luster-P | E26: =IF(B26<>"",VLOOKUP(B26,Deelnemers2026!$B$2:$F$345,4,FALSE),"") -> Fa de Groot | F26: =IF(B26<>"",VLOOKUP(B26,Deelnemers2026!$B$2:$F$345,5,FALSE),"") -> Everdingen
A28: 1B | B28: 22 | C28: =IF(B28<>"",VLOOKUP(B28,Deelnemers2026!$B$2:$E$345,2,FALSE),"") -> Bons-Holsteins Koba 309 | D28: =IF(B28<>"",VLOOKUP(B28,Deelnemers2026!$B$2:$F$345,3,FALSE),"") -> Mb-Luckylady Bullseye | E28: =IF(B28<>"",VLOOKUP(B28,Deelnemers2026!$B$2:$F$345,4,FALSE),"") -> Bons-Holsteins
A30: 1C | B30: 20 | C30: =IF(B30<>"",VLOOKUP(B30,Deelnemers2026!$B$2:$E$345,2,FALSE),"") -> Bons-Holsteins Koba 310 | D30: =IF(B30<>"",VLOOKUP(B30,Deelnemers2026!$B$2:$F$345,3,FALSE),"") -> Mb-Luckylady Bullseye | E30: =IF(B30<>"",VLOOKUP(B30,Deelnemers2026!$B$2:$F$345,4,FALSE),"") -> Bons-Holsteins | F30: =IF(B30<>"",VLOOKUP(B30,Deelnemers2026!$B$2:$F$345,5,FALSE),"") -> Ottoland
A32: Beste uier: | B32: 24 | C32: =IF(B32<>"",VLOOKUP(B32,Deelnemers2026!$B$2:$E$345,2,FALSE),"") -> Bertha 218 | D32: =IF(B32<>"",VLOOKUP(B32,Deelnemers2026!$B$2:$F$345,3,FALSE),"") -> Cherry-Lily Zip Luster-P | E32: =IF(B32<>"",VLOOKUP(B32,Deelnemers2026!$B$2:$F$345,4,FALSE),"") -> Fa de Groot | F32: =IF(B32<>"",VLOOKUP(B32,Deelnemers2026!$B$2:$F$345,5,FALSE),"") -> Everdingen
A33: Resterende uitslag: | B33: 25, 117, 21
C34: =IF(B34<>"",VLOOKUP(B34,Deelnemers2026!$B$2:$E$345,2,FALSE),"") | D34: =IF(B34<>"",VLOOKUP(B34,Deelnemers2026!$B$2:$F$345,3,FALSE),"") | E34: =IF(B34<>"",VLOOKUP(B34,Deelnemers2026!$B$2:$F$345,4,FALSE),"") | F34: =IF(B34<>"",VLOOKUP(B34,Deelnemers2026!$B$2:$F$345,5,FALSE),"")
A35: R1 | B35: midden z | C35: ZB Middenklasse
B36: cat nr. | C36: Naam | D36: Vader | E36: Eigenaar | F36: Plaats
A37: 1A | B37: 118 | C37: =IF(B37<>"",VLOOKUP(B37,Deelnemers2026!$B$2:$E$345,2,FALSE),"") -> Bertha 220 | D37: =IF(B37<>"",VLOOKUP(B37,Deelnemers2026!$B$2:$F$345,3,FALSE),"") -> Stantons Chief | E37: =IF(B37<>"",VLOOKUP(B37,Deelnemers2026!$B$2:$F$345,4,FALSE),"") -> Fa de Groot | F37: =IF(B37<>"",VLOOKUP(B37,Deelnemers2026!$B$2:$F$345,5,FALSE),"") -> Everdingen
A39: 1B | B39: 35 | C39: =IF(B39<>"",VLOOKUP(B39,Deelnemers2026!$B$2:$E$345,2,FALSE),"") -> De Witboom Nelly 726 | D39: =IF(B39<>"",VLOOKUP(B39,Deelnemers2026!$B$2:$F$345,3,FALSE),"") -> Cherry-Lily Zip Luster-P | E39: =IF(B39<>"",VLOOKUP(B39,Deelnemers2026!$B$2:$F$345,4,FALSE),"") -> Vof Versluis den Otter | F39: =IF(B39<>"",VLOOKUP(B39,Deelnemers2026!$B$2:$F$345,5,FALSE),"") -> Ameide
A41: 1C | B41: 38 | C41: =IF(B41<>"",VLOOKUP(B41,Deelnemers2026!$B$2:$E$345,2,FALSE),"") -> Bons-Holsteins Ella 274 | D41: =IF(B41<>"",VLOOKUP(B41,Deelnemers2026!$B$2:$F$345,3,FALSE),"") -> Mr Chassity Gold Chip | E41: =IF(B41<>"",VLOOKUP(B41,Deelnemers2026!$B$2:$F$345,4,FALSE),"") -> Bons-Holsteins | F41: =IF(B41<>"",VLOOKUP(B41,Deelnemers2026!$B$2:$F$345,5,FALSE),"") -> Ottoland
A43: Beste uier: | B43: 118 | C43: =IF(B43<>"",VLOOKUP(B43,Deelnemers2026!$B$2:$E$345,2,FALSE),"") -> Bertha 220 | D43: =IF(B43<>"",VLOOKUP(B43,Deelnemers2026!$B$2:$F$345,3,FALSE),"") -> Stantons Chief | E43: =IF(B43<>"",VLOOKUP(B43,Deelnemers2026!$B$2:$F$345,4,FALSE),"") -> Fa de Groot | F43: =IF(B43<>"",VLOOKUP(B43,Deelnemers2026!$B$2:$F$345,5,FALSE),"") -> Everdingen
A44: Resterende uitslag: | B44: 33, 36, 39, 31, 37, 29, 119
C45: =IF(B45<>"",VLOOKUP(B45,Deelnemers2026!$B$2:$E$345,2,FALSE),"") | D45: =IF(B45<>"",VLOOKUP(B45,Deelnemers2026!$B$2:$F$345,3,FALSE),"") | E45: =IF(B45<>"",VLOOKUP(B45,Deelnemers2026!$B$2:$F$345,4,FALSE),"") | F45: =IF(B45<>"",VLOOKUP(B45,Deelnemers2026!$B$2:$F$345,5,FALSE),"")
A46: R2 | B46: midden z | C46: ZB Middenklasse
C47: Naam | D47: Vader | E47: Eigenaar | F47: Plaats
A48: 1A | B48: 52 | C48: =IF(B48<>"",VLOOKUP(B48,Deelnemers2026!$B$2:$E$345,2,FALSE),"") -> Wilhelmina 641 | D48: =IF(B48<>"",VLOOKUP(B48,Deelnemers2026!$B$2:$F$345,3,FALSE),"") -> Farnear Delta-Lambda | E48: =IF(B48<>"",VLOOKUP(B48,Deelnemers2026!$B$2:$F$345,4,FALSE),"") -> Mts van Dijk-de Bruin | F48: =IF(B48<>"",VLOOKUP(B48,Deelnemers2026!$B$2:$F$345,5,FALSE),"") -> Giessenburg
A50: 1B | B50: 58 | C50: =IF(B50<>"",VLOOKUP(B50,Deelnemers2026!$B$2:$E$345,2,FALSE),"") -> J.Schief.Philo | D50: =IF(B50<>"",VLOOKUP(B50,Deelnemers2026!$B$2:$F$345,3,FALSE),"") -> Stantons Chief | E50: =IF(B50<>"",VLOOKUP(B50,Deelnemers2026!$B$2:$F$345,4,FALSE),"") -> Vof Jongsteins | F50: =IF(B50<>"",VLOOKUP(B50,Deelnemers2026!$B$2:$F$345,5,FALSE),"") -> Hoogblokland
A52: 1C | B52: 51 | C52: =IF(B52<>"",VLOOKUP(B52,Deelnemers2026!$B$2:$E$345,2,FALSE),"") -> M.H. Alana 85 | D52: =IF(B52<>"",VLOOKUP(B52,Deelnemers2026!$B$2:$F$345,3,FALSE),"") -> Siemers Renegade Parfect | E52: =IF(B52<>"",VLOOKUP(B52,Deelnemers2026!$B$2:$F$345,4,FALSE),"") -> Merwehoeve de Groot V.O.F. | F52: =IF(B52<>"",VLOOKUP(B52,Deelnemers2026!$B$2:$F$345,5,FALSE),"") -> Herwijnen
A54: Beste uier: | B54: 58 | C54: =IF(B54<>"",VLOOKUP(B54,Deelnemers2026!$B$2:$E$345,2,FALSE),"") -> J.Schief.Philo | D54: =IF(B54<>"",VLOOKUP(B54,Deelnemers2026!$B$2:$F$345,3,FALSE),"") -> Stantons Chief | E54: =IF(B54<>"",VLOOKUP(B54,Deelnemers2026!$B$2:$F$345,4,FALSE),"") -> Vof Jongsteins | F54: =IF(B54<>"",VLOOKUP(B54,Deelnemers2026!$B$2:$F$345,5,FALSE),"") -> Hoogblokland
A55: Resterende uitslag: | B55: 44, 50, 47, 45, 49, 40, 42, 41
C56: =IF(B56<>"",VLOOKUP(B56,Deelnemers2026!$B$2:$E$345,2,FALSE),"") | D56: =IF(B56<>"",VLOOKUP(B56,Deelnemers2026!$B$2:$F$345,3,FALSE),"") | E56: =IF(B56<>"",VLOOKUP(B56,Deelnemers2026!$B$2:$F$345,4,FALSE),"") | F56: =IF(B56<>"",VLOOKUP(B56,Deelnemers2026!$B$2:$F$345,5,FALSE),"")
...

Sheet Pinken ex
A2: R1 | B2: pink jong | C2: Pinken exterieur
B3: cat nr. | C3: Naam | D3: Vader | E3: eigenaar | F3: plaats
A4: 1A | B4: 250 | C4: =IF(B4<>"",VLOOKUP(B4,Deelnemers2026!$B$2:$E$345,2,FALSE),"") -> M.H. Alana 162 | D4: =IF(B4<>"",VLOOKUP(B4,Deelnemers2026!$B$2:$E$345,3,FALSE),"") -> Haveitall Dropbx Hellion | E4: =IF(B4<>"",VLOOKUP(B4,Deelnemers2026!$B$2:$F$345,4,FALSE),"") -> Merwehoeve de Groot V.O.F. | F4: =IF(B4<>"",VLOOKUP(B4,Deelnemers2026!$B$2:$F$345,5,FALSE),"") -> Herwijnen
A6: 1B | B6: 244 | C6: =IF(B6<>"",VLOOKUP(B6,Deelnemers2026!$B$2:$E$345,2,FALSE),"") -> M.H. Evalyn 122 | D6: =IF(B6<>"",VLOOKUP(B6,Deelnemers2026!$B$2:$E$345,3,FALSE),"") -> Siemers Renegade Parfect | E6: =IF(B6<>"",VLOOKUP(B6,Deelnemers2026!$B$2:$F$345,4,FALSE),"") -> Merwehoeve de Groot V.O.F. | F6: =IF(B6<>"",VLOOKUP(B6,Deelnemers2026!$B$2:$F$345,5,FALSE),"") -> Herwijnen
A8: 1C | B8: 257 | C8: =IF(B8<>"",VLOOKUP(B8,Deelnemers2026!$B$2:$E$345,2,FALSE),"") -> Jansje 875 | D8: =IF(B8<>"",VLOOKUP(B8,Deelnemers2026!$B$2:$E$345,3,FALSE),"") -> Peak Hotline | E8: =IF(B8<>"",VLOOKUP(B8,Deelnemers2026!$B$2:$F$345,4,FALSE),"") -> Fa de Groot | F8: =IF(B8<>"",VLOOKUP(B8,Deelnemers2026!$B$2:$F$345,5,FALSE),"") -> Everdingen
A10: Resterende uitslag: | C10: 256 | D10: 248 | E10: 242 | F10: 243, 252, 253
C11: =IF(B11<>"",VLOOKUP(B11,Deelnemers2026!$B$2:$E$345,2,FALSE),"") | D11: =IF(B11<>"",VLOOKUP(B11,Deelnemers2026!$B$2:$E$345,3,FALSE),"") | E11: =IF(B11<>"",VLOOKUP(B11,Deelnemers2026!$B$2:$F$345,4,FALSE),"") | F11: =IF(B11<>"",VLOOKUP(B11,Deelnemers2026!$B$2:$F$345,5,FALSE),"")
C12: =IF(B12<>"",VLOOKUP(B12,Deelnemers2026!$B$2:$E$345,2,FALSE),"") | D12: =IF(B12<>"",VLOOKUP(B12,Deelnemers2026!$B$2:$E$345,3,FALSE),"") | E12: =IF(B12<>"",VLOOKUP(B12,Deelnemers2026!$B$2:$F$345,4,FALSE),"") | F12: =IF(B12<>"",VLOOKUP(B12,Deelnemers2026!$B$2:$F$345,5,FALSE),"")
A13: R2 | B13: pink oud | C13: Pinken exterieur
B14: cat nr. | C14: Naam | D14: Vader | E14: eigenaar | F14: plaats
A15: 1A | B15: 280 | C15: =IF(B15<>"",VLOOKUP(B15,Deelnemers2026!$B$2:$E$345,2,FALSE),"") -> Brando Bianca 122 | D15: =IF(B15<>"",VLOOKUP(B15,Deelnemers2026!$B$2:$E$345,3,FALSE),"") -> Siemers Renegade Parfect | E15: =IF(B15<>"",VLOOKUP(B15,Deelnemers2026!$B$2:$F$345,4,FALSE),"") -> Vof D + D Schakel | F15: =IF(B15<>"",VLOOKUP(B15,Deelnemers2026!$B$2:$F$345,5,FALSE),"") -> Brandwijk
A17: 1B | B17: 259 | C17: =IF(B17<>"",VLOOKUP(B17,Deelnemers2026!$B$2:$E$345,2,FALSE),"") -> Hbc Detect. Morena | D17: =IF(B17<>"",VLOOKUP(B17,Deelnemers2026!$B$2:$E$345,3,FALSE),"") -> Blondin Detective | E17: =IF(B17<>"",VLOOKUP(B17,Deelnemers2026!$B$2:$F$345,4,FALSE),"") -> Schep Holsteins Holland BV | F17: =IF(B17<>"",VLOOKUP(B17,Deelnemers2026!$B$2:$F$345,5,FALSE),"") -> Bergambacht
A19: 1C | B19: 261 | C19: =IF(B19<>"",VLOOKUP(B19,Deelnemers2026!$B$2:$E$345,2,FALSE),"") -> Hbc Perenn. Reintje | D19: =IF(B19<>"",VLOOKUP(B19,Deelnemers2026!$B$2:$E$345,3,FALSE),"") -> Eclipse Perennial | E19: =IF(B19<>"",VLOOKUP(B19,Deelnemers2026!$B$2:$F$345,4,FALSE),"") -> Schep Holsteins Holland BV | F19: =IF(B19<>"",VLOOKUP(B19,Deelnemers2026!$B$2:$F$345,5,FALSE),"") -> Bergambacht
A21: Resterende uitslag: | C21: 266, 260, 262, 265, 267 | D21: =IF(B21<>"",VLOOKUP(B21,Deelnemers2026!$B$2:$E$345,3,FALSE),"") | E21: =IF(B21<>"",VLOOKUP(B21,Deelnemers2026!$B$2:$F$345,4,FALSE),"") | F21: =IF(B21<>"",VLOOKUP(B21,Deelnemers2026!$B$2:$F$345,5,FALSE),"")
D22: =IF(B22<>"",VLOOKUP(B22,Deelnemers2026!$B$2:$E$345,3,FALSE),"") | E22: =IF(B22<>"",VLOOKUP(B22,Deelnemers2026!$B$2:$F$345,4,FALSE),"") | F22: =IF(B22<>"",VLOOKUP(B22,Deelnemers2026!$B$2:$F$345,5,FALSE),"")
A23: R3 | B23: pink oud | C23: Pinken exterieur
B24: cat nr. | C24: Naam | D24: Vader | E24: eigenaar | F24: plaats
A25: 1A | B25: 281 | C25: =IF(B25<>"",VLOOKUP(B25,Deelnemers2026!$B$2:$E$345,2,FALSE),"") -> Does 63 | D25: =IF(B25<>"",VLOOKUP(B25,Deelnemers2026!$B$2:$E$345,3,FALSE),"") -> Crater Camden | E25: =IF(B25<>"",VLOOKUP(B25,Deelnemers2026!$B$2:$F$345,4,FALSE),"") -> Vof Harteveld | F25: =IF(B25<>"",VLOOKUP(B25,Deelnemers2026!$B$2:$F$345,5,FALSE),"") -> Ameide
A27: 1B | B27: 268 | C27: =IF(B27<>"",VLOOKUP(B27,Deelnemers2026!$B$2:$E$345,2,FALSE),"") -> Tatoo Elina | D27: =IF(B27<>"",VLOOKUP(B27,Deelnemers2026!$B$2:$E$345,3,FALSE),"") -> Tattoo vd Sijsloberg | E27: =IF(B27<>"",VLOOKUP(B27,Deelnemers2026!$B$2:$F$345,4,FALSE),"") -> Schouten Holsteins en Koen van Zwienen | F27: =IF(B27<>"",VLOOKUP(B27,Deelnemers2026!$B$2:$F$345,5,FALSE),"") -> Bergambacht
A29: 1C | B29: 269 | C29: =IF(B29<>"",VLOOKUP(B29,Deelnemers2026!$B$2:$E$345,2,FALSE),"") -> Hbc Major Andrea | D29: =IF(B29<>"",VLOOKUP(B29,Deelnemers2026!$B$2:$E$345,3,FALSE),"") -> Robella Major | E29: =IF(B29<>"",VLOOKUP(B29,Deelnemers2026!$B$2:$F$345,4,FALSE),"") -> Schep Holsteins Holland BV | F29: =IF(B29<>"",VLOOKUP(B29,Deelnemers2026!$B$2:$F$345,5,FALSE),"") -> Bergambacht
A31: Resterende uitslag: | C31: niet gehoord', 270, 271 | D31: =IF(B31<>"",VLOOKUP(B31,Deelnemers2026!$B$2:$E$345,3,FALSE),"") | E31: =IF(B31<>"",VLOOKUP(B31,Deelnemers2026!$B$2:$F$345,4,FALSE),"") | F31: =IF(B31<>"",VLOOKUP(B31,Deelnemers2026!$B$2:$F$345,5,FALSE),"")
C32: =IF(B32<>"",VLOOKUP(B32,Deelnemers2026!$B$2:$E$345,2,FALSE),"") | D32: =IF(B32<>"",VLOOKUP(B32,Deelnemers2026!$B$2:$E$345,3,FALSE),"") | E32: =IF(B32<>"",VLOOKUP(B32,Deelnemers2026!$B$2:$F$345,4,FALSE),"") | F32: =IF(B32<>"",VLOOKUP(B32,Deelnemers2026!$B$2:$F$345,5,FALSE),"")
C33: =IF(B33<>"",VLOOKUP(B33,Deelnemers2026!$B$2:$E$345,2,FALSE),"") | D33: =IF(B33<>"",VLOOKUP(B33,Deelnemers2026!$B$2:$E$345,3,FALSE),"") | E33: =IF(B33<>"",VLOOKUP(B33,Deelnemers2026!$B$2:$F$345,4,FALSE),"") | F33: =IF(B33<>"",VLOOKUP(B33,Deelnemers2026!$B$2:$F$345,5,FALSE),"")
C34: =IF(B34<>"",VLOOKUP(B34,Deelnemers2026!$B$2:$E$345,2,FALSE),"") | D34: =IF(B34<>"",VLOOKUP(B34,Deelnemers2026!$B$2:$E$345,3,FALSE),"") | E34: =IF(B34<>"",VLOOKUP(B34,Deelnemers2026!$B$2:$F$345,4,FALSE),"") | F34: =IF(B34<>"",VLOOKUP(B34,Deelnemers2026!$B$2:$F$345,5,FALSE),"")
C35: =IF(B35<>"",VLOOKUP(B35,Deelnemers2026!$B$2:$E$345,2,FALSE),"") | D35: =IF(B35<>"",VLOOKUP(B35,Deelnemers2026!$B$2:$E$345,3,FALSE),"") | E35: =IF(B35<>"",VLOOKUP(B35,Deelnemers2026!$B$2:$F$345,4,FALSE),"") | F35: =IF(B35<>"",VLOOKUP(B35,Deelnemers2026!$B$2:$F$345,5,FALSE),"")
C36: =IF(B36<>"",VLOOKUP(B36,Deelnemers2026!$B$2:$E$345,2,FALSE),"") | D36: =IF(B36<>"",VLOOKUP(B36,Deelnemers2026!$B$2:$E$345,3,FALSE),"") | E36: =IF(B36<>"",VLOOKUP(B36,Deelnemers2026!$B$2:$F$345,4,FALSE),"") | F36: =IF(B36<>"",VLOOKUP(B36,Deelnemers2026!$B$2:$F$345,5,FALSE),"")
C37: =IF(B37<>"",VLOOKUP(B37,Deelnemers2026!$B$2:$E$345,2,FALSE),"") | D37: =IF(B37<>"",VLOOKUP(B37,Deelnemers2026!$B$2:$E$345,3,FALSE),"") | E37: =IF(B37<>"",VLOOKUP(B37,Deelnemers2026!$B$2:$F$345,4,FALSE),"") | F37: =IF(B37<>"",VLOOKUP(B37,Deelnemers2026!$B$2:$F$345,5,FALSE),"")
C38: =IF(B38<>"",VLOOKUP(B38,Deelnemers2026!$B$2:$E$345,2,FALSE),"") | D38: =IF(B38<>"",VLOOKUP(B38,Deelnemers2026!$B$2:$E$345,3,FALSE),"") | E38: =IF(B38<>"",VLOOKUP(B38,Deelnemers2026!$B$2:$F$345,4,FALSE),"") | F38: =IF(B38<>"",VLOOKUP(B38,Deelnemers2026!$B$2:$F$345,5,FALSE),"")
C39: =IF(B39<>"",VLOOKUP(B39,Deelnemers2026!$B$2:$E$345,2,FALSE),"") | D39: =IF(B39<>"",VLOOKUP(B39,Deelnemers2026!$B$2:$E$345,3,FALSE),"") | E39: =IF(B39<>"",VLOOKUP(B39,Deelnemers2026!$B$2:$F$345,4,FALSE),"") | F39: =IF(B39<>"",VLOOKUP(B39,Deelnemers2026!$B$2:$F$345,5,FALSE),"")
C40: =IF(B40<>"",VLOOKUP(B40,Deelnemers2026!$B$2:$E$345,2,FALSE),"") | D40: =IF(B40<>"",VLOOKUP(B40,Deelnemers2026!$B$2:$E$345,3,FALSE),"") | E40: =IF(B40<>"",VLOOKUP(B40,Deelnemers2026!$B$2:$F$345,4,FALSE),"") | F40: =IF(B40<>"",VLOOKUP(B40,Deelnemers2026!$B$2:$F$345,5,FALSE),"")
C41: =IF(B41<>"",VLOOKUP(B41,Deelnemers2026!$B$2:$E$345,2,FALSE),"") | D41: =IF(B41<>"",VLOOKUP(B41,Deelnemers2026!$B$2:$E$345,3,FALSE),"") | E41: =IF(B41<>"",VLOOKUP(B41,Deelnemers2026!$B$2:$F$345,4,FALSE),"") | F41: =IF(B41<>"",VLOOKUP(B41,Deelnemers2026!$B$2:$F$345,5,FALSE),"")
C42: =IF(B42<>"",VLOOKUP(B42,Deelnemers2026!$B$2:$E$345,2,FALSE),"") | D42: =IF(B42<>"",VLOOKUP(B42,Deelnemers2026!$B$2:$E$345,3,FALSE),"") | E42: =IF(B42<>"",VLOOKUP(B42,Deelnemers2026!$B$2:$F$345,4,FALSE),"") | F42: =IF(B42<>"",VLOOKUP(B42,Deelnemers2026!$B$2:$F$345,5,FALSE),"")
C43: =IF(B43<>"",VLOOKUP(B43,Deelnemers2026!$B$2:$E$345,2,FALSE),"") | D43: =IF(B43<>"",VLOOKUP(B43,Deelnemers2026!$B$2:$E$345,3,FALSE),"") | E43: =IF(B43<>"",VLOOKUP(B43,Deelnemers2026!$B$2:$F$345,4,FALSE),"") | F43: =IF(B43<>"",VLOOKUP(B43,Deelnemers2026!$B$2:$F$345,5,FALSE),"")
... C240: =IF(B240<>"",VLOOKUP(B240,Deelnemers2026!$B$2:$E$345,2,FALSE),"") | D240: =IF(B240<>"",VLOOKUP(B240,Deelnemers2026!$B$2:$E$345,3,FALSE),"") | E240: =IF(B240<>"",VLOOKUP(B240,Deelnemers2026!$B$2:$F$345,4,FALSE),"") | F240: =IF(B240<>"",VLOOKUP(B240,Deelnemers2026!$B$2:$F$345,5,FALSE),"")

Sheet Uitslag RB
A2: R1 | B2: jong r | C2: RB Jong
B3: cat nr. | C3: Naam | D3: Vader | E3: eigenaar | F3: plaats
A4: 1A | B4: 203 | C4: =IF(B4<>"",VLOOKUP(B4,Deelnemers2026!$B$2:$E$345,2,FALSE),"") -> M.H. Alana 110 | D4: =IF(B4<>"",VLOOKUP(B4,Deelnemers2026!$B$2:$E$345,3,FALSE),"") -> Kenmore Triple Crown-Red | E4: =IF(B4<>"",VLOOKUP(B4,Deelnemers2026!$B$2:$F$345,4,FALSE),"") -> Merwehoeve de Groot V.O.F. | F4: =IF(B4<>"",VLOOKUP(B4,Deelnemers2026!$B$2:$F$345,5,FALSE),"") -> Herwijnen
A6: 1B | B6: 206 | C6: =IF(B6<>"",VLOOKUP(B6,Deelnemers2026!$B$2:$E$345,2,FALSE),"") -> Margriet 309 | D6: =IF(B6<>"",VLOOKUP(B6,Deelnemers2026!$B$2:$E$345,3,FALSE),"") -> Trent-Way-Js Ronald | E6: =IF(B6<>"",VLOOKUP(B6,Deelnemers2026!$B$2:$F$345,4,FALSE),"") -> Fa H + D van Eijl | F6: =IF(B6<>"",VLOOKUP(B6,Deelnemers2026!$B$2:$F$345,5,FALSE),"") -> Groot Ammers
A8: 1C | B8: 208 | C8: =IF(B8<>"",VLOOKUP(B8,Deelnemers2026!$B$2:$E$345,2,FALSE),"") -> Jonker Martha 736 | D8: =IF(B8<>"",VLOOKUP(B8,Deelnemers2026!$B$2:$E$345,3,FALSE),"") -> Hoogerhorst Dg Oh Rubels-Red | E8: =IF(B8<>"",VLOOKUP(B8,Deelnemers2026!$B$2:$F$345,4,FALSE),"") -> C G de Jong | F8: =IF(B8<>"",VLOOKUP(B8,Deelnemers2026!$B$2:$F$345,5,FALSE),"") -> Noordeloos
A10: Beste uier: | B10: 203 | C10: =IF(B10<>"",VLOOKUP(B10,Deelnemers2026!$B$2:$E$345,2,FALSE),"") -> M.H. Alana 110 | D10: =IF(B10<>"",VLOOKUP(B10,Deelnemers2026!$B$2:$E$345,3,FALSE),"") -> Kenmore Triple Crown-Red | E10: =IF(B10<>"",VLOOKUP(B10,Deelnemers2026!$B$2:$F$345,4,FALSE),"") -> Merwehoeve de Groot V.O.F. | F10: =IF(B10<>"",VLOOKUP(B10,Deelnemers2026!$B$2:$F$345,5,FALSE),"") -> Herwijnen
A11: resterende uitslag: | B11: 201
C12: =IF(B12<>"",VLOOKUP(B12,Deelnemers2026!$B$2:$E$345,2,FALSE),"") | D12: =IF(B12<>"",VLOOKUP(B12,Deelnemers2026!$B$2:$E$345,3,FALSE),"") | E12: =IF(B12<>"",VLOOKUP(B12,Deelnemers2026!$B$2:$F$345,4,FALSE),"") | F12: =IF(B12<>"",VLOOKUP(B12,Deelnemers2026!$B$2:$F$345,5,FALSE),"")
C13: =IF(B13<>"",VLOOKUP(B13,Deelnemers2026!$B$2:$E$345,2,FALSE),"") | D13: =IF(B13<>"",VLOOKUP(B13,Deelnemers2026!$B$2:$E$345,3,FALSE),"") | E13: =IF(B13<>"",VLOOKUP(B13,Deelnemers2026!$B$2:$F$345,4,FALSE),"") | F13: =IF(B13<>"",VLOOKUP(B13,Deelnemers2026!$B$2:$F$345,5,FALSE),"")
A14: R2 | B14: jong r | C14: RB Jong
B15: cat nr. | C15: Naam | D15: Vader | E15: eigenaar | F15: plaats
A16: 1A | B16: 213 | C16: =IF(B16<>"",VLOOKUP(B16,Deelnemers2026!$B$2:$E$345,2,FALSE),"") -> Welland Dirkje 377 | D16: =IF(B16<>"",VLOOKUP(B16,Deelnemers2026!$B$2:$E$345,3,FALSE),"") -> Drouner Potency Red | E16: =IF(B16<>"",VLOOKUP(B16,Deelnemers2026!$B$2:$F$345,4,FALSE),"") -> A en R van der Wel | F16: =IF(B16<>"",VLOOKUP(B16,Deelnemers2026!$B$2:$F$345,5,FALSE),"") -> Hoogblokland
A18: 1B | B18: 219 | C18: =IF(B18<>"",VLOOKUP(B18,Deelnemers2026!$B$2:$E$345,2,FALSE),"") -> Grashoek Gerie 229 | D18: =IF(B18<>"",VLOOKUP(B18,Deelnemers2026!$B$2:$E$345,3,FALSE),"") -> Blogger | E18: =IF(B18<>"",VLOOKUP(B18,Deelnemers2026!$B$2:$F$345,4,FALSE),"") -> A en R van der Wel | F18: =IF(B18<>"",VLOOKUP(B18,Deelnemers2026!$B$2:$F$345,5,FALSE),"") -> Hoogblokland
A20: 1C | B20: 212 | C20: =IF(B20<>"",VLOOKUP(B20,Deelnemers2026!$B$2:$E$345,2,FALSE),"") -> Hbc Atomic Jolda | D20: =IF(B20<>"",VLOOKUP(B20,Deelnemers2026!$B$2:$E$345,3,FALSE),"") -> Larcrest Atomic-Red | E20: =IF(B20<>"",VLOOKUP(B20,Deelnemers2026!$B$2:$F$345,4,FALSE),"") -> Schep Holsteins Holland BV | F20: =IF(B20<>"",VLOOKUP(B20,Deelnemers2026!$B$2:$F$345,5,FALSE),"") -> Bergambacht
A22: Beste uier: | C22: =IF(B23<>"",VLOOKUP(B23,Deelnemers2026!$B$2:$E$345,2,FALSE),"") | D22: =IF(B23<>"",VLOOKUP(B23,Deelnemers2026!$B$2:$E$345,3,FALSE),"") | E22: =IF(B23<>"",VLOOKUP(B23,Deelnemers2026!$B$2:$F$345,4,FALSE),"") | F22: =IF(B23<>"",VLOOKUP(B23,Deelnemers2026!$B$2:$F$345,5,FALSE),"")
A23: resterende uitslag:
C24: =IF(B24<>"",VLOOKUP(B24,Deelnemers2026!$B$2:$E$345,2,FALSE),"") | D24: =IF(B24<>"",VLOOKUP(B24,Deelnemers2026!$B$2:$E$345,3,FALSE),"") | E24: =IF(B24<>"",VLOOKUP(B24,Deelnemers2026!$B$2:$F$345,4,FALSE),"") | F24: =IF(B24<>"",VLOOKUP(B24,Deelnemers2026!$B$2:$F$345,5,FALSE),"")
A25: R1 | B25: jong r | C25: RB ouderen koeien
B26: cat nr. | C26: Naam | D26: Vader | E26: eigenaar | F26: plaats
A27: 1A | B27: 224 | C27: =IF(B27<>"",VLOOKUP(B27,Deelnemers2026!$B$2:$E$345,2,FALSE),"") -> Hbc Power Buck Rose | D27: =IF(B27<>"",VLOOKUP(B27,Deelnemers2026!$B$2:$E$345,3,FALSE),"") -> Power | E27: =IF(B27<>"",VLOOKUP(B27,Deelnemers2026!$B$2:$F$345,4,FALSE),"") -> Schep Holsteins Holland BV | F27: =IF(B27<>"",VLOOKUP(B27,Deelnemers2026!$B$2:$F$345,5,FALSE),"") -> Bergambacht
A29: 1B | B29: 191 | C29: =IF(B29<>"",VLOOKUP(B29,Deelnemers2026!$B$2:$E$345,2,FALSE),"") -> Dana 4444 | D29: =IF(B29<>"",VLOOKUP(B29,Deelnemers2026!$B$2:$E$345,3,FALSE),"") -> Bruchter Passe | E29: =IF(B29<>"",VLOOKUP(B29,Deelnemers2026!$B$2:$F$345,4,FALSE),"") -> A en R van der Wel/ W den Besten | F29: =IF(B29<>"",VLOOKUP(B29,Deelnemers2026!$B$2:$F$345,5,FALSE),"") -> Hoogblokland
A31: 1C | B31: 229 | C31: =IF(B31<>"",VLOOKUP(B31,Deelnemers2026!$B$2:$E$345,2,FALSE),"") -> Jansje 381 | D31: =IF(B31<>"",VLOOKUP(B31,Deelnemers2026!$B$2:$E$345,3,FALSE),"") -> Delta Fun P | E31: =IF(B31<>"",VLOOKUP(B31,Deelnemers2026!$B$2:$F$345,4,FALSE),"") -> Vof Pellikaan-de Jong | F31: =IF(B31<>"",VLOOKUP(B31,Deelnemers2026!$B$2:$F$345,5,FALSE),"") -> Meerkerk
A33: Beste uier: | B33: 224 | C33: =IF(B33<>"",VLOOKUP(B33,Deelnemers2026!$B$2:$E$345,2,FALSE),"") -> Hbc Power Buck Rose | D33: =IF(B33<>"",VLOOKUP(B33,Deelnemers2026!$B$2:$E$345,3,FALSE),"") -> Power | E33: =IF(B33<>"",VLOOKUP(B33,Deelnemers2026!$B$2:$F$345,4,FALSE),"") -> Schep Holsteins Holland BV | F33: =IF(B33<>"",VLOOKUP(B33,Deelnemers2026!$B$2:$F$345,5,FALSE),"") -> Bergambacht
A34: resterende uitslag: | B34: 226, 227, 230, 231, 225
